BEGIN:VCALENDAR
VERSION:2.0
PRODID:-//MAX - ECPv6.15.17.1//NONSGML v1.0//EN
CALSCALE:GREGORIAN
METHOD:PUBLISH
X-ORIGINAL-URL:https://metroatlantaexchange.org
X-WR-CALDESC:Events for MAX
REFRESH-INTERVAL;VALUE=DURATION:PT1H
X-Robots-Tag:noindex
X-PUBLISHED-TTL:PT1H
BEGIN:VTIMEZONE
TZID:America/New_York
BEGIN:DAYLIGHT
TZOFFSETFROM:-0500
TZOFFSETTO:-0400
TZNAME:EDT
DTSTART:20240310T070000
END:DAYLIGHT
BEGIN:STANDARD
TZOFFSETFROM:-0400
TZOFFSETTO:-0500
TZNAME:EST
DTSTART:20241103T060000
END:STANDARD
BEGIN:DAYLIGHT
TZOFFSETFROM:-0500
TZOFFSETTO:-0400
TZNAME:EDT
DTSTART:20250309T070000
END:DAYLIGHT
BEGIN:STANDARD
TZOFFSETFROM:-0400
TZOFFSETTO:-0500
TZNAME:EST
DTSTART:20251102T060000
END:STANDARD
BEGIN:DAYLIGHT
TZOFFSETFROM:-0500
TZOFFSETTO:-0400
TZNAME:EDT
DTSTART:20260308T070000
END:DAYLIGHT
BEGIN:STANDARD
TZOFFSETFROM:-0400
TZOFFSETTO:-0500
TZNAME:EST
DTSTART:20261101T060000
END:STANDARD
END:VTIMEZONE
BEGIN:VEVENT
DTSTART;TZID=America/New_York:20250909T090000
DTEND;TZID=America/New_York:20250909T160000
DTSTAMP:20260422T191930
CREATED:20250802T173830Z
LAST-MODIFIED:20250802T173830Z
UID:10034878-1757408400-1757433600@metroatlantaexchange.org
SUMMARY:Goodwill of North Georgia: GED Class
DESCRIPTION: Goodwill of North Georgia is hosting a GED Class every Tuesday\, from 9:00 AM to 4:00 PM\, at the Cornelia Career Center. \nFor more information\, call 706-894-4905. \nClick here to learn more and register.
URL:https://metroatlantaexchange.org/event/goodwill-of-north-georgia-ged-class-3/2025-09-09/
LOCATION:Goodwill of North Georgia – Cornelia Career Center\, 308 Habersham Hills Circle\, Cornelia\, GA\, 30531\, United States
CATEGORIES:Career Development,In-Person Event,Job Seeker
END:VEVENT
BEGIN:VEVENT
DTSTART;TZID=America/New_York:20250909T090000
DTEND;TZID=America/New_York:20250909T180000
DTSTAMP:20260422T191930
CREATED:20250901T235751Z
LAST-MODIFIED:20250901T235751Z
UID:10035207-1757408400-1757440800@metroatlantaexchange.org
SUMMARY:Wellstar: RN and RRT Cobb Virtual Hiring Event
DESCRIPTION:Wellstar is hosting an RN and RRT Cobb Virtual Hiring Event on Tuesday\, September 9th\, from 9:00 AM to 6:00 PM. \nWellstar is seeking Registered Nurses and Registered Respiratory Therapists. Same-day offers will be made to qualified candidates. Bonuses of up to $20\,000 will be available as well as a $7\,500 relocation assistance bonus. Other benefits include tuition reimbursement\, career advancement programs\, employee concierge services and more. Don’t miss the chance to speak with hiring leaders about discovering the difference you can make at Wellstar Cobb Medical Center. \nClick here to learn more and register.
URL:https://metroatlantaexchange.org/event/wellstar-rn-and-rrt-cobb-virtual-hiring-event/
LOCATION:GA
CATEGORIES:Job Seeker,Virtual Event
END:VEVENT
BEGIN:VEVENT
DTSTART;TZID=America/New_York:20250909T100000
DTEND;TZID=America/New_York:20250909T110000
DTSTAMP:20260422T191930
CREATED:20250824T175003Z
LAST-MODIFIED:20250824T175003Z
UID:10035071-1757412000-1757415600@metroatlantaexchange.org
SUMMARY:Transitions Careers: Career Conversations - Rethinking Work in a Changing World
DESCRIPTION:Transitions Careers is hosting a webinar on Career Conversations: Rethinking Work in a Changing World on Tuesday\, September 9th\, from 10:00 AM to 11:00 AM. \nThis session is part of a series of Career Conversations – free\, small-group sessions designed to help you navigate the twists and turns of your midlife career journey; not alone\, but with others who get it. Whether you’re questioning what’s next\, quietly dreaming about a change\, or just feeling a little stuck – this is a place to connect\, share\, and hear from others walking a similar path. These sessions are guided\, but informal opportunities to reflect\, connect\, and know you’re not alone in whatever career transition you’re facing or considering. \nClick here to learn more and register.
URL:https://metroatlantaexchange.org/event/transitions-careers-career-conversations-rethinking-work-in-a-changing-world/
LOCATION:GA
CATEGORIES:Career Development,Job Seeker,Virtual Event
END:VEVENT
BEGIN:VEVENT
DTSTART;TZID=America/New_York:20250909T100000
DTEND;TZID=America/New_York:20250909T120000
DTSTAMP:20260422T191930
CREATED:20250902T000005Z
LAST-MODIFIED:20250902T000005Z
UID:10035209-1757412000-1757419200@metroatlantaexchange.org
SUMMARY:Goodwill of North Georgia: Openwork Hiring Event
DESCRIPTION:Goodwill of North Georgia is hosting an Openwork Hiring Event every Tuesday\, starting September 9th\, from 10:00 AM to 12:00 PM\, at the Oakwood Career Center. \nFor more information\, call 770-538-4209. \nClick here to learn more and register.
URL:https://metroatlantaexchange.org/event/goodwill-of-north-georgia-openwork-hiring-event/2025-09-09/
LOCATION:Goodwill of North Georgia – Oakwood Career Center\, 3715 Mundy Mill Road\, Oakwood\, GA\, 30566\, United States
CATEGORIES:In-Person Event,Job Seeker
GEO:34.2290795;-83.8701636
X-APPLE-STRUCTURED-LOCATION;VALUE=URI;X-ADDRESS=Goodwill of North Georgia – Oakwood Career Center 3715 Mundy Mill Road Oakwood GA 30566 United States;X-APPLE-RADIUS=500;X-TITLE=3715 Mundy Mill Road:geo:-83.8701636,34.2290795
END:VEVENT
BEGIN:VEVENT
DTSTART;TZID=America/New_York:20250909T100000
DTEND;TZID=America/New_York:20250909T130000
DTSTAMP:20260422T191930
CREATED:20250901T235848Z
LAST-MODIFIED:20250901T235848Z
UID:10035208-1757412000-1757422800@metroatlantaexchange.org
SUMMARY:Goodwill of North Georgia: Job Fair
DESCRIPTION:Goodwill of North Georgia is hosting a Job Fair on Tuesday\, September 9th\, from 10:00 AM to 1:00 PM\, at the Old National Career Center. \nFor more information\, call 678-554-0412. \nClick here to learn more and register.
URL:https://metroatlantaexchange.org/event/goodwill-of-north-georgia-job-fair-3/
LOCATION:Goodwill of North Georgia – Old National Career Center\, 6175 Old National Highway\, Suite 120\, Atlanta\, GA\, 30349\, United States
CATEGORIES:In-Person Event,Job Seeker
END:VEVENT
BEGIN:VEVENT
DTSTART;TZID=America/New_York:20250909T103000
DTEND;TZID=America/New_York:20250909T143000
DTSTAMP:20260422T191930
CREATED:20250802T172917Z
LAST-MODIFIED:20250802T173007Z
UID:10034827-1757413800-1757428200@metroatlantaexchange.org
SUMMARY:Goodwill of North Georgia: GED Class
DESCRIPTION:Goodwill of North Georgia is hosting a GED Class\, facilitated by Athens Tech\, every Monday through Thursday\, from 10:30 AM to 2:30 PM\, at the East Athens Career Center. \nFor more information\, call 706-395-1558. \nClick here to learn more and register.
URL:https://metroatlantaexchange.org/event/goodwill-of-north-georgia-ged-class-2/2025-09-09/
LOCATION:Goodwill of North Georgia – East Athens Career Center\, 4070 Lexington Road\, Athens\, GA\, 30605\, United States
CATEGORIES:Career Development,In-Person Event,Job Seeker
END:VEVENT
BEGIN:VEVENT
DTSTART;TZID=America/New_York:20250909T110000
DTEND;TZID=America/New_York:20250909T150000
DTSTAMP:20260422T191930
CREATED:20250802T164803Z
LAST-MODIFIED:20250802T164803Z
UID:10034754-1757415600-1757430000@metroatlantaexchange.org
SUMMARY:CareerEco: Back to Business Fall Hiring Kickoff
DESCRIPTION:CareerEco is hosting a Back to Business Fall Hiring Kickoff on Tuesday\, September 9th\, from 11:00 AM to 3:00 PM. \nThis nationwide online recruiting event will connect business\, accounting\, and finance jobseekers with top employers who value real world skills\, industry credentials\, and fresh talent. \nClick here to register.
URL:https://metroatlantaexchange.org/event/careereco-back-to-business-fall-hiring-kickoff/
LOCATION:GA
CATEGORIES:Job Seeker,Virtual Event
ORGANIZER;CN="CareerEco":MAILTO:Events@CareerEco.com
END:VEVENT
BEGIN:VEVENT
DTSTART;TZID=America/New_York:20250909T110000
DTEND;TZID=America/New_York:20250909T150000
DTSTAMP:20260422T191930
CREATED:20250802T165045Z
LAST-MODIFIED:20250802T165045Z
UID:10034755-1757415600-1757430000@metroatlantaexchange.org
SUMMARY:JobFairX: Atlanta Healthcare Virtual Job Fair
DESCRIPTION:JobFairX is hosting an Atlanta Healthcare Virtual Job Fair on Tuesday\, September 9th\, from 11:00 AM to 3:00 PM. \nAt JobFairX\, we match job seekers like you with employers who have registered for the virtual job fair. When you sign up and create a profile\, we collect information about your qualifications\, skills\, and preferences. Our advanced matching algorithm analyzes this data to identify suitable job opportunities. If your qualifications align with a job\, you’ll receive an email invitation to schedule an interview with the employer during the fair. Our streamlined process saves you time on your job search. \nClick here to register.
URL:https://metroatlantaexchange.org/event/jobfairx-atlanta-healthcare-virtual-job-fair-6/
LOCATION:GA
CATEGORIES:Job Seeker,Virtual Event
END:VEVENT
BEGIN:VEVENT
DTSTART;TZID=America/New_York:20250909T130000
DTEND;TZID=America/New_York:20250909T140000
DTSTAMP:20260422T191930
CREATED:20250824T175152Z
LAST-MODIFIED:20250824T175152Z
UID:10035072-1757422800-1757426400@metroatlantaexchange.org
SUMMARY:U.S. Patent and Trademark Office (USPTO): A Day in the Life of a USPTO Patent Examiner
DESCRIPTION:The U.S. Patent and Trademark Office (USPTO) is hosting A Day in the Life of a USPTO Patent Examiner on Tuesday\, September 9th\, from 1:00 PM to 2:00 PM. \nDo you want a rewarding career? Do you want to use your STEM background to make an impact on the protection of intellectual property and bring ideas to market? Are you interested in public service while shaping the future of patent examination and advancing key processes? If you answered yes to any of these questions\, you may belong at the USPTO as a patent examiner! We recruit the most promising at America’s Innovation Agency\, and we encourage you to take the step forward in your journey today by joining us to learn more about the USPTO\, the patent examiner position\, and meet the team. \nClick here to learn more and register.
URL:https://metroatlantaexchange.org/event/u-s-patent-and-trademark-office-uspto-a-day-in-the-life-of-a-uspto-patent-examiner-2/
LOCATION:GA
CATEGORIES:Career Development,Job Seeker,Virtual Event
END:VEVENT
BEGIN:VEVENT
DTSTART;TZID=America/New_York:20250909T150000
DTEND;TZID=America/New_York:20250909T173000
DTSTAMP:20260422T191930
CREATED:20250802T165224Z
LAST-MODIFIED:20250802T165224Z
UID:10034756-1757430000-1757439000@metroatlantaexchange.org
SUMMARY:Schneider: Truck Driver and Owner-Operator Recruiting Event
DESCRIPTION:Schneider is hosting a Truck Driver and Owner-Operator Recruiting Event on Tuesday\, September 9th\, from 3:00 PM to 5:30 PM\, at the Georgia Driving Academy. \nAre you an experienced truck driver looking for a change? Recent driving school graduate or looking to get your CDL? Whatever your level of truck driving experience\, get a chance to have all your truck driving related questions answered at one of our casual truck driver and owner-operator recruiting events. Speak to one of our knowledgeable and personable recruiters about driving opportunities\, pay and benefits\, military programs\, requirements\, terminology clarification\, CDL questions and any other questions you may have. \nClick here to learn more and register.
URL:https://metroatlantaexchange.org/event/schneider-truck-driver-and-owner-operator-recruiting-event-15/
LOCATION:Georgia Driving Academy\, 1035 Sigman Road\, NE\, Conyers\, GA\, 30012\, United States
CATEGORIES:In-Person Event,Job Seeker
END:VEVENT
BEGIN:VEVENT
DTSTART;TZID=America/New_York:20250909T183000
DTEND;TZID=America/New_York:20250909T210000
DTSTAMP:20260422T191930
CREATED:20250824T175431Z
LAST-MODIFIED:20250824T175431Z
UID:10035073-1757442600-1757451600@metroatlantaexchange.org
SUMMARY:National Association of Black Accountants (NABA): Beyond the Firm - Reimagining Your Accounting Career Path
DESCRIPTION:The National Association of Black Accountants (NABA) is hosting Beyond the Firm: Reimagining Your Accounting Career Path on Tuesday\, September 9th\, from 6:30 PM to 9:00 PM\, at the Three Alliance Center. \nJoin us for an evening of inspiration and career insights. If you’re a young professional thinking of next steps\, this event is for you! Discover new opportunities\, network with experienced professionals\, and gain valuable tips to take your accounting career to the next level. Don’t miss out on this chance to explore the possibilities beyond the traditional firm setting. \nClick here to learn more and register.
URL:https://metroatlantaexchange.org/event/national-association-of-black-accountants-naba-beyond-the-firm-reimagining-your-accounting-career-path/
LOCATION:Three Alliance Center\, 3550 Lenox Road\, NE\, Atlanta\, GA\, 30326\, United States
CATEGORIES:Career Development,In-Person Event,Job Seeker
END:VEVENT
BEGIN:VEVENT
DTSTART;TZID=America/New_York:20250909T190000
DTEND;TZID=America/New_York:20250909T200000
DTSTAMP:20260422T191930
CREATED:20250902T223830Z
LAST-MODIFIED:20250902T223830Z
UID:10035315-1757444400-1757448000@metroatlantaexchange.org
SUMMARY:Hiring Our Heroes: SkillBridge Fellowships Information Session
DESCRIPTION:Hiring Our Heroes is hosting a SkillBridge Fellowships Information Session on Tuesday\, September 9th\, starting at 7:00 PM. \nHiring Our Heroes invites transitioning service members to learn more about SkillBridge fellowships\, which provide professional training and hands-on experience in the civilian workforce. These fellowships are designed to prepare you for a smooth transition into meaningful civilian careers. \nClick here to register via Zoom.
URL:https://metroatlantaexchange.org/event/hiring-our-heroes-skillbridge-fellowships-information-session/
LOCATION:GA
CATEGORIES:Career Development,Job Seeker,Veterans/Military,Virtual Event
END:VEVENT
END:VCALENDAR