BEGIN:VCALENDAR
VERSION:2.0
PRODID:-//MAX - ECPv6.15.17.1//NONSGML v1.0//EN
CALSCALE:GREGORIAN
METHOD:PUBLISH
X-WR-CALNAME:MAX
X-ORIGINAL-URL:https://metroatlantaexchange.org
X-WR-CALDESC:Events for MAX
REFRESH-INTERVAL;VALUE=DURATION:PT1H
X-Robots-Tag:noindex
X-PUBLISHED-TTL:PT1H
BEGIN:VTIMEZONE
TZID:America/New_York
BEGIN:DAYLIGHT
TZOFFSETFROM:-0500
TZOFFSETTO:-0400
TZNAME:EDT
DTSTART:20240310T070000
END:DAYLIGHT
BEGIN:STANDARD
TZOFFSETFROM:-0400
TZOFFSETTO:-0500
TZNAME:EST
DTSTART:20241103T060000
END:STANDARD
BEGIN:DAYLIGHT
TZOFFSETFROM:-0500
TZOFFSETTO:-0400
TZNAME:EDT
DTSTART:20250309T070000
END:DAYLIGHT
BEGIN:STANDARD
TZOFFSETFROM:-0400
TZOFFSETTO:-0500
TZNAME:EST
DTSTART:20251102T060000
END:STANDARD
BEGIN:DAYLIGHT
TZOFFSETFROM:-0500
TZOFFSETTO:-0400
TZNAME:EDT
DTSTART:20260308T070000
END:DAYLIGHT
BEGIN:STANDARD
TZOFFSETFROM:-0400
TZOFFSETTO:-0500
TZNAME:EST
DTSTART:20261101T060000
END:STANDARD
END:VTIMEZONE
BEGIN:VEVENT
DTSTART;TZID=America/New_York:20250918T100000
DTEND;TZID=America/New_York:20250918T140000
DTSTAMP:20260422T211006
CREATED:20250824T001441Z
LAST-MODIFIED:20250824T001441Z
UID:10035048-1758189600-1758204000@metroatlantaexchange.org
SUMMARY:Atlanta Center for Self-Sufficiency: Citywide Career Fair
DESCRIPTION:The Atlanta Center for Self Sufficiency is hosting a Citywide Career Fair on Thursday\, September 18th\, from 10:00 AM to 2:00 PM\, at the West Hunter Street Baptist Church. \nDon’t miss this in-person opportunity to connect with top employers who are looking to hire you. \nClick here to learn more and register.
URL:https://metroatlantaexchange.org/event/atlanta-center-for-self-sufficiency-citywide-career-fair/
LOCATION:West Hunter Street Baptist Church\, 1040 Ralph David Abernathy Boulevard\, Atlanta\, GA\, 30310\, United States
CATEGORIES:In-Person Event,Job Seeker
END:VEVENT
BEGIN:VEVENT
DTSTART;TZID=America/New_York:20250918T100000
DTEND;TZID=America/New_York:20250918T140000
DTSTAMP:20260422T211006
CREATED:20250824T001644Z
LAST-MODIFIED:20250824T001644Z
UID:10035049-1758189600-1758204000@metroatlantaexchange.org
SUMMARY:Martin Luther King\, Sr. Collaborative: Community Job Fair
DESCRIPTION:The Martin Luther King\, Sr. Collaborative is hosting a Community Job Fair on Thursday\, September 18th\, from 10:00 AM to 2:00 PM\, at the Martin Luther King Sr. Community Resources Complex. \nCome join us for our annual job fair! Whether you’re looking for your first job\, a career change\, or just exploring options\, this event is perfect for you. Meet with local employers\, submit your resume\, and network with professionals in various industries. Don’t miss this opportunity to take the next step in your career. \nClick here to learn more and register.
URL:https://metroatlantaexchange.org/event/martin-luther-king-sr-collaborative-community-job-fair/
LOCATION:Martin Luther King Sr. Community Resources Complex\, 101 Jackson Street\, NE\, Atlanta\, GA\, 30312\, United States
CATEGORIES:In-Person Event,Job Seeker
GEO:33.7567529;-84.37396
X-APPLE-STRUCTURED-LOCATION;VALUE=URI;X-ADDRESS=Martin Luther King Sr. Community Resources Complex 101 Jackson Street NE Atlanta GA 30312 United States;X-APPLE-RADIUS=500;X-TITLE=101 Jackson Street\, NE:geo:-84.37396,33.7567529
END:VEVENT
BEGIN:VEVENT
DTSTART;TZID=America/New_York:20250918T100000
DTEND;TZID=America/New_York:20250919T190000
DTSTAMP:20260422T211006
CREATED:20250824T180345Z
LAST-MODIFIED:20250824T180345Z
UID:10035079-1758189600-1758308400@metroatlantaexchange.org
SUMMARY:Association of Independent Music Publishers (AIMP) Atlanta: AIMP xMMF Atlanta Summit
DESCRIPTION:The Association of Independent Music Publishers (AIMP) Atlanta is hosting an AIMP x MMF Atlanta Summit on Thursday\, September 18th through Friday\, September 19th\, from 10:00 AM to 7:00 PM\, at 4U Recording Atlanta. \nThis year’s program dives into today’s most pressing and exciting topics\, including the intersection of music and social impact\, strategies for building long-term career legacies\, the role of emerging technologies in creativity and career growth\, and more. More speakers\, industry partners\, and programming highlights will be revealed as the event approaches. \nClick here to learn more and register.
URL:https://metroatlantaexchange.org/event/association-of-independent-music-publishers-aimp-atlanta-aimp-xmmf-atlanta-summit/
LOCATION:4U Recording Atlanta\, 1376 Chattahoochee Avenue\, NW\, Atlanta\, GA\, 30318\, United States
CATEGORIES:Career Development,In-Person Event,Job Seeker
END:VEVENT
BEGIN:VEVENT
DTSTART;TZID=America/New_York:20250918T103000
DTEND;TZID=America/New_York:20250918T143000
DTSTAMP:20260422T211006
CREATED:20250802T172917Z
LAST-MODIFIED:20250802T173007Z
UID:10034833-1758191400-1758205800@metroatlantaexchange.org
SUMMARY:Goodwill of North Georgia: GED Class
DESCRIPTION:Goodwill of North Georgia is hosting a GED Class\, facilitated by Athens Tech\, every Monday through Thursday\, from 10:30 AM to 2:30 PM\, at the East Athens Career Center. \nFor more information\, call 706-395-1558. \nClick here to learn more and register.
URL:https://metroatlantaexchange.org/event/goodwill-of-north-georgia-ged-class-2/2025-09-18/
LOCATION:Goodwill of North Georgia – East Athens Career Center\, 4070 Lexington Road\, Athens\, GA\, 30605\, United States
CATEGORIES:Career Development,In-Person Event,Job Seeker
END:VEVENT
BEGIN:VEVENT
DTSTART;TZID=America/New_York:20250918T110000
DTEND;TZID=America/New_York:20250918T130000
DTSTAMP:20260422T211006
CREATED:20250902T221629Z
LAST-MODIFIED:20250902T221629Z
UID:10035310-1758193200-1758200400@metroatlantaexchange.org
SUMMARY:Emory Healthcare: Registered Nurse Live Chat
DESCRIPTION:Emory Healthcare hosts a Registered Nurse Live Chat every Thursday\, from 11:00 AM to 1:00 PM. \nEmory Healthcare invites you to an exclusive opportunity to live chat with the nurse recruitment team. Whether you’re actively job hunting or just exploring\, this is your moment to ask questions\, get real answers and explore why Emory is a top destination for nursing careers in Georgia. \nClick here to learn more and register.
URL:https://metroatlantaexchange.org/event/emory-healthcare-registered-nurse-live-chat/2025-09-18/
LOCATION:GA
CATEGORIES:Career Development,Job Seeker,Virtual Event
END:VEVENT
BEGIN:VEVENT
DTSTART;TZID=America/New_York:20250918T110000
DTEND;TZID=America/New_York:20250918T150000
DTSTAMP:20260422T211006
CREATED:20250824T002034Z
LAST-MODIFIED:20250824T002034Z
UID:10035051-1758193200-1758207600@metroatlantaexchange.org
SUMMARY:Emory University: Fall 2025 Career and Internship Expo
DESCRIPTION:Emory University is hosting its Fall 2025 Career and Internship Expo on Thursday\, September 18th\, from 11:00 AM to 3:00 PM\, at the Emory Student Center. \nThe Career and Internship Expo invites students and future professionals to discover exciting internship and full-time job opportunities. Meet with Atlanta-based and nationwide employers eager to connect with Emory students. \nClick here to learn more.
URL:https://metroatlantaexchange.org/event/emory-university-fall-2025-career-and-internship-expo/
LOCATION:Emory University – Student Center\, 605 Asbury Circle\, Atlanta\, GA\, 30322\, United States
CATEGORIES:In-Person Event,Job Seeker,Student
END:VEVENT
BEGIN:VEVENT
DTSTART;TZID=America/New_York:20250918T130000
DTEND;TZID=America/New_York:20250918T140000
DTSTAMP:20260422T211006
CREATED:20250902T225819Z
LAST-MODIFIED:20250902T225819Z
UID:10035321-1758200400-1758204000@metroatlantaexchange.org
SUMMARY:Goodwill of North Georgia: Interview Confidence Training
DESCRIPTION:Goodwill of North Georgia is hosting in-person Interview Confidence Training on Thursday\, September 18th\, from 1:00 PM to 2:00 PM\, at the Stockbridge Career Center. \nFor more information\, call 678-514-0670. \nClick here to learn more and register.
URL:https://metroatlantaexchange.org/event/goodwill-of-north-georgia-interview-confidence-training/
LOCATION:GA
CATEGORIES:Career Development,In-Person Event,Job Seeker
END:VEVENT
BEGIN:VEVENT
DTSTART;TZID=America/New_York:20250918T130000
DTEND;TZID=America/New_York:20250918T150000
DTSTAMP:20260422T211006
CREATED:20250901T235047Z
LAST-MODIFIED:20250901T235128Z
UID:10035198-1758200400-1758207600@metroatlantaexchange.org
SUMMARY:Goodwill of North Georgia: Q-Cells Open Interviews
DESCRIPTION:Goodwill of North Georgia is hosting Q-Cells Open Interviews every Wednesday and Thursday\, from 1:00 PM to 3:00 PM\, at the Cartersville Career Center. \nFor more information\, call 770-276-7036. \nClick here to learn more and register.
URL:https://metroatlantaexchange.org/event/goodwill-of-north-georgia-q-cells-open-interviews-4/2025-09-18/
LOCATION:Goodwill of North Georgia – Cartersville Career Center\, 929 Joe Frank Harris Parkway\, Cartersville\, GA\, 30120\, United States
CATEGORIES:In-Person Event,Job Seeker
GEO:34.1974793;-84.7941559
X-APPLE-STRUCTURED-LOCATION;VALUE=URI;X-ADDRESS=Goodwill of North Georgia – Cartersville Career Center 929 Joe Frank Harris Parkway Cartersville GA 30120 United States;X-APPLE-RADIUS=500;X-TITLE=929 Joe Frank Harris Parkway:geo:-84.7941559,34.1974793
END:VEVENT
BEGIN:VEVENT
DTSTART;TZID=America/New_York:20250918T160000
DTEND;TZID=America/New_York:20250918T190000
DTSTAMP:20260422T211006
CREATED:20250802T171000Z
LAST-MODIFIED:20250802T171000Z
UID:10034764-1758211200-1758222000@metroatlantaexchange.org
SUMMARY:Northside Hospital: Surgical Services Hiring Event
DESCRIPTION:Northside Hospital is hosting a Surgical Services Hiring Event on Thursday\, September 18th\, from 4:00 PM to 7:00 PM\, at the Gwinnett Resource Center. \nNorthside Hospital is seeking Registered Nurses (RN)\, Surgical Techs\, CVOR RN First Assists\, Instrument Techs\, Anesthesia Techs and more. Interviews will be conducted during the event\, so please come prepared. \nClick here to learn more and register.
URL:https://metroatlantaexchange.org/event/northside-hospital-surgical-services-hiring-event/
LOCATION:Northside Gwinnett Resource Center\, 655 Duluth Highway\, Lawrencedville\, GA\, 30046\, United States
CATEGORIES:In-Person Event,Job Seeker
END:VEVENT
END:VCALENDAR