BEGIN:VCALENDAR
VERSION:2.0
PRODID:-//MAX - ECPv6.15.17.1//NONSGML v1.0//EN
CALSCALE:GREGORIAN
METHOD:PUBLISH
X-WR-CALNAME:MAX
X-ORIGINAL-URL:https://metroatlantaexchange.org
X-WR-CALDESC:Events for MAX
REFRESH-INTERVAL;VALUE=DURATION:PT1H
X-Robots-Tag:noindex
X-PUBLISHED-TTL:PT1H
BEGIN:VTIMEZONE
TZID:America/New_York
BEGIN:DAYLIGHT
TZOFFSETFROM:-0500
TZOFFSETTO:-0400
TZNAME:EDT
DTSTART:20240310T070000
END:DAYLIGHT
BEGIN:STANDARD
TZOFFSETFROM:-0400
TZOFFSETTO:-0500
TZNAME:EST
DTSTART:20241103T060000
END:STANDARD
BEGIN:DAYLIGHT
TZOFFSETFROM:-0500
TZOFFSETTO:-0400
TZNAME:EDT
DTSTART:20250309T070000
END:DAYLIGHT
BEGIN:STANDARD
TZOFFSETFROM:-0400
TZOFFSETTO:-0500
TZNAME:EST
DTSTART:20251102T060000
END:STANDARD
BEGIN:DAYLIGHT
TZOFFSETFROM:-0500
TZOFFSETTO:-0400
TZNAME:EDT
DTSTART:20260308T070000
END:DAYLIGHT
BEGIN:STANDARD
TZOFFSETFROM:-0400
TZOFFSETTO:-0500
TZNAME:EST
DTSTART:20261101T060000
END:STANDARD
END:VTIMEZONE
BEGIN:VEVENT
DTSTART;TZID=America/New_York:20250926T090000
DTEND;TZID=America/New_York:20250926T220000
DTSTAMP:20260422T175415
CREATED:20250824T182419Z
LAST-MODIFIED:20250824T182419Z
UID:10035082-1758877200-1758924000@metroatlantaexchange.org
SUMMARY:HBCU Pre-Law LLC: 12th Annual National HBCU Pre-Law Summit and Law Expo 2025
DESCRIPTION:HBCU Pre-Law LLC is hosting its 12th Annual National HBCU Pre-Law Summit and Law Expo 2025 on Friday\, September 26th and Saturday\, September 27th\, from 9:00 AM to 10:00 PM\, at the Clark Atlanta University. \nJoin us in the exciting city of Atlanta\, Georgia for this amazing in-person event where aspiring lawyers can network\, access needed resources and gain invaluable information and insights about law school admission\, law school\, and the legal profession. Connect with law school representatives\, legal professionals\, and fellow students and alumni from our nation’s Historically Black Colleges and Universities (HBCUs). Participate in a mock law school class\, workshops\, panel discussions\, and keynote sessions to enhance your understanding of law school preparation\, law school admission\, the law school experience\, the bar exam\, and legal career options. This event addresses the unique issues\, concerns\, and challenges that HBCU students face. It also provides students with access to information about our nation’s six (6) HBCU law schools as viable options for legal education. Aspiring lawyers will also have the opportunity to connect with many other law schools from across the country. \nClick here to learn more and register.
URL:https://metroatlantaexchange.org/event/hbcu-pre-law-llc-12th-annual-national-hbcu-pre-law-summit-and-law-expo-2025/
LOCATION:Clark Atlanta University\, 223 James P. Brawley Drive\, SW\, Atlanta\, GA\, 30314\, United States
CATEGORIES:Career Development,Conferences,In-Person Event,Job Seeker,Student
END:VEVENT
END:VCALENDAR