BEGIN:VCALENDAR
VERSION:2.0
PRODID:-//MAX - ECPv6.15.17.1//NONSGML v1.0//EN
CALSCALE:GREGORIAN
METHOD:PUBLISH
X-ORIGINAL-URL:https://metroatlantaexchange.org
X-WR-CALDESC:Events for MAX
REFRESH-INTERVAL;VALUE=DURATION:PT1H
X-Robots-Tag:noindex
X-PUBLISHED-TTL:PT1H
BEGIN:VTIMEZONE
TZID:America/New_York
BEGIN:DAYLIGHT
TZOFFSETFROM:-0500
TZOFFSETTO:-0400
TZNAME:EDT
DTSTART:20240310T070000
END:DAYLIGHT
BEGIN:STANDARD
TZOFFSETFROM:-0400
TZOFFSETTO:-0500
TZNAME:EST
DTSTART:20241103T060000
END:STANDARD
BEGIN:DAYLIGHT
TZOFFSETFROM:-0500
TZOFFSETTO:-0400
TZNAME:EDT
DTSTART:20250309T070000
END:DAYLIGHT
BEGIN:STANDARD
TZOFFSETFROM:-0400
TZOFFSETTO:-0500
TZNAME:EST
DTSTART:20251102T060000
END:STANDARD
BEGIN:DAYLIGHT
TZOFFSETFROM:-0500
TZOFFSETTO:-0400
TZNAME:EDT
DTSTART:20260308T070000
END:DAYLIGHT
BEGIN:STANDARD
TZOFFSETFROM:-0400
TZOFFSETTO:-0500
TZNAME:EST
DTSTART:20261101T060000
END:STANDARD
END:VTIMEZONE
BEGIN:VEVENT
DTSTART;TZID=America/New_York:20250926T080000
DTEND;TZID=America/New_York:20250928T170000
DTSTAMP:20260422T180811
CREATED:20250824T181540Z
LAST-MODIFIED:20250824T181540Z
UID:10035081-1758873600-1759078800@metroatlantaexchange.org
SUMMARY:Gentlemen's Network: TGN Symposium Fest 2025
DESCRIPTION:The Gentlemen’s Network is hosting its TGN Symposium Fest 2025 starting Friday\, September 26th though Sunday\, September 28th\, at the Renaissance Concourse Atlanta Airport Hotel. \nThe Symposium Festival is one of the LGBTQ+ community’s best kept secrets. It is an exciting and celebrated event that has something to offer every attendee. SGL men of color from across the country come together for four days of empowerment\, networking\, inspiration\, and entertainment. The Symposium Festival is not just another pride party\, but a time of education and impartation. What makes this event unique is that the event has the perfect balance of learning and fun. Attendees take part in various social events centered around empowerment throughout the weekend\, and on Saturday experience a day-long conference packed with workshops and speakers on business\, career\, finance\, health and wellness\, and sexual identity. \nClick here to learn more and register.
URL:https://metroatlantaexchange.org/event/gentlemens-network-tgn-symposium-fest-2025/
LOCATION:Renaissance Concourse Atlanta Airport Hotel\, 1 Hartsfield Center Parkway\, Atlanta\, GA\, 30354\, United States
CATEGORIES:Career Development,In-Person Event,Job Seeker
END:VEVENT
BEGIN:VEVENT
DTSTART;TZID=America/New_York:20250927T090000
DTEND;TZID=America/New_York:20250927T130000
DTSTAMP:20260422T180811
CREATED:20250802T191004Z
LAST-MODIFIED:20250802T191004Z
UID:10034922-1758963600-1758978000@metroatlantaexchange.org
SUMMARY:Klimb Jobs: Small Business Expo and Networking Event - Women in Business
DESCRIPTION:Klimb Jobs is hosting a Small Business Expo and Networking Event – Women in Business on Saturday\, September 27th\, from 9:00 AM to 1:00 PM.The location of the event is still to be determined. \nJoin us for an inspiring and action-packed day dedicated to celebrating entrepreneurship\, innovation\, and community. Whether you’re a business owner\, exhibitor\, or professional looking to grow your network — this event is for YOU. Engage in meaningful networking with fellow professionals while you learn from industry experts and enjoy exclusive deals\, giveaways and complimentary samples. \nClick here to learn more and register.
URL:https://metroatlantaexchange.org/event/klimb-jobs-small-business-expo-and-networking-event-women-in-business/
LOCATION:GA
CATEGORIES:Career Development,In-Person Event,Job Seeker
END:VEVENT
BEGIN:VEVENT
DTSTART;TZID=America/New_York:20250927T100000
DTEND;TZID=America/New_York:20250927T160000
DTSTAMP:20260422T180811
CREATED:20250824T182643Z
LAST-MODIFIED:20250824T182643Z
UID:10035083-1758967200-1758988800@metroatlantaexchange.org
SUMMARY:Girls Inc. of Greater Atlanta: Strong\, Smart and Bold College and Career Fair
DESCRIPTION:Girls Inc. of Greater Atlanta is hosting a Strong\, Smart and Bold College and Career Fair on Saturday\, September 27th\, from 10:00 AM to 4:00 PM\, at Girls Inc. of Greater Atlanta. \nThis engaging fair will feature college readiness workshops\, career pathways exploration\, workforce development and skills training\, interactive panels and breakout sessions. This free event is aimed at high school students and their families who want to explore opportunities\, gain valuable tools for success\, and leave inspired\, informed\, and prepared to step boldly into the future. \nClick here to learn more and register.
URL:https://metroatlantaexchange.org/event/girls-inc-of-greater-atlanta-strong-smart-and-bold-college-and-career-fair/
LOCATION:Girls Inc. of Greater Atlanta\, 461 Manget Street\, SE\, Marietta\, GA\, 30060\, United States
CATEGORIES:Career Development,In-Person Event,Job Seeker,Student
END:VEVENT
END:VCALENDAR