BEGIN:VCALENDAR
VERSION:2.0
PRODID:-//MAX - ECPv6.15.17.1//NONSGML v1.0//EN
CALSCALE:GREGORIAN
METHOD:PUBLISH
X-ORIGINAL-URL:https://metroatlantaexchange.org
X-WR-CALDESC:Events for MAX
REFRESH-INTERVAL;VALUE=DURATION:PT1H
X-Robots-Tag:noindex
X-PUBLISHED-TTL:PT1H
BEGIN:VTIMEZONE
TZID:America/New_York
BEGIN:DAYLIGHT
TZOFFSETFROM:-0500
TZOFFSETTO:-0400
TZNAME:EDT
DTSTART:20240310T070000
END:DAYLIGHT
BEGIN:STANDARD
TZOFFSETFROM:-0400
TZOFFSETTO:-0500
TZNAME:EST
DTSTART:20241103T060000
END:STANDARD
BEGIN:DAYLIGHT
TZOFFSETFROM:-0500
TZOFFSETTO:-0400
TZNAME:EDT
DTSTART:20250309T070000
END:DAYLIGHT
BEGIN:STANDARD
TZOFFSETFROM:-0400
TZOFFSETTO:-0500
TZNAME:EST
DTSTART:20251102T060000
END:STANDARD
BEGIN:DAYLIGHT
TZOFFSETFROM:-0500
TZOFFSETTO:-0400
TZNAME:EDT
DTSTART:20260308T070000
END:DAYLIGHT
BEGIN:STANDARD
TZOFFSETFROM:-0400
TZOFFSETTO:-0500
TZNAME:EST
DTSTART:20261101T060000
END:STANDARD
END:VTIMEZONE
BEGIN:VEVENT
DTSTART;TZID=America/New_York:20250930T090000
DTEND;TZID=America/New_York:20250930T160000
DTSTAMP:20260422T155711
CREATED:20250802T173830Z
LAST-MODIFIED:20250802T173830Z
UID:10034881-1759222800-1759248000@metroatlantaexchange.org
SUMMARY:Goodwill of North Georgia: GED Class
DESCRIPTION: Goodwill of North Georgia is hosting a GED Class every Tuesday\, from 9:00 AM to 4:00 PM\, at the Cornelia Career Center. \nFor more information\, call 706-894-4905. \nClick here to learn more and register.
URL:https://metroatlantaexchange.org/event/goodwill-of-north-georgia-ged-class-3/2025-09-30/
LOCATION:Goodwill of North Georgia – Cornelia Career Center\, 308 Habersham Hills Circle\, Cornelia\, GA\, 30531\, United States
CATEGORIES:Career Development,In-Person Event,Job Seeker
END:VEVENT
BEGIN:VEVENT
DTSTART;TZID=America/New_York:20250930T100000
DTEND;TZID=America/New_York:20250930T120000
DTSTAMP:20260422T155711
CREATED:20250902T000005Z
LAST-MODIFIED:20250902T000005Z
UID:10035212-1759226400-1759233600@metroatlantaexchange.org
SUMMARY:Goodwill of North Georgia: Openwork Hiring Event
DESCRIPTION:Goodwill of North Georgia is hosting an Openwork Hiring Event every Tuesday\, starting September 9th\, from 10:00 AM to 12:00 PM\, at the Oakwood Career Center. \nFor more information\, call 770-538-4209. \nClick here to learn more and register.
URL:https://metroatlantaexchange.org/event/goodwill-of-north-georgia-openwork-hiring-event/2025-09-30/
LOCATION:Goodwill of North Georgia – Oakwood Career Center\, 3715 Mundy Mill Road\, Oakwood\, GA\, 30566\, United States
CATEGORIES:In-Person Event,Job Seeker
GEO:34.2290795;-83.8701636
X-APPLE-STRUCTURED-LOCATION;VALUE=URI;X-ADDRESS=Goodwill of North Georgia – Oakwood Career Center 3715 Mundy Mill Road Oakwood GA 30566 United States;X-APPLE-RADIUS=500;X-TITLE=3715 Mundy Mill Road:geo:-83.8701636,34.2290795
END:VEVENT
BEGIN:VEVENT
DTSTART;TZID=America/New_York:20250930T110000
DTEND;TZID=America/New_York:20250930T130000
DTSTAMP:20260422T155711
CREATED:20250902T212933Z
LAST-MODIFIED:20250902T212933Z
UID:10035233-1759230000-1759237200@metroatlantaexchange.org
SUMMARY:Goodwill of North Georgia: Job and Resource Fair
DESCRIPTION:Goodwill of North Georgia is hosting a Job and Resource Fair on Tuesday\, September 30th\, from 11:00 AM to 1:00 PM\, at the Cartersville Career Center. \nFor more information\, call 770-276-7036. \nClick here to learn more and register.
URL:https://metroatlantaexchange.org/event/goodwill-of-north-georgia-job-and-resource-fair-15/
LOCATION:Goodwill of North Georgia – Cartersville Career Center\, 929 Joe Frank Harris Parkway\, Cartersville\, GA\, 30120\, United States
CATEGORIES:In-Person Event,Job Seeker
GEO:34.1974793;-84.7941559
X-APPLE-STRUCTURED-LOCATION;VALUE=URI;X-ADDRESS=Goodwill of North Georgia – Cartersville Career Center 929 Joe Frank Harris Parkway Cartersville GA 30120 United States;X-APPLE-RADIUS=500;X-TITLE=929 Joe Frank Harris Parkway:geo:-84.7941559,34.1974793
END:VEVENT
BEGIN:VEVENT
DTSTART;TZID=America/New_York:20250930T110000
DTEND;TZID=America/New_York:20251002T150000
DTSTAMP:20260422T155711
CREATED:20250802T171528Z
LAST-MODIFIED:20250802T171528Z
UID:10034767-1759230000-1759417200@metroatlantaexchange.org
SUMMARY:Kennesaw State University: STEM Job\, Co-op and Internship Fair
DESCRIPTION: Kennesaw State University is hosting a STEM Job\, Co-op and Internship Fair on Tuesday\, September 30th through Thursday\, October 2nd\, from 11:00 AM to 3:00 PM\, at the Marietta Gymnasium/Event Center. \nStudents will be presented with opportunities to meet with numerous employers seeking to fill internship\, co-op\, full and part-time positions. This event is open to students from all majors\, but the focus will be on students from STEM and other related disciplines. \nClick here to learn more and register.
URL:https://metroatlantaexchange.org/event/kennesaw-state-university-stem-job-co-op-and-internship-fair/
LOCATION:Marietta Gymnasium/Event Center\, 635 Walter Kelly Road\, Marietta\, 30060
CATEGORIES:In-Person Event,Job Seeker,Student
END:VEVENT
BEGIN:VEVENT
DTSTART;TZID=America/New_York:20250930T140000
DTEND;TZID=America/New_York:20250930T150000
DTSTAMP:20260422T155711
CREATED:20250902T231047Z
LAST-MODIFIED:20250902T231047Z
UID:10035327-1759240800-1759244400@metroatlantaexchange.org
SUMMARY:Job Search Academy: Tips and Strategies for Using Indeed in Your Job Search
DESCRIPTION:Job Search Academy is hosting a webinar on Tips and Strategies for Using Indeed in Your Job Search on Tuesday\, September 30th\, starting at 2:00 PM. \nJoin Indeed Career Strategists Matt Berndt and Senior Product Marketing Manager Ebenezer Addisu as they provide an overview of key features and tips and strategies for using Indeed to pursue better work. Learn about new resources and ask your most pressing questions about how to use Indeed. \nClick here to learn more and register.
URL:https://metroatlantaexchange.org/event/job-search-academy-tips-and-strategies-for-using-indeed-in-your-job-search-2/
LOCATION:GA
CATEGORIES:Career Development,Job Seeker,Virtual Event
END:VEVENT
END:VCALENDAR