BEGIN:VCALENDAR
VERSION:2.0
PRODID:-//MAX - ECPv6.15.17.1//NONSGML v1.0//EN
CALSCALE:GREGORIAN
METHOD:PUBLISH
X-WR-CALNAME:MAX
X-ORIGINAL-URL:https://metroatlantaexchange.org
X-WR-CALDESC:Events for MAX
REFRESH-INTERVAL;VALUE=DURATION:PT1H
X-Robots-Tag:noindex
X-PUBLISHED-TTL:PT1H
BEGIN:VTIMEZONE
TZID:America/New_York
BEGIN:DAYLIGHT
TZOFFSETFROM:-0500
TZOFFSETTO:-0400
TZNAME:EDT
DTSTART:20240310T070000
END:DAYLIGHT
BEGIN:STANDARD
TZOFFSETFROM:-0400
TZOFFSETTO:-0500
TZNAME:EST
DTSTART:20241103T060000
END:STANDARD
BEGIN:DAYLIGHT
TZOFFSETFROM:-0500
TZOFFSETTO:-0400
TZNAME:EDT
DTSTART:20250309T070000
END:DAYLIGHT
BEGIN:STANDARD
TZOFFSETFROM:-0400
TZOFFSETTO:-0500
TZNAME:EST
DTSTART:20251102T060000
END:STANDARD
BEGIN:DAYLIGHT
TZOFFSETFROM:-0500
TZOFFSETTO:-0400
TZNAME:EDT
DTSTART:20260308T070000
END:DAYLIGHT
BEGIN:STANDARD
TZOFFSETFROM:-0400
TZOFFSETTO:-0500
TZNAME:EST
DTSTART:20261101T060000
END:STANDARD
END:VTIMEZONE
BEGIN:VEVENT
DTSTART;TZID=America/New_York:20251007T090000
DTEND;TZID=America/New_York:20251007T160000
DTSTAMP:20260422T211158
CREATED:20250902T232706Z
LAST-MODIFIED:20250902T232706Z
UID:10035329-1759827600-1759852800@metroatlantaexchange.org
SUMMARY:Hiring Our Heroes: Virtual Amplify - Career Preparation and Professional Development
DESCRIPTION:Hiring Our Heroes is hosting a Virtual Amplify – Career Preparation and Professional Development event starting Tuesday\, October 7th\, from 9:00 AM to 4:00 PM. \nThis two-day virtual event for military spouses focuses on career development and professional development topics such as resume building\, interviewing skills\, LinkedIn\, compensation negotiation\, strategic networking\, and more. Participants will have the opportunity to engage with employers and military organizations\, gain access to nationwide resources\, learn about volunteer and employment opportunities\, get information regarding upcoming events\, and network with fellow military spouses. \nClick here to learn more and register.
URL:https://metroatlantaexchange.org/event/hiring-our-heroes-virtual-amplify-career-preparation-and-professional-development/
LOCATION:GA
CATEGORIES:Career Development,Job Seeker,Veterans/Military,Virtual Event
END:VEVENT
BEGIN:VEVENT
DTSTART;TZID=America/New_York:20251007T190000
DTEND;TZID=America/New_York:20251007T200000
DTSTAMP:20260422T211158
CREATED:20250902T232812Z
LAST-MODIFIED:20250902T232812Z
UID:10035330-1759863600-1759867200@metroatlantaexchange.org
SUMMARY:Hiring Our Heroes: SkillBridge Fellowships Information Session
DESCRIPTION:Hiring Our Heroes is hosting a virtual SkillBridge Fellowships Information Session on Tuesday\, October 7th\, starting at 7:00 PM. \nHiring Our Heroes invites transitioning service members to learn more about SkillBridge fellowships\, which provide professional training and hands-on experience in the civilian workforce. These fellowships are designed to prepare you for a smooth transition into meaningful civilian careers. \nClick here to register via Zoom.
URL:https://metroatlantaexchange.org/event/hiring-our-heroes-skillbridge-fellowships-information-session-2/
LOCATION:GA
CATEGORIES:Career Development,Job Seeker,Veterans/Military,Virtual Event
END:VEVENT
END:VCALENDAR