BEGIN:VCALENDAR
VERSION:2.0
PRODID:-//MAX - ECPv6.15.17.1//NONSGML v1.0//EN
CALSCALE:GREGORIAN
METHOD:PUBLISH
X-WR-CALNAME:MAX
X-ORIGINAL-URL:https://metroatlantaexchange.org
X-WR-CALDESC:Events for MAX
REFRESH-INTERVAL;VALUE=DURATION:PT1H
X-Robots-Tag:noindex
X-PUBLISHED-TTL:PT1H
BEGIN:VTIMEZONE
TZID:America/New_York
BEGIN:DAYLIGHT
TZOFFSETFROM:-0500
TZOFFSETTO:-0400
TZNAME:EDT
DTSTART:20240310T070000
END:DAYLIGHT
BEGIN:STANDARD
TZOFFSETFROM:-0400
TZOFFSETTO:-0500
TZNAME:EST
DTSTART:20241103T060000
END:STANDARD
BEGIN:DAYLIGHT
TZOFFSETFROM:-0500
TZOFFSETTO:-0400
TZNAME:EDT
DTSTART:20250309T070000
END:DAYLIGHT
BEGIN:STANDARD
TZOFFSETFROM:-0400
TZOFFSETTO:-0500
TZNAME:EST
DTSTART:20251102T060000
END:STANDARD
BEGIN:DAYLIGHT
TZOFFSETFROM:-0500
TZOFFSETTO:-0400
TZNAME:EDT
DTSTART:20260308T070000
END:DAYLIGHT
BEGIN:STANDARD
TZOFFSETFROM:-0400
TZOFFSETTO:-0500
TZNAME:EST
DTSTART:20261101T060000
END:STANDARD
END:VTIMEZONE
BEGIN:VEVENT
DTSTART;TZID=America/New_York:20251008T080000
DTEND;TZID=America/New_York:20251010T170000
DTSTAMP:20260422T175855
CREATED:20250802T191417Z
LAST-MODIFIED:20250802T191610Z
UID:10034924-1759910400-1760115600@metroatlantaexchange.org
SUMMARY:American Nurses Credentialing Center: Magnet and Pathway 2025 Conference
DESCRIPTION:The American Nurses Credentialing Center is hosting the Magnet and Pathway 2025 Conference starting Wednesday\, October 8th through Friday\, October 10th\, at the Georgia World Congress Center. \nExperience a rich program of keynote speeches\, interactive workshops\, and networking opportunities designed to inspire professional growth\, enhance patient care\, and foster cultures of excellence. Don’t miss this unmatched chance to connect with peers\, learn best practices\, and explore innovative strategies in the nursing profession. You will also be able to meet in-person with employers hiring such as Emory Healthcare and explore different career opportunities. \nClick here to learn more and register.
URL:https://metroatlantaexchange.org/event/american-nurses-credentialing-center-magnet-and-pathway-2025-conference/
LOCATION:Georgia World Congress Center\, 285 Andrew Young International Boulevard\, NW\, Atlanta\, 30313\, United States
CATEGORIES:Career Development,Conferences,In-Person Event,Job Seeker
GEO:33.7492699;-84.4048168
X-APPLE-STRUCTURED-LOCATION;VALUE=URI;X-ADDRESS=Georgia World Congress Center 285 Andrew Young International Boulevard NW Atlanta 30313 United States;X-APPLE-RADIUS=500;X-TITLE=285 Andrew Young International Boulevard\, NW:geo:-84.4048168,33.7492699
END:VEVENT
BEGIN:VEVENT
DTSTART;TZID=America/New_York:20251008T090000
DTEND;TZID=America/New_York:20251008T100000
DTSTAMP:20260422T175855
CREATED:20250902T220734Z
LAST-MODIFIED:20250902T220734Z
UID:10035252-1759914000-1759917600@metroatlantaexchange.org
SUMMARY:Goodwill of North Georgia: NorthStar Testing Session
DESCRIPTION:Goodwill of North Georgia is hosting a NorthStar Testing Session every Wednesday\, from 9:00 AM to 10:00 AM\, at the Woodstock Career Center. \nFor more information\, call 770-874-0901. \nClick here to learn more and register.
URL:https://metroatlantaexchange.org/event/goodwill-of-north-georgia-northstar-testing-session/2025-10-08/
LOCATION:Goodwill of North Georgia – Woodstock Career Center\, 9425 Highway 92\, Woodstock\, GA\, 30188\, United States
CATEGORIES:Career Development,In-Person Event,Job Seeker
GEO:34.0872637;-84.5325399
X-APPLE-STRUCTURED-LOCATION;VALUE=URI;X-ADDRESS=Goodwill of North Georgia – Woodstock Career Center 9425 Highway 92 Woodstock GA 30188 United States;X-APPLE-RADIUS=500;X-TITLE=9425 Highway 92:geo:-84.5325399,34.0872637
END:VEVENT
BEGIN:VEVENT
DTSTART;TZID=America/New_York:20251008T110000
DTEND;TZID=America/New_York:20251008T140000
DTSTAMP:20260422T175855
CREATED:20250710T014530Z
LAST-MODIFIED:20250710T014530Z
UID:10034165-1759921200-1759932000@metroatlantaexchange.org
SUMMARY:BestHire: Atlanta Job Fair
DESCRIPTION:BestHire is hosting an Atlanta Job Fair on Wednesday October 8th\, from 11:00 AM to 2:00 PM\, at the Westin Peachtree Plaza. \nGet ready for an incredible experience at the Atlanta Job Fair! Picture yourself face-to-face with decision-making hiring managers from leading companies in your area – no more wasted hours sending out resumes without any response. It’s time to revamp your resume\, dress professionally\, and bring your absolute best self to stand out amongst the competition. The best part? Attending this extraordinary event as a job seeker comes at absolutely no cost! Don’t miss out on this golden opportunity. \nClick here to learn more and register.
URL:https://metroatlantaexchange.org/event/besthire-atlanta-job-fair-5/
LOCATION:The Westin Peachtree Plaza Atlanta\, 210 Peachtree Street\, NW\, Atlanta\, GA\, 30303\, United States
CATEGORIES:In-Person Event,Job Seeker
GEO:33.7591658;-84.3880638
X-APPLE-STRUCTURED-LOCATION;VALUE=URI;X-ADDRESS=The Westin Peachtree Plaza Atlanta 210 Peachtree Street NW Atlanta GA 30303 United States;X-APPLE-RADIUS=500;X-TITLE=210 Peachtree Street\, NW:geo:-84.3880638,33.7591658
END:VEVENT
BEGIN:VEVENT
DTSTART;TZID=America/New_York:20251008T110000
DTEND;TZID=America/New_York:20251008T150000
DTSTAMP:20260422T175855
CREATED:20250902T214244Z
LAST-MODIFIED:20250902T214244Z
UID:10035236-1759921200-1759935600@metroatlantaexchange.org
SUMMARY:Atlanta Hawks and Georgia Power: Salute to Success Veteran's Career Fair
DESCRIPTION:The Atlanta Hawks\, in partnership with Georgia Power\, is hosting a Salute to Success Veteran’s Career Fair on Wednesday\, October 8th\, from 11:00 AM to 3:00 PM\, at the State Farm Arena. \nThe Atlanta Hawks and Georgia Power are teaming up with the US Department of Veterans Affairs and the local Veteran Readiness and Employment Office here in Georgia to host this exciting event. The goal is to empower veterans in their post-military career journeys by connecting them with organizations eager to embrace their unique skills through recruitment and hiring initiatives. Service men and women from all military branches are invited to attend this free fair. \nClick here to learn more and register.
URL:https://metroatlantaexchange.org/event/atlanta-hawks-and-georgia-power-salute-to-success-veterans-career-fair/
LOCATION:State Farm Arena\, 1st State Farm Drive\, Atlanta\, 30303\, United States
CATEGORIES:In-Person Event,Job Seeker,Veterans/Military
END:VEVENT
END:VCALENDAR