BEGIN:VCALENDAR
VERSION:2.0
PRODID:-//MAX - ECPv6.15.17.1//NONSGML v1.0//EN
CALSCALE:GREGORIAN
METHOD:PUBLISH
X-WR-CALNAME:MAX
X-ORIGINAL-URL:https://metroatlantaexchange.org
X-WR-CALDESC:Events for MAX
REFRESH-INTERVAL;VALUE=DURATION:PT1H
X-Robots-Tag:noindex
X-PUBLISHED-TTL:PT1H
BEGIN:VTIMEZONE
TZID:America/New_York
BEGIN:DAYLIGHT
TZOFFSETFROM:-0500
TZOFFSETTO:-0400
TZNAME:EDT
DTSTART:20240310T070000
END:DAYLIGHT
BEGIN:STANDARD
TZOFFSETFROM:-0400
TZOFFSETTO:-0500
TZNAME:EST
DTSTART:20241103T060000
END:STANDARD
BEGIN:DAYLIGHT
TZOFFSETFROM:-0500
TZOFFSETTO:-0400
TZNAME:EDT
DTSTART:20250309T070000
END:DAYLIGHT
BEGIN:STANDARD
TZOFFSETFROM:-0400
TZOFFSETTO:-0500
TZNAME:EST
DTSTART:20251102T060000
END:STANDARD
BEGIN:DAYLIGHT
TZOFFSETFROM:-0500
TZOFFSETTO:-0400
TZNAME:EDT
DTSTART:20260308T070000
END:DAYLIGHT
BEGIN:STANDARD
TZOFFSETFROM:-0400
TZOFFSETTO:-0500
TZNAME:EST
DTSTART:20261101T060000
END:STANDARD
END:VTIMEZONE
BEGIN:VEVENT
DTSTART;TZID=America/New_York:20251008T130000
DTEND;TZID=America/New_York:20251008T160000
DTSTAMP:20260422T155732
CREATED:20250902T215848Z
LAST-MODIFIED:20250902T215848Z
UID:10035237-1759928400-1759939200@metroatlantaexchange.org
SUMMARY:Hiring Our Heroes: Virtual Military Spouse Hiring Event
DESCRIPTION:Hiring Our Heroes is hosting a Virtual Military Spouse Hiring Event on Wednesday\, October 8th\, from 1:00 PM to 4:00 PM. \nThis virtual hiring event will connect participants directly with organizations using our online\, cloud-based platform. After creating a profile you will be able to explore the available information and opportunities each employer has to offer\, as well as participate in one-on-one text-based chats with talent acquisition specialists. \nClick here to learn more and register.
URL:https://metroatlantaexchange.org/event/hiring-our-heroes-virtual-military-spouse-hiring-event/
LOCATION:GA
CATEGORIES:Job Seeker,Veterans/Military,Virtual Event
END:VEVENT
BEGIN:VEVENT
DTSTART;TZID=America/New_York:20251008T150000
DTEND;TZID=America/New_York:20251008T153000
DTSTAMP:20260422T155732
CREATED:20250902T233013Z
LAST-MODIFIED:20250902T233013Z
UID:10035331-1759935600-1759937400@metroatlantaexchange.org
SUMMARY:Hiring Our Heroes: Career Forward Virtual Information Session
DESCRIPTION:Hiring Our Heroes is hosting a Career Forward Virtual Information Session on Wednesday\, October 8th\, from 3:00 PM to 3:30 PM. \nThis online chat will connect you directly with organizations from the comfort of your home\, office\, smartphone or tablet. Our online\, cloud-based platform makes it easy and fun for you to participate. After signing up\, you’ll be able to explore the available information and opportunities and participate in 1-on-1 text-based chats with representatives from participating organizations. Share your background and experience and get all your questions answered. \nClick here to register via Zoom.
URL:https://metroatlantaexchange.org/event/hiring-our-heroes-career-forward-virtual-information-session-4/
LOCATION:GA
CATEGORIES:Career Development,Job Seeker,Veterans/Military,Virtual Event
END:VEVENT
END:VCALENDAR