BEGIN:VCALENDAR
VERSION:2.0
PRODID:-//MAX - ECPv6.15.17.1//NONSGML v1.0//EN
CALSCALE:GREGORIAN
METHOD:PUBLISH
X-ORIGINAL-URL:https://metroatlantaexchange.org
X-WR-CALDESC:Events for MAX
REFRESH-INTERVAL;VALUE=DURATION:PT1H
X-Robots-Tag:noindex
X-PUBLISHED-TTL:PT1H
BEGIN:VTIMEZONE
TZID:America/New_York
BEGIN:DAYLIGHT
TZOFFSETFROM:-0500
TZOFFSETTO:-0400
TZNAME:EDT
DTSTART:20240310T070000
END:DAYLIGHT
BEGIN:STANDARD
TZOFFSETFROM:-0400
TZOFFSETTO:-0500
TZNAME:EST
DTSTART:20241103T060000
END:STANDARD
BEGIN:DAYLIGHT
TZOFFSETFROM:-0500
TZOFFSETTO:-0400
TZNAME:EDT
DTSTART:20250309T070000
END:DAYLIGHT
BEGIN:STANDARD
TZOFFSETFROM:-0400
TZOFFSETTO:-0500
TZNAME:EST
DTSTART:20251102T060000
END:STANDARD
BEGIN:DAYLIGHT
TZOFFSETFROM:-0500
TZOFFSETTO:-0400
TZNAME:EDT
DTSTART:20260308T070000
END:DAYLIGHT
BEGIN:STANDARD
TZOFFSETFROM:-0400
TZOFFSETTO:-0500
TZNAME:EST
DTSTART:20261101T060000
END:STANDARD
END:VTIMEZONE
BEGIN:VEVENT
DTSTART;TZID=America/New_York:20251013T090000
DTEND;TZID=America/New_York:20251016T120000
DTSTAMP:20260422T160558
CREATED:20250802T191742Z
LAST-MODIFIED:20250824T213954Z
UID:10034925-1760346000-1760616000@metroatlantaexchange.org
SUMMARY:City of Refuge: 4-Day Interactive Program
DESCRIPTION:The City of Refuge\, in partnership with NPursuit Career Partners\, is offering a 4-Day Interactive Program starting Monday\, October 13th\, from 9:00 AM to 12:00 PM. \nThis program allows job seekers to receive hands-on experience with AI-powered tools in order to streamline their job search.  Learn basic digital literacy skills\, professional resume and headshot\, intro to AI and job search tools\, one-on-one career coaching and mock interviewing\, LinkedIn and portfolio development and more! Participants will have the opportunity to earn a complimentary device from InspiredEDU. \nClick here to register. Click here for a flyer.
URL:https://metroatlantaexchange.org/event/city-of-refuge-4-day-interactive-program-4/
LOCATION:GA
CATEGORIES:Career Development,Job Seeker
END:VEVENT
BEGIN:VEVENT
DTSTART;TZID=America/New_York:20251014T090000
DTEND;TZID=America/New_York:20251014T160000
DTSTAMP:20260422T160558
CREATED:20250802T173830Z
LAST-MODIFIED:20250802T173830Z
UID:10034883-1760432400-1760457600@metroatlantaexchange.org
SUMMARY:Goodwill of North Georgia: GED Class
DESCRIPTION: Goodwill of North Georgia is hosting a GED Class every Tuesday\, from 9:00 AM to 4:00 PM\, at the Cornelia Career Center. \nFor more information\, call 706-894-4905. \nClick here to learn more and register.
URL:https://metroatlantaexchange.org/event/goodwill-of-north-georgia-ged-class-3/2025-10-14/
LOCATION:Goodwill of North Georgia – Cornelia Career Center\, 308 Habersham Hills Circle\, Cornelia\, GA\, 30531\, United States
CATEGORIES:Career Development,In-Person Event,Job Seeker
END:VEVENT
END:VCALENDAR