BEGIN:VCALENDAR
VERSION:2.0
PRODID:-//MAX - ECPv6.15.17.1//NONSGML v1.0//EN
CALSCALE:GREGORIAN
METHOD:PUBLISH
X-WR-CALNAME:MAX
X-ORIGINAL-URL:https://metroatlantaexchange.org
X-WR-CALDESC:Events for MAX
REFRESH-INTERVAL;VALUE=DURATION:PT1H
X-Robots-Tag:noindex
X-PUBLISHED-TTL:PT1H
BEGIN:VTIMEZONE
TZID:America/New_York
BEGIN:DAYLIGHT
TZOFFSETFROM:-0500
TZOFFSETTO:-0400
TZNAME:EDT
DTSTART:20240310T070000
END:DAYLIGHT
BEGIN:STANDARD
TZOFFSETFROM:-0400
TZOFFSETTO:-0500
TZNAME:EST
DTSTART:20241103T060000
END:STANDARD
BEGIN:DAYLIGHT
TZOFFSETFROM:-0500
TZOFFSETTO:-0400
TZNAME:EDT
DTSTART:20250309T070000
END:DAYLIGHT
BEGIN:STANDARD
TZOFFSETFROM:-0400
TZOFFSETTO:-0500
TZNAME:EST
DTSTART:20251102T060000
END:STANDARD
BEGIN:DAYLIGHT
TZOFFSETFROM:-0500
TZOFFSETTO:-0400
TZNAME:EDT
DTSTART:20260308T070000
END:DAYLIGHT
BEGIN:STANDARD
TZOFFSETFROM:-0400
TZOFFSETTO:-0500
TZNAME:EST
DTSTART:20261101T060000
END:STANDARD
END:VTIMEZONE
BEGIN:VEVENT
DTSTART;TZID=America/New_York:20251015T140000
DTEND;TZID=America/New_York:20251015T160000
DTSTAMP:20260422T211140
CREATED:20250902T220028Z
LAST-MODIFIED:20250902T220028Z
UID:10035238-1760536800-1760544000@metroatlantaexchange.org
SUMMARY:Hiring Our Heroes: Virtual Career Expo: Entry-Level Technology
DESCRIPTION:Hiring Our Heroes is hosting a Virtual Career Expo: Entry-Level Technology on Wednesday\, October 15th\, from 2:00 PM to 4:00 PM. \nKickstart your tech career with Hiring Our Heroes Virtual Career Expo designed for emerging professionals! This event will explore strategies for building work experience and identifying entry points into the technology sector. Then\, dive into interactive breakout rooms with employers and organizations sharing real-world opportunities\, early career pathways\, and insights into entry-level roles. Whether you’re a recent graduate or exploring a career shift\, this event is your gateway to the tech industry. This event is open to transitioning service members\, veterans\, military spouses\, and military caregivers. \nClick here to learn more and register.
URL:https://metroatlantaexchange.org/event/hiring-our-heroes-virtual-career-expo-entry-level-technology/
LOCATION:GA
CATEGORIES:Career Development,Job Seeker,Veterans/Military,Virtual Event
END:VEVENT
BEGIN:VEVENT
DTSTART;TZID=America/New_York:20251015T190000
DTEND;TZID=America/New_York:20251015T200000
DTSTAMP:20260422T211140
CREATED:20250802T191912Z
LAST-MODIFIED:20250802T191912Z
UID:10034926-1760554800-1760558400@metroatlantaexchange.org
SUMMARY:Hiring Our Heroes: Military Spouse Fellowships Virtual Information Session
DESCRIPTION:Hiring Our Heroes is hosting a Military Spouse Fellowships Virtual Information Session on Wednesday\, October 15th\, starting at 7:00 PM. \nThese fellowships provide military spouses access to professional training\, valuable networking opportunities\, and hands-on experience in the civilian workforce. Participants benefit from direct engagement with local employers\, enabling them to build strong professional networks and gain meaningful\, localized job experience. \nClick here to learn more and register.
URL:https://metroatlantaexchange.org/event/hiring-our-heroes-military-spouse-fellowships-virtual-information-session-6/
LOCATION:GA
CATEGORIES:Career Development,Job Seeker,Veterans/Military,Virtual Event
END:VEVENT
END:VCALENDAR