BEGIN:VCALENDAR
VERSION:2.0
PRODID:-//MAX - ECPv6.15.17.1//NONSGML v1.0//EN
CALSCALE:GREGORIAN
METHOD:PUBLISH
X-WR-CALNAME:MAX
X-ORIGINAL-URL:https://metroatlantaexchange.org
X-WR-CALDESC:Events for MAX
REFRESH-INTERVAL;VALUE=DURATION:PT1H
X-Robots-Tag:noindex
X-PUBLISHED-TTL:PT1H
BEGIN:VTIMEZONE
TZID:America/New_York
BEGIN:DAYLIGHT
TZOFFSETFROM:-0500
TZOFFSETTO:-0400
TZNAME:EDT
DTSTART:20240310T070000
END:DAYLIGHT
BEGIN:STANDARD
TZOFFSETFROM:-0400
TZOFFSETTO:-0500
TZNAME:EST
DTSTART:20241103T060000
END:STANDARD
BEGIN:DAYLIGHT
TZOFFSETFROM:-0500
TZOFFSETTO:-0400
TZNAME:EDT
DTSTART:20250309T070000
END:DAYLIGHT
BEGIN:STANDARD
TZOFFSETFROM:-0400
TZOFFSETTO:-0500
TZNAME:EST
DTSTART:20251102T060000
END:STANDARD
BEGIN:DAYLIGHT
TZOFFSETFROM:-0500
TZOFFSETTO:-0400
TZNAME:EDT
DTSTART:20260308T070000
END:DAYLIGHT
BEGIN:STANDARD
TZOFFSETFROM:-0400
TZOFFSETTO:-0500
TZNAME:EST
DTSTART:20261101T060000
END:STANDARD
END:VTIMEZONE
BEGIN:VEVENT
DTSTART;TZID=America/New_York:20251023T110000
DTEND;TZID=America/New_York:20251023T140000
DTSTAMP:20260422T155834
CREATED:20250802T171853Z
LAST-MODIFIED:20250802T171853Z
UID:10034769-1761217200-1761228000@metroatlantaexchange.org
SUMMARY:Choice Career Fairs: Atlanta Career Fair
DESCRIPTION:Choice Career Fairs is hosting an Atlanta Career Fair on Thursday\, October 23rd\, from 11:00 AM to 2:00 PM\, at the Hilton Garden Inn Atlanta Perimeter Center. \nDon’t miss your chance to meet face-to-face with hiring decision makers from some of the area top employers. Dress professionally and bring plenty of resumes. \nClick here to learn more and register.
URL:https://metroatlantaexchange.org/event/choice-career-fairs-atlanta-career-fair-3/
LOCATION:Hilton Garden Inn Atlanta Perimeter Center\, 1501 Lake Hearn Drive\, Atlanta\, GA\, 30319\, United States
CATEGORIES:In-Person Event,Job Seeker
GEO:33.9161449;-84.3393329
X-APPLE-STRUCTURED-LOCATION;VALUE=URI;X-ADDRESS=Hilton Garden Inn Atlanta Perimeter Center 1501 Lake Hearn Drive Atlanta GA 30319 United States;X-APPLE-RADIUS=500;X-TITLE=1501 Lake Hearn Drive:geo:-84.3393329,33.9161449
END:VEVENT
END:VCALENDAR