BEGIN:VCALENDAR
VERSION:2.0
PRODID:-//MAX - ECPv6.15.17.1//NONSGML v1.0//EN
CALSCALE:GREGORIAN
METHOD:PUBLISH
X-WR-CALNAME:MAX
X-ORIGINAL-URL:https://metroatlantaexchange.org
X-WR-CALDESC:Events for MAX
REFRESH-INTERVAL;VALUE=DURATION:PT1H
X-Robots-Tag:noindex
X-PUBLISHED-TTL:PT1H
BEGIN:VTIMEZONE
TZID:America/New_York
BEGIN:DAYLIGHT
TZOFFSETFROM:-0500
TZOFFSETTO:-0400
TZNAME:EDT
DTSTART:20240310T070000
END:DAYLIGHT
BEGIN:STANDARD
TZOFFSETFROM:-0400
TZOFFSETTO:-0500
TZNAME:EST
DTSTART:20241103T060000
END:STANDARD
BEGIN:DAYLIGHT
TZOFFSETFROM:-0500
TZOFFSETTO:-0400
TZNAME:EDT
DTSTART:20250309T070000
END:DAYLIGHT
BEGIN:STANDARD
TZOFFSETFROM:-0400
TZOFFSETTO:-0500
TZNAME:EST
DTSTART:20251102T060000
END:STANDARD
BEGIN:DAYLIGHT
TZOFFSETFROM:-0500
TZOFFSETTO:-0400
TZNAME:EDT
DTSTART:20260308T070000
END:DAYLIGHT
BEGIN:STANDARD
TZOFFSETFROM:-0400
TZOFFSETTO:-0500
TZNAME:EST
DTSTART:20261101T060000
END:STANDARD
END:VTIMEZONE
BEGIN:VEVENT
DTSTART;TZID=America/New_York:20251104T110000
DTEND;TZID=America/New_York:20251104T150000
DTSTAMP:20260422T175857
CREATED:20250802T172327Z
LAST-MODIFIED:20250802T172327Z
UID:10034771-1762254000-1762268400@metroatlantaexchange.org
SUMMARY:Georgia Association of Colleges and Employers (GACE): 2025 GACE Statewide Career Fair
DESCRIPTION:The Georgia Association of Colleges and Employers (GACE) is hosting the 2025 GACE Statewide Career Fair on Tuesday\, November 4th\, from 11:00 AM to 3:00 PM\, at the Cobb Energy Performing Arts Center. \nStudent and degree holders from Georgia institutions are invited to attend this massive event featuring dozens of employers. Pre-registration is not required but highly encouraged and registered jobseekers will receive pre-event prep details and information. \nClick here to learn more and register.
URL:https://metroatlantaexchange.org/event/georgia-association-of-colleges-and-employers-gace-2025-gace-statewide-career-fair/
LOCATION:Cobb Energy Performing Arts Centre\, 2800 Cobb Galleria Parkway\, Atlanta\, GA\, 30339\, United States
CATEGORIES:In-Person Event,Job Seeker
END:VEVENT
END:VCALENDAR