BEGIN:VCALENDAR
VERSION:2.0
PRODID:-//MAX - ECPv6.15.17.1//NONSGML v1.0//EN
CALSCALE:GREGORIAN
METHOD:PUBLISH
X-WR-CALNAME:MAX
X-ORIGINAL-URL:https://metroatlantaexchange.org
X-WR-CALDESC:Events for MAX
REFRESH-INTERVAL;VALUE=DURATION:PT1H
X-Robots-Tag:noindex
X-PUBLISHED-TTL:PT1H
BEGIN:VTIMEZONE
TZID:America/New_York
BEGIN:DAYLIGHT
TZOFFSETFROM:-0500
TZOFFSETTO:-0400
TZNAME:EDT
DTSTART:20240310T070000
END:DAYLIGHT
BEGIN:STANDARD
TZOFFSETFROM:-0400
TZOFFSETTO:-0500
TZNAME:EST
DTSTART:20241103T060000
END:STANDARD
BEGIN:DAYLIGHT
TZOFFSETFROM:-0500
TZOFFSETTO:-0400
TZNAME:EDT
DTSTART:20250309T070000
END:DAYLIGHT
BEGIN:STANDARD
TZOFFSETFROM:-0400
TZOFFSETTO:-0500
TZNAME:EST
DTSTART:20251102T060000
END:STANDARD
BEGIN:DAYLIGHT
TZOFFSETFROM:-0500
TZOFFSETTO:-0400
TZNAME:EDT
DTSTART:20260308T070000
END:DAYLIGHT
BEGIN:STANDARD
TZOFFSETFROM:-0400
TZOFFSETTO:-0500
TZNAME:EST
DTSTART:20261101T060000
END:STANDARD
END:VTIMEZONE
BEGIN:VEVENT
DTSTART;TZID=America/New_York:20251110T094500
DTEND;TZID=America/New_York:20251110T120000
DTSTAMP:20260422T214037
CREATED:20250802T192152Z
LAST-MODIFIED:20250802T192152Z
UID:10034927-1762767900-1762776000@metroatlantaexchange.org
SUMMARY:Atlanta Center for Self Sufficiency (ACSS): Career Accelerator Boot Camp
DESCRIPTION:The Atlanta Center for Self Sufficiency (ACSS) is hosting a Career Accelerator Boot Camp on Monday\, November 10th\, from 9:45 AM to 12:00 PM\, at Families First. \nWhether you’re a recent graduate\, changing careers\, or looking to enhance your skills\, this training is perfect for you. Our boot camp will cover resume building\, interview skills\, networking\, and more to help you succeed in your job search. \nClick here to learn more and register.
URL:https://metroatlantaexchange.org/event/atlanta-center-for-self-sufficiency-acss-career-accelerator-boot-camp-6/
LOCATION:Families First\, 80 Joseph E. Lowery Boulevard\, NW\, Atlanta\, 30314\, United States
CATEGORIES:Career Development,In-Person Event,Job Seeker
END:VEVENT
BEGIN:VEVENT
DTSTART;TZID=America/New_York:20251110T100000
DTEND;TZID=America/New_York:20251110T110000
DTSTAMP:20260422T214037
CREATED:20251108T233852Z
LAST-MODIFIED:20251108T233852Z
UID:10035468-1762768800-1762772400@metroatlantaexchange.org
SUMMARY:Jewish Family and Career Services: Virtual Resume Workshop
DESCRIPTION:Jewish Family and Career Services is hosting a Virtual Resume Workshop on Monday\, November 10th\, from 10:00 AM to 11:00 AM. \nLearn how to create an effective resume or improve the one you already have. Transform your resume into a powerful tool. This workshop will identify the different parts of a resume and their purpose\, create a master profile of core competences and accomplishments and provide a checklist of resume do’s and don’ts. It will also help you develop a cover letter to accompany your resume. \nClick here to learn more and register.
URL:https://metroatlantaexchange.org/event/jewish-family-and-career-services-virtual-resume-workshop-4/
LOCATION:GA
CATEGORIES:Career Development,Job Seeker,Virtual Event
ORGANIZER;CN="Jewish Family and Career Services":MAILTO:info@jfcsatl.org
END:VEVENT
BEGIN:VEVENT
DTSTART;TZID=America/New_York:20251110T100000
DTEND;TZID=America/New_York:20251110T120000
DTSTAMP:20260422T214037
CREATED:20251108T185209Z
LAST-MODIFIED:20251108T185246Z
UID:10035374-1762768800-1762776000@metroatlantaexchange.org
SUMMARY:Goodwill of North Georgia: New Leaf Staffing Solution Hiring Event
DESCRIPTION:Goodwill of North Georgia is hosting a New Leaf Staffing Solution Hiring Event every Monday\, from 10:00 AM to 12:00 PM\, at the South DeKalb Career Center. \nFor more information\, call 404-728-8605. \nClick here to learn more and register.
URL:https://metroatlantaexchange.org/event/goodwill-of-north-georgia-new-leaf-staffing-solution-hiring-event/2025-11-10/
LOCATION:Goodwill of North Georgia – South DeKalb Career Center\, 1295 Columbia Drive\, Decatur\, GA\, 30032\, United States
CATEGORIES:In-Person Event,Job Seeker
GEO:33.7510576;-84.2656565
X-APPLE-STRUCTURED-LOCATION;VALUE=URI;X-ADDRESS=Goodwill of North Georgia – South DeKalb Career Center 1295 Columbia Drive Decatur GA 30032 United States;X-APPLE-RADIUS=500;X-TITLE=1295 Columbia Drive:geo:-84.2656565,33.7510576
END:VEVENT
BEGIN:VEVENT
DTSTART;TZID=America/New_York:20251110T120000
DTEND;TZID=America/New_York:20251110T170000
DTSTAMP:20260422T214037
CREATED:20251108T185431Z
LAST-MODIFIED:20251108T185431Z
UID:10035379-1762776000-1762794000@metroatlantaexchange.org
SUMMARY:Goodwill of North Georgia: Ingles Open Interviews
DESCRIPTION:Goodwill of North Georgia is hosting Ingles Open Interviews every Monday\, from 12:00 PM to 5:00 PM\, at the Cornelia Career Center. \nFor more information\, call 706-894-4905. \nClick here to learn more and register.
URL:https://metroatlantaexchange.org/event/goodwill-of-north-georgia-ingles-open-interviews/2025-11-10/
LOCATION:Goodwill of North Georgia – Cornelia Career Center\, 308 Habersham Hills Circle\, Cornelia\, GA\, 30531\, United States
CATEGORIES:In-Person Event,Job Seeker
END:VEVENT
BEGIN:VEVENT
DTSTART;TZID=America/New_York:20251110T150000
DTEND;TZID=America/New_York:20251110T160000
DTSTAMP:20260422T214037
CREATED:20251108T234923Z
LAST-MODIFIED:20251108T234923Z
UID:10035475-1762786800-1762790400@metroatlantaexchange.org
SUMMARY:Job Search Academy: Indeed Bootcamp
DESCRIPTION:Job Search Academy is hosting an Indeed Bootcamp on Monday\, November 10th\, starting at 3:00 PM. \nJoin Indeed Career Strategist Matt Berndt and Senior Product Marketing Manager Ebenezer Addisu as they provide an overview of key features\, tips\, and strategies for using Indeed to pursue better work. Learn about new resources and ask your most pressing questions about how to use Indeed. \nClick here to learn more and register.
URL:https://metroatlantaexchange.org/event/job-search-academy-indeed-bootcamp-2/
LOCATION:GA
CATEGORIES:Career Development,Job Seeker,Virtual Event
END:VEVENT
END:VCALENDAR