BEGIN:VCALENDAR
VERSION:2.0
PRODID:-//MAX - ECPv6.15.17.1//NONSGML v1.0//EN
CALSCALE:GREGORIAN
METHOD:PUBLISH
X-WR-CALNAME:MAX
X-ORIGINAL-URL:https://metroatlantaexchange.org
X-WR-CALDESC:Events for MAX
REFRESH-INTERVAL;VALUE=DURATION:PT1H
X-Robots-Tag:noindex
X-PUBLISHED-TTL:PT1H
BEGIN:VTIMEZONE
TZID:America/New_York
BEGIN:DAYLIGHT
TZOFFSETFROM:-0500
TZOFFSETTO:-0400
TZNAME:EDT
DTSTART:20240310T070000
END:DAYLIGHT
BEGIN:STANDARD
TZOFFSETFROM:-0400
TZOFFSETTO:-0500
TZNAME:EST
DTSTART:20241103T060000
END:STANDARD
BEGIN:DAYLIGHT
TZOFFSETFROM:-0500
TZOFFSETTO:-0400
TZNAME:EDT
DTSTART:20250309T070000
END:DAYLIGHT
BEGIN:STANDARD
TZOFFSETFROM:-0400
TZOFFSETTO:-0500
TZNAME:EST
DTSTART:20251102T060000
END:STANDARD
BEGIN:DAYLIGHT
TZOFFSETFROM:-0500
TZOFFSETTO:-0400
TZNAME:EDT
DTSTART:20260308T070000
END:DAYLIGHT
BEGIN:STANDARD
TZOFFSETFROM:-0400
TZOFFSETTO:-0500
TZNAME:EST
DTSTART:20261101T060000
END:STANDARD
END:VTIMEZONE
BEGIN:VEVENT
DTSTART;TZID=America/New_York:20251111T070000
DTEND;TZID=America/New_York:20251111T090000
DTSTAMP:20260422T214030
CREATED:20251108T185610Z
LAST-MODIFIED:20251108T185610Z
UID:10035382-1762844400-1762851600@metroatlantaexchange.org
SUMMARY:Georgia Driving Academy: Covenant Truck Driver Recruiting Event
DESCRIPTION:The Georgia Driving Academy is hosting a Covenant Truck Driver Recruiting Event on Tuesday\, November 11th\, starting at 7:00 AM\, at the Conyers Campus. \nAttend a free\, no-obligation information session with a representative from Covenant Transport. Learn more about our CDL training courses\, receive a campus tour\, and hear about the many job opportunities for recent graduates. Find out how Covenant is ready to jump-start your new trucking career with on-the-job training and support. \nClick here to learn more and register.
URL:https://metroatlantaexchange.org/event/georgia-driving-academy-covenant-truck-driver-recruiting-event-3/
LOCATION:Georgia Driving Academy\, 1035 Sigman Road\, NE\, Conyers\, GA\, 30012\, United States
CATEGORIES:In-Person Event,Job Seeker
END:VEVENT
BEGIN:VEVENT
DTSTART;TZID=America/New_York:20251111T100000
DTEND;TZID=America/New_York:20251111T123000
DTSTAMP:20260422T214030
CREATED:20251108T185758Z
LAST-MODIFIED:20251108T185758Z
UID:10035383-1762855200-1762864200@metroatlantaexchange.org
SUMMARY:Goodwill of North Georgia: Veteran and Community Job Fair
DESCRIPTION:Goodwill of North Georgia is hosting a Veteran and Community Job Fair on Tuesday\, November 11th\, from 10:00 AM to 12:30 PM\, at the Central United Methodist Church. \nFor more information\, call 770-795-4204. \nClick here to learn more and register.
URL:https://metroatlantaexchange.org/event/goodwill-of-north-georgia-veteran-and-community-job-fair-2/
LOCATION:Central United Methodist Church\, 501 Martin Luther King Jr. Drive\, SW\, Atlanta\, GA\, 30314\, United States
CATEGORIES:In-Person Event,Job Seeker
END:VEVENT
BEGIN:VEVENT
DTSTART;TZID=America/New_York:20251111T100000
DTEND;TZID=America/New_York:20251111T130000
DTSTAMP:20260422T214030
CREATED:20251108T185922Z
LAST-MODIFIED:20251108T185922Z
UID:10035384-1762855200-1762866000@metroatlantaexchange.org
SUMMARY:Goodwill of North Georgia: Veterans Day Job and Resource Fair
DESCRIPTION:Goodwill of North Georgia is hosting a Veterans Day Job and Resource Fair on Tuesday\, November 11th\, from 10:00 AM to 1:00 PM\, at the Old National Career Center. \nFor more information\, call 678-554-0412. \nClick here to learn more and register.
URL:https://metroatlantaexchange.org/event/goodwill-of-north-georgia-veterans-day-job-and-resource-fair/
LOCATION:Goodwill of North Georgia – Old National Career Center\, 6175 Old National Highway\, Suite 120\, Atlanta\, GA\, 30349\, United States
CATEGORIES:In-Person Event,Job Seeker
END:VEVENT
BEGIN:VEVENT
DTSTART;TZID=America/New_York:20251111T100000
DTEND;TZID=America/New_York:20251111T130000
DTSTAMP:20260422T214030
CREATED:20251108T190030Z
LAST-MODIFIED:20251108T190030Z
UID:10035385-1762855200-1762866000@metroatlantaexchange.org
SUMMARY:Goodwill of North Georgia: Veterans Day Job Fair
DESCRIPTION:Goodwill of North Georgia is hosting a Veterans Day Job Fair on Tuesday\, November 11th\, from 10:00 AM to 1:00 PM\, at Headquarters Library. \nFor more information\, call 678-514-0670. \nClick here to learn more and register.
URL:https://metroatlantaexchange.org/event/goodwill-of-north-georgia-veterans-day-job-fair/
LOCATION:Headquarters Library\, 865 Battle Creek Road\, Jonesboro\, GA\, 30236\, United States
CATEGORIES:In-Person Event,Job Seeker
END:VEVENT
BEGIN:VEVENT
DTSTART;TZID=America/New_York:20251111T143000
DTEND;TZID=America/New_York:20251111T170000
DTSTAMP:20260422T214030
CREATED:20251108T190150Z
LAST-MODIFIED:20251108T190150Z
UID:10035386-1762871400-1762880400@metroatlantaexchange.org
SUMMARY:D&H Distributing: Open House Holiday Hiring Event
DESCRIPTION:D&H Distributing is hosting an Open House Holiday Hiring Event on Tuesday\, November 11th\, from 2:30 PM to 5:00 PM\, at D&H Distributing. \nD&H Distributing is seeking to hire candidates to fill positions for the following seasonal full and part–time positions: Outbound Order Picking and Pallet Rider Equipment Driver. \nClick here to learn more and apply for a full-time position. \nClick here to learn more and apply for a part-time position.
URL:https://metroatlantaexchange.org/event/dh-distributing-open-house-holiday-hiring-event/
LOCATION:D&H Distributing\, 185 Coweta Industrial Parkway\, Newnan\, GA\, 30265\, United States
CATEGORIES:In-Person Event,Job Seeker
END:VEVENT
BEGIN:VEVENT
DTSTART;TZID=America/New_York:20251111T163000
DTEND;TZID=America/New_York:20251111T173000
DTSTAMP:20260422T214030
CREATED:20251108T190346Z
LAST-MODIFIED:20251108T190346Z
UID:10035387-1762878600-1762882200@metroatlantaexchange.org
SUMMARY:Fulton County Schools (FCS): Zones 6 and 7 Virtual Open House
DESCRIPTION:Fulton County Schools (FCS) is hosting a Zones 6 and 7 Virtual Open House on Tuesday\, November 11th\, from 4:30 PM to 5:30 PM. \nFCS is seeking teachers of all contents and grade levels. This event will provide candidates an opportunity to chat with FCS representatives about available positions. \nClick here to learn more and register. Click here for a flyer.
URL:https://metroatlantaexchange.org/event/fulton-county-schools-fcs-zones-6-and-7-virtual-open-house/
LOCATION:GA
CATEGORIES:Job Seeker,Virtual Event
END:VEVENT
BEGIN:VEVENT
DTSTART;TZID=America/New_York:20251111T171500
DTEND;TZID=America/New_York:20251111T190000
DTSTAMP:20260422T214030
CREATED:20251108T190518Z
LAST-MODIFIED:20251108T190518Z
UID:10035388-1762881300-1762887600@metroatlantaexchange.org
SUMMARY:Georgia Driving Academy: Roehl Truck Driver Recruiting Event
DESCRIPTION:The Georgia Driving Academy is hosting a Roehl Truck Driver Recruiting Event on Tuesday\, November 11th\, starting at 5:15 PM\, at the Conyers Campus. \nAttend a free\, no-obligation information session with a representative from Roehl. Learn more about our CDL training courses\, receive a campus tour\, and hear about the many job opportunities for recent graduates. Find out how Roehl is ready to jump-start your new trucking career with on-the-job training and support. \nClick here to learn more and register.
URL:https://metroatlantaexchange.org/event/georgia-driving-academy-roehl-truck-driver-recruiting-event/
LOCATION:Georgia Driving Academy\, 1035 Sigman Road\, NE\, Conyers\, GA\, 30012\, United States
CATEGORIES:In-Person Event,Job Seeker
END:VEVENT
BEGIN:VEVENT
DTSTART;TZID=America/New_York:20251111T180000
DTEND;TZID=America/New_York:20251111T184500
DTSTAMP:20260422T214030
CREATED:20251108T235133Z
LAST-MODIFIED:20251108T235133Z
UID:10035476-1762884000-1762886700@metroatlantaexchange.org
SUMMARY:Fuller Career Consulting: Attention 2026 Grads - Networking Through the Holidays Virtual Workshop Series
DESCRIPTION:Fuller Career Consulting is hosting an Attention 2026 Grads: Networking Through the Holidays Virtual Workshop Series on Tuesday\, November 11th\, from 6:00 PM to 6:45 PM. \nDon’t just get through the holidays\, use them to launch your career with clarity and confidence. Join career consultant Rose Fuller for a two-part interactive Zoom workshop designed to transform your holiday conversations into powerful career opportunities. Reframe holiday gatherings as networking goldmines—learn authentic conversation\, follow-up\, and connection strategies during this final session of the series. \nClick here to learn more and register.
URL:https://metroatlantaexchange.org/event/fuller-career-consulting-attention-2026-grads-networking-through-the-holidays-virtual-workshop-series/
LOCATION:GA
CATEGORIES:Career Development,Job Seeker,Virtual Event
END:VEVENT
BEGIN:VEVENT
DTSTART;TZID=America/New_York:20251111T180000
DTEND;TZID=America/New_York:20251111T190000
DTSTAMP:20260422T214030
CREATED:20251108T235329Z
LAST-MODIFIED:20251202T150537Z
UID:10035477-1762884000-1762887600@metroatlantaexchange.org
SUMMARY:Fulton County Library System: Computer Class
DESCRIPTION:The Fulton County Library System is hosting a Computer Class every Tuesday\, from 6:00 PM to 7:00 PM\, at the Gladys S. Dennard Library. \nJoin an exciting session designed to boost your digital skills! Whether you’re looking to master your computer\, navigate the internet\, or make the most of your mobile devices and e-readers. \nClick here to learn more and register. \n 
URL:https://metroatlantaexchange.org/event/fulton-county-library-system-computer-class-2/2025-11-11/
LOCATION:Gladys S. Dennard Library\, 4055 Flat Shoals Road\, Union City\, GA\, 30291\, United States
CATEGORIES:Career Development,In-Person Event,Job Seeker
END:VEVENT
END:VCALENDAR