BEGIN:VCALENDAR
VERSION:2.0
PRODID:-//MAX - ECPv6.15.17.1//NONSGML v1.0//EN
CALSCALE:GREGORIAN
METHOD:PUBLISH
X-ORIGINAL-URL:https://metroatlantaexchange.org
X-WR-CALDESC:Events for MAX
REFRESH-INTERVAL;VALUE=DURATION:PT1H
X-Robots-Tag:noindex
X-PUBLISHED-TTL:PT1H
BEGIN:VTIMEZONE
TZID:America/New_York
BEGIN:DAYLIGHT
TZOFFSETFROM:-0500
TZOFFSETTO:-0400
TZNAME:EDT
DTSTART:20240310T070000
END:DAYLIGHT
BEGIN:STANDARD
TZOFFSETFROM:-0400
TZOFFSETTO:-0500
TZNAME:EST
DTSTART:20241103T060000
END:STANDARD
BEGIN:DAYLIGHT
TZOFFSETFROM:-0500
TZOFFSETTO:-0400
TZNAME:EDT
DTSTART:20250309T070000
END:DAYLIGHT
BEGIN:STANDARD
TZOFFSETFROM:-0400
TZOFFSETTO:-0500
TZNAME:EST
DTSTART:20251102T060000
END:STANDARD
BEGIN:DAYLIGHT
TZOFFSETFROM:-0500
TZOFFSETTO:-0400
TZNAME:EDT
DTSTART:20260308T070000
END:DAYLIGHT
BEGIN:STANDARD
TZOFFSETFROM:-0400
TZOFFSETTO:-0500
TZNAME:EST
DTSTART:20261101T060000
END:STANDARD
END:VTIMEZONE
BEGIN:VEVENT
DTSTART;TZID=America/New_York:20251112T090000
DTEND;TZID=America/New_York:20251112T100000
DTSTAMP:20260422T174936
CREATED:20250902T220734Z
LAST-MODIFIED:20250902T220734Z
UID:10035257-1762938000-1762941600@metroatlantaexchange.org
SUMMARY:Goodwill of North Georgia: NorthStar Testing Session
DESCRIPTION:Goodwill of North Georgia is hosting a NorthStar Testing Session every Wednesday\, from 9:00 AM to 10:00 AM\, at the Woodstock Career Center. \nFor more information\, call 770-874-0901. \nClick here to learn more and register.
URL:https://metroatlantaexchange.org/event/goodwill-of-north-georgia-northstar-testing-session/2025-11-12/
LOCATION:Goodwill of North Georgia – Woodstock Career Center\, 9425 Highway 92\, Woodstock\, GA\, 30188\, United States
CATEGORIES:Career Development,In-Person Event,Job Seeker
GEO:34.0872637;-84.5325399
X-APPLE-STRUCTURED-LOCATION;VALUE=URI;X-ADDRESS=Goodwill of North Georgia – Woodstock Career Center 9425 Highway 92 Woodstock GA 30188 United States;X-APPLE-RADIUS=500;X-TITLE=9425 Highway 92:geo:-84.5325399,34.0872637
END:VEVENT
BEGIN:VEVENT
DTSTART;TZID=America/New_York:20251112T090000
DTEND;TZID=America/New_York:20251112T130000
DTSTAMP:20260422T174936
CREATED:20251109T001353Z
LAST-MODIFIED:20251109T001353Z
UID:10035484-1762938000-1762952400@metroatlantaexchange.org
SUMMARY:Hiring Our Heroes: Virtual Amplify - Career Readiness and Hiring Event Preparation
DESCRIPTION:Hiring Our Heroes is hosting a Virtual Amplify: Career Readiness and Hiring Event Preparation on Wednesday\, November 12th\, from 9:00 AM to 1:00 PM. \nEngage in professional development workshops and interactive sessions designed to prepare you for a virtual hiring fair. Topics include professional branding\, resume support\, interview techniques\, and networking. Amplify attendees will leave with valuable tools\, resources\, and an expanded network to facilitate their career growth. This event is open to transitioning service members\, veterans\, military spouses\, and military caregivers. \nClick here to learn more and register.
URL:https://metroatlantaexchange.org/event/hiring-our-heroes-virtual-amplify-career-readiness-and-hiring-event-preparation-2/
LOCATION:GA
CATEGORIES:Career Development,Job Seeker,Veterans/Military,Virtual Event
END:VEVENT
BEGIN:VEVENT
DTSTART;TZID=America/New_York:20251112T120000
DTEND;TZID=America/New_York:20251112T130000
DTSTAMP:20260422T174936
CREATED:20251109T001604Z
LAST-MODIFIED:20251109T001604Z
UID:10035485-1762948800-1762952400@metroatlantaexchange.org
SUMMARY:Urban League of Greater Atlanta: CarePRO Career Readiness Workshop
DESCRIPTION:The Urban League of Greater Atlanta is hosting a CarePRO Career Readiness Workshop on Wednesday\, November 12th through Friday\, November 14th\, from 12:00 PM to 1:00 PM. \nAre you interested in a healthcare career? The Urban League of Greater Atlanta’s CarePRO is a FREE 3-day career readiness workshop to help you build skills and explore career pathways for entry-level healthcare careers like CNA\, Phlebotomy\, Patient Care Tech\, and Behavioral Health Technician. During the workshop\, you will learn foundational skills\, connect with current healthcare workers\, and receive information about local certification training programs. The workshop is a 1-hour commitment for 3 days. Once you complete the workshop\, you will receive a Certificate of Completion\, and ULGA will refer you to a healthcare certification program in your desired career path. \nClick here to learn more and register.
URL:https://metroatlantaexchange.org/event/urban-league-of-greater-atlanta-carepro-career-readiness-workshop/
LOCATION:GA
CATEGORIES:Career Development,Job Seeker,Virtual Event
END:VEVENT
BEGIN:VEVENT
DTSTART;TZID=America/New_York:20251112T130000
DTEND;TZID=America/New_York:20251112T140000
DTSTAMP:20260422T174936
CREATED:20251109T001800Z
LAST-MODIFIED:20251109T001800Z
UID:10035486-1762952400-1762956000@metroatlantaexchange.org
SUMMARY:Entrepreneur's Source: Beyond the 9-to-5: Finding Freedom in Your Next Career Step
DESCRIPTION:The Entrepreneur’s Source is hosting Beyond the 9-to-5: Finding Freedom in Your Next Career Step on Wednesday\, November 12th\, from 1:00 PM to 2:00 PM. \nReady to break free from the 9-to-5 grind and explore new career paths? Join Career Ownership Coach\, Suzanne Clancy online to explore the idea that your next opportunity might not look like a typical job. For 40 years\, The Entrepreneur’s Source has helped introduce business ownership in an educational\, no-expectations\, no- pressure setting especially designed for first-time entrepreneurs\, either as an alternative to or a supplement to conventional employment. \nClick here to learn more and register.
URL:https://metroatlantaexchange.org/event/entrepreneurs-source-beyond-the-9-to-5-finding-freedom-in-your-next-career-step/
LOCATION:GA
CATEGORIES:Career Development,Job Seeker,Virtual Event
END:VEVENT
BEGIN:VEVENT
DTSTART;TZID=America/New_York:20251112T130000
DTEND;TZID=America/New_York:20251112T143000
DTSTAMP:20260422T174936
CREATED:20251109T002006Z
LAST-MODIFIED:20251109T002006Z
UID:10035487-1762952400-1762957800@metroatlantaexchange.org
SUMMARY:Goodwill of North Georgia: Job Search and Online Application Workshop
DESCRIPTION:Goodwill of North Georgia is hosting a Job Search and Online Application Workshop on Wednesday\, November 12th\, from 1:00 PM to 2:30 PM\, at the Woodstock Career Center. \nFor more information\, call 770-874-0901. \nClick here to learn more and register.
URL:https://metroatlantaexchange.org/event/goodwill-of-north-georgia-job-search-and-online-application-workshop/
LOCATION:Goodwill of North Georgia – Woodstock Career Center\, 9425 Highway 92\, Woodstock\, GA\, 30188\, United States
CATEGORIES:Career Development,In-Person Event,Job Seeker
GEO:34.0872637;-84.5325399
X-APPLE-STRUCTURED-LOCATION;VALUE=URI;X-ADDRESS=Goodwill of North Georgia – Woodstock Career Center 9425 Highway 92 Woodstock GA 30188 United States;X-APPLE-RADIUS=500;X-TITLE=9425 Highway 92:geo:-84.5325399,34.0872637
END:VEVENT
BEGIN:VEVENT
DTSTART;TZID=America/New_York:20251112T150000
DTEND;TZID=America/New_York:20251112T153000
DTSTAMP:20260422T174936
CREATED:20251109T002152Z
LAST-MODIFIED:20251109T002152Z
UID:10035488-1762959600-1762961400@metroatlantaexchange.org
SUMMARY:Hiring Our Heroes: Career Forward Virtual Information Session
DESCRIPTION:Hiring Our Heroes is hosting a Career Forward Virtual Information Session on Wednesday\, November 12th\, from 3:00 PM to 3:30 PM. \nTransitioning service members\, veterans\, military spouses\, and military caregivers; learn how you can earn a Google Career Certificate and level up your career with Career Forward. Prior to joining the information session\, please click here to watch the Career Forward program overview. \nClick here to register via Zoom.
URL:https://metroatlantaexchange.org/event/hiring-our-heroes-career-forward-virtual-information-session-5/
LOCATION:GA
CATEGORIES:Career Development,Job Seeker,Veterans/Military,Virtual Event
END:VEVENT
END:VCALENDAR