BEGIN:VCALENDAR
VERSION:2.0
PRODID:-//MAX - ECPv6.15.17.1//NONSGML v1.0//EN
CALSCALE:GREGORIAN
METHOD:PUBLISH
X-WR-CALNAME:MAX
X-ORIGINAL-URL:https://metroatlantaexchange.org
X-WR-CALDESC:Events for MAX
REFRESH-INTERVAL;VALUE=DURATION:PT1H
X-Robots-Tag:noindex
X-PUBLISHED-TTL:PT1H
BEGIN:VTIMEZONE
TZID:America/New_York
BEGIN:DAYLIGHT
TZOFFSETFROM:-0500
TZOFFSETTO:-0400
TZNAME:EDT
DTSTART:20240310T070000
END:DAYLIGHT
BEGIN:STANDARD
TZOFFSETFROM:-0400
TZOFFSETTO:-0500
TZNAME:EST
DTSTART:20241103T060000
END:STANDARD
BEGIN:DAYLIGHT
TZOFFSETFROM:-0500
TZOFFSETTO:-0400
TZNAME:EDT
DTSTART:20250309T070000
END:DAYLIGHT
BEGIN:STANDARD
TZOFFSETFROM:-0400
TZOFFSETTO:-0500
TZNAME:EST
DTSTART:20251102T060000
END:STANDARD
BEGIN:DAYLIGHT
TZOFFSETFROM:-0500
TZOFFSETTO:-0400
TZNAME:EDT
DTSTART:20260308T070000
END:DAYLIGHT
BEGIN:STANDARD
TZOFFSETFROM:-0400
TZOFFSETTO:-0500
TZNAME:EST
DTSTART:20261101T060000
END:STANDARD
END:VTIMEZONE
BEGIN:VEVENT
DTSTART;TZID=America/New_York:20251113T080000
DTEND;TZID=America/New_York:20251113T170000
DTSTAMP:20260422T180036
CREATED:20251108T192340Z
LAST-MODIFIED:20251108T192340Z
UID:10035398-1763020800-1763053200@metroatlantaexchange.org
SUMMARY:Ruan Transportation Management: Hiring Event
DESCRIPTION:Ruan Transportation Management is hosting a Hiring Event on Thursday\, November 13th\, from 8:00 AM to 5:00 PM\, at Ruan Transportation Management. \nRuan Transportation Management is hiring Class A CDL Drivers to be based in Lawrenceville\, GA\, to haul for their dedicated customer\, Publix. Enjoy no-touch freight on this account. Average pay is $90\,000 per year plus per diem. If you are ready to join a growing team\, don’t miss this event. \nClick here to learn more and register.
URL:https://metroatlantaexchange.org/event/ruan-transportation-management-hiring-event/
LOCATION:Ruan Transportation Management\, 1000 Hurricane Shoals Road\, Lawrenceville\, GA\, 30034\, United States
CATEGORIES:In-Person Event,Job Seeker
END:VEVENT
BEGIN:VEVENT
DTSTART;TZID=America/New_York:20251113T080000
DTEND;TZID=America/New_York:20251113T170000
DTSTAMP:20260422T180036
CREATED:20251108T192752Z
LAST-MODIFIED:20251108T192752Z
UID:10035401-1763020800-1763053200@metroatlantaexchange.org
SUMMARY:Goodwill of North Georgia: JM Wilkerson Construction Hiring Event
DESCRIPTION:Goodwill of North Georgia is hosting a JM Wilkerson Construction Hiring Event on Thursday\, November 13th\, from 9:00 AM to 2:00 PM\, at the Georgia Hall Neighborhood Center. \nFor more information\, call 404-728-8605. Click here to learn more and register.
URL:https://metroatlantaexchange.org/event/goodwill-of-north-georgia-jm-wilkerson-construction-hiring-event/
LOCATION:Georgia Hall Neighborhood Center\, 250 Georgia Avenue\, Atlanta\, GA\, 30312\, United States
CATEGORIES:In-Person Event,Job Seeker
END:VEVENT
BEGIN:VEVENT
DTSTART;TZID=America/New_York:20251113T100000
DTEND;TZID=America/New_York:20251113T130000
DTSTAMP:20260422T180036
CREATED:20251108T193341Z
LAST-MODIFIED:20251108T193341Z
UID:10035403-1763028000-1763038800@metroatlantaexchange.org
SUMMARY:Southside Works: Fall Career Fair
DESCRIPTION:Southside Works is hosting a Fall Career Fair on Thursday\, November 13th\, from 10:00 AM to 1:00 PM\, at Pittsburgh Yards. \nJoin this exciting event to explore career opportunities and connect with top employers in the region. Whether you’re a recent graduate\, looking to switch careers\, or simply wanting to explore new possibilities\, this career fair is the perfect opportunity to network and showcase your skills to potential employers. Get ready to meet representatives from a wide range of industries\, including technology\, healthcare\, finance\, and many more. They will be eager to discuss job openings\, internships\, and career paths within their organizations. Don’t forget to bring multiple copies of your resume and dress to impress. This is your chance to make a lasting impression and stand out from the competition. \nClick here to learn more and register.
URL:https://metroatlantaexchange.org/event/southside-works-fall-career-fair/
LOCATION:Pittsburgh Yards\, 352 University Avenue\, SW\, Atlanta\, GA\, 30310\, United States
CATEGORIES:In-Person Event,Job Seeker
END:VEVENT
BEGIN:VEVENT
DTSTART;TZID=America/New_York:20251113T100000
DTEND;TZID=America/New_York:20251113T140000
DTSTAMP:20260422T180036
CREATED:20251108T193130Z
LAST-MODIFIED:20251108T193130Z
UID:10035402-1763028000-1763042400@metroatlantaexchange.org
SUMMARY:Arbor Terrace of Acworth: Community Leadership and Support Role Job Fair
DESCRIPTION:Arbor Terrace of Acworth is hosting a Community Leadership and Support Role Job Fair on Thursday\, November 13th\, from 10:00 AM to 2:00 PM\, at Arbor Terrace Acworth. \nArbor Terrace of Acworth is growing and we’re inviting passionate\, mission-driven professionals to attend this job fair. Interview with hiring leaders and explore roles that make our community thrive. Open positions include Move-In Coordinator\, Engagement Coordinator\, Housekeeper\, and LPN Supervisor. Perks include a free meal each work shift\, paid time off\, wellness and financial assistance programs\, tuition assistance\, health insurance and more. Please bring multiple copies of your resume and be ready to meet with hiring managers. \nClick here to learn more and register.
URL:https://metroatlantaexchange.org/event/arbor-terrace-of-acworth-community-leadership-and-support-role-job-fair/
LOCATION:Arbor Terrace Acworth\, 4461 South Main Street\, Acworth\, GA\, 30101\, United States
CATEGORIES:In-Person Event,Job Seeker
END:VEVENT
BEGIN:VEVENT
DTSTART;TZID=America/New_York:20251113T110000
DTEND;TZID=America/New_York:20251113T130000
DTSTAMP:20260422T180036
CREATED:20251109T002701Z
LAST-MODIFIED:20251109T002701Z
UID:10035490-1763031600-1763038800@metroatlantaexchange.org
SUMMARY:Summit Family YMCA: Thrive - Disability and Inclusion Resource Fair
DESCRIPTION:The Summit Family YMCA is hosting a Thrive – Disability and Inclusion Resource Fair on Thursday\, November 13th\, from 11:00 AM to 1:00 PM\, at the Summit Family YMCA. \nHosted in collaboration with the Georgia State University\, Center for Leadership in Disability\, School of Public Health\, this resource fair is designed to serve the more than 5\,500 individuals living with disabilities in Coweta County\, this FREE event will bring together a wide range of community partners and organizations to offer support\, services\, and adaptive resources in one welcoming\, inclusive space showcasing resources in health & wellness\, education\, adaptive recreation\, vocational training\, legal support\, and more. \nClick here to learn more and register.
URL:https://metroatlantaexchange.org/event/summit-family-ymca-thrive-disability-and-inclusion-resource-fair/
LOCATION:Summit Family YMCA\, 1765 Highway 34\, Newnan\, GA\, 30265\, United States
CATEGORIES:Career Development,In-Person Event,Job Seeker
END:VEVENT
BEGIN:VEVENT
DTSTART;TZID=America/New_York:20251113T110000
DTEND;TZID=America/New_York:20251113T140000
DTSTAMP:20260422T180036
CREATED:20251108T193844Z
LAST-MODIFIED:20251108T193844Z
UID:10035406-1763031600-1763042400@metroatlantaexchange.org
SUMMARY:Goodwill of North Georgia: Job Fair
DESCRIPTION:Goodwill of North Georgia is hosting a Job Fair on Thursday\, November 13th\, from 11:00 AM to 2:00 PM\, at the Toccoa-Stephens County Public Library. \nFor more information\, call 706-894-4905. \nClick here to learn more and register.
URL:https://metroatlantaexchange.org/event/goodwill-of-north-georgia-job-fair-5/
LOCATION:Toccoa-Stephens County Public Library\, 53 West Savannah Street\, Toccoa\, GA\, 30577\, United States
CATEGORIES:In-Person Event,Job Seeker
END:VEVENT
BEGIN:VEVENT
DTSTART;TZID=America/New_York:20251113T110000
DTEND;TZID=America/New_York:20251113T170000
DTSTAMP:20260422T180036
CREATED:20251108T194001Z
LAST-MODIFIED:20251108T194001Z
UID:10035407-1763031600-1763053200@metroatlantaexchange.org
SUMMARY:Nordstrom: Hiring Day
DESCRIPTION:Nordstrom is hosting a Hiring Day on Thursday\, November 13th\, from 11:00 AM to 5:00 PM\, at Nordstrom – Perimeter Mall. \nNordstrom has Sales Positions within Men’s Apparel\, Women’s Apparel\, Women’s Shows\, Kids Apparel\, Accessories\, and Seasonal departments. No need to schedule in advance\, please join any time during the event for an interview. \nClick here for a full list of open positions. Benefits include a 20% employee discount\, opportunities for advancement\, health insurance and more. \nClick here to learn more and register.
URL:https://metroatlantaexchange.org/event/nordstrom-hiring-day/
LOCATION:Nordstrom Perimeter Mall\, 4390 Ashford Dunwoody Road\, NE\, Atlanta\, GA\, 30346\, United States
CATEGORIES:In-Person Event,Job Seeker
END:VEVENT
BEGIN:VEVENT
DTSTART;TZID=America/New_York:20251113T130000
DTEND;TZID=America/New_York:20251113T140000
DTSTAMP:20260422T180036
CREATED:20251109T003210Z
LAST-MODIFIED:20251109T003210Z
UID:10035492-1763038800-1763042400@metroatlantaexchange.org
SUMMARY:Goodwill of North Georgia: Navigating a Job Fair 101
DESCRIPTION:Goodwill of North Georgia is hosting Navigating a Job Fair 101 on Thursday\, November 13th\, from 1:00 PM to 2:00 PM\, at the Stockbridge Career Center. \nFor more information\, call 678-514-0670. \nClick here to learn more and register.
URL:https://metroatlantaexchange.org/event/goodwill-of-north-georgia-navigating-a-job-fair-101/
LOCATION:GA
CATEGORIES:Career Development,In-Person Event,Job Seeker
END:VEVENT
BEGIN:VEVENT
DTSTART;TZID=America/New_York:20251113T130000
DTEND;TZID=America/New_York:20251113T170000
DTSTAMP:20260422T180036
CREATED:20251108T194459Z
LAST-MODIFIED:20251108T194459Z
UID:10035409-1763038800-1763053200@metroatlantaexchange.org
SUMMARY:Goodwill of North Georgia: Diversified/SK Battery Open Interviews
DESCRIPTION:Goodwill of North Georgia is hosting Diversified/SK Battery Open Interviews every Thursday\, from 1:00 PM to 5:00 PM\, at the Cartersville Career Center. \nFor more information\, call 770-276-7036. \nClick here to learn more and register.
URL:https://metroatlantaexchange.org/event/goodwill-of-north-georgia-diversified-sk-battery-open-interviews/2025-11-13/
LOCATION:Goodwill of North Georgia – Cartersville Career Center\, 929 Joe Frank Harris Parkway\, Cartersville\, GA\, 30120\, United States
CATEGORIES:In-Person Event,Job Seeker
GEO:34.1974793;-84.7941559
X-APPLE-STRUCTURED-LOCATION;VALUE=URI;X-ADDRESS=Goodwill of North Georgia – Cartersville Career Center 929 Joe Frank Harris Parkway Cartersville GA 30120 United States;X-APPLE-RADIUS=500;X-TITLE=929 Joe Frank Harris Parkway:geo:-84.7941559,34.1974793
END:VEVENT
BEGIN:VEVENT
DTSTART;TZID=America/New_York:20251113T140000
DTEND;TZID=America/New_York:20251113T160000
DTSTAMP:20260422T180036
CREATED:20251108T194715Z
LAST-MODIFIED:20251108T194715Z
UID:10035412-1763042400-1763049600@metroatlantaexchange.org
SUMMARY:Goodwill of North Georgia: Spherion Hiring Event
DESCRIPTION:Goodwill of North Georgia is hosting Spherion Hiring Event every Thursday\, from 2:00 PM to 4:00 PM\, at the Cornelia Career Center. \nFor more information\, call 706-894-4905. \nClick here to learn more and register.
URL:https://metroatlantaexchange.org/event/goodwill-of-north-georgia-spherion-hiring-event-5/2025-11-13/
LOCATION:Goodwill of North Georgia – Cornelia Career Center\, 308 Habersham Hills Circle\, Cornelia\, GA\, 30531\, United States
CATEGORIES:In-Person Event,Job Seeker
END:VEVENT
BEGIN:VEVENT
DTSTART;TZID=America/New_York:20251113T171500
DTEND;TZID=America/New_York:20251113T190000
DTSTAMP:20260422T180036
CREATED:20251108T194918Z
LAST-MODIFIED:20251108T194918Z
UID:10035415-1763054100-1763060400@metroatlantaexchange.org
SUMMARY:Georgia Driving Academy: Swift Truck Driver Recruiting Event
DESCRIPTION:The Georgia Driving Academy is hosting a Swift Truck Driver Recruiting Event on Thursday\, November 13th\, starting at 5:15 PM\, at the Conyers Campus. \nAttend a free\, no-obligation information session with a representative from Swift at our Conyers Campus. Learn more about our CDL training courses\, receive a campus tour and hear about the many job opportunities for recent graduates. Find out how Swift is ready to jump-start your new trucking career with on-the-job training and support. \nClick here to learn more and register.
URL:https://metroatlantaexchange.org/event/georgia-driving-academy-swift-truck-driver-recruiting-event-2/
LOCATION:Georgia Driving Academy\, 1035 Sigman Road\, NE\, Conyers\, GA\, 30012\, United States
CATEGORIES:In-Person Event,Job Seeker
END:VEVENT
END:VCALENDAR