BEGIN:VCALENDAR
VERSION:2.0
PRODID:-//MAX - ECPv6.15.17.1//NONSGML v1.0//EN
CALSCALE:GREGORIAN
METHOD:PUBLISH
X-WR-CALNAME:MAX
X-ORIGINAL-URL:https://metroatlantaexchange.org
X-WR-CALDESC:Events for MAX
REFRESH-INTERVAL;VALUE=DURATION:PT1H
X-Robots-Tag:noindex
X-PUBLISHED-TTL:PT1H
BEGIN:VTIMEZONE
TZID:America/New_York
BEGIN:DAYLIGHT
TZOFFSETFROM:-0500
TZOFFSETTO:-0400
TZNAME:EDT
DTSTART:20240310T070000
END:DAYLIGHT
BEGIN:STANDARD
TZOFFSETFROM:-0400
TZOFFSETTO:-0500
TZNAME:EST
DTSTART:20241103T060000
END:STANDARD
BEGIN:DAYLIGHT
TZOFFSETFROM:-0500
TZOFFSETTO:-0400
TZNAME:EDT
DTSTART:20250309T070000
END:DAYLIGHT
BEGIN:STANDARD
TZOFFSETFROM:-0400
TZOFFSETTO:-0500
TZNAME:EST
DTSTART:20251102T060000
END:STANDARD
BEGIN:DAYLIGHT
TZOFFSETFROM:-0500
TZOFFSETTO:-0400
TZNAME:EDT
DTSTART:20260308T070000
END:DAYLIGHT
BEGIN:STANDARD
TZOFFSETFROM:-0400
TZOFFSETTO:-0500
TZNAME:EST
DTSTART:20261101T060000
END:STANDARD
END:VTIMEZONE
BEGIN:VEVENT
DTSTART;TZID=America/New_York:20251114T110000
DTEND;TZID=America/New_York:20251114T130000
DTSTAMP:20260422T174905
CREATED:20251109T003834Z
LAST-MODIFIED:20251109T003834Z
UID:10035494-1763118000-1763125200@metroatlantaexchange.org
SUMMARY:Community Services Committee of the Atlanta Black Chambers: Entrepreneurs Day
DESCRIPTION:Community Services Committee of the Atlanta Black Chambers is hosting Entrepreneurs Day on Friday\, November 14th\, from 11:00 AM to 1:00 PM\, at the Promise Career Academy. \nThis event brings together business owners\, professionals\, and high school students for a day of learning\, networking\, and community building. Students will have the chance to meet local entrepreneurs\, discover new career paths\, and gain valuable insights into what it takes to start and sustain a successful business. \nClick here to learn more and register.
URL:https://metroatlantaexchange.org/event/community-services-committee-of-the-atlanta-black-chambers-entrepreneurs-day/
LOCATION:Promise Career Academy\, 3605 Main Street\, Atlanta\, GA\, 30337\, United States
CATEGORIES:Career Development,In-Person Event,Job Seeker
END:VEVENT
END:VCALENDAR