BEGIN:VCALENDAR
VERSION:2.0
PRODID:-//MAX - ECPv6.15.17.1//NONSGML v1.0//EN
CALSCALE:GREGORIAN
METHOD:PUBLISH
X-ORIGINAL-URL:https://metroatlantaexchange.org
X-WR-CALDESC:Events for MAX
REFRESH-INTERVAL;VALUE=DURATION:PT1H
X-Robots-Tag:noindex
X-PUBLISHED-TTL:PT1H
BEGIN:VTIMEZONE
TZID:America/New_York
BEGIN:DAYLIGHT
TZOFFSETFROM:-0500
TZOFFSETTO:-0400
TZNAME:EDT
DTSTART:20240310T070000
END:DAYLIGHT
BEGIN:STANDARD
TZOFFSETFROM:-0400
TZOFFSETTO:-0500
TZNAME:EST
DTSTART:20241103T060000
END:STANDARD
BEGIN:DAYLIGHT
TZOFFSETFROM:-0500
TZOFFSETTO:-0400
TZNAME:EDT
DTSTART:20250309T070000
END:DAYLIGHT
BEGIN:STANDARD
TZOFFSETFROM:-0400
TZOFFSETTO:-0500
TZNAME:EST
DTSTART:20251102T060000
END:STANDARD
BEGIN:DAYLIGHT
TZOFFSETFROM:-0500
TZOFFSETTO:-0400
TZNAME:EDT
DTSTART:20260308T070000
END:DAYLIGHT
BEGIN:STANDARD
TZOFFSETFROM:-0400
TZOFFSETTO:-0500
TZNAME:EST
DTSTART:20261101T060000
END:STANDARD
END:VTIMEZONE
BEGIN:VEVENT
DTSTART;TZID=America/New_York:20251118T100000
DTEND;TZID=America/New_York:20251118T140000
DTSTAMP:20260422T174936
CREATED:20251109T005032Z
LAST-MODIFIED:20251109T005032Z
UID:10035499-1763460000-1763474400@metroatlantaexchange.org
SUMMARY:Atlanta WorkSource: Mobile Career Unit
DESCRIPTION:Atlanta WorkSource is hosting its Mobile Career Unit on Tuesday\, November 18th\, from 10:00 AM to 2:00 PM\, at the Sandy Springs Branch. \nWorkSource Fulton’s Mobile Career Unit is a fully equipped resource center on wheels\, designed to deliver essential career services directly to the community. During each visit\, individuals can access job search support\, resume assistance\, career counseling\, interview preparation tools\, connections to local employment opportunities and more. The mission of the Mobile Career Unit is to meet people where they are and provide the tools and guidance they need to take the next steps in their career journey. No appointments are necessary. The Mobile Career Unit will be in the Sandy Springs Library parking lot on the third Tuesday of each month. \nClick here to learn more.
URL:https://metroatlantaexchange.org/event/atlanta-worksource-mobile-career-unit/
LOCATION:Sandy Springs Library\, 395 Mount Vernon Highway\, NE\, Sandy Springs\, GA\, 30328\, United States
CATEGORIES:Career Development,In-Person Event,Job Seeker
END:VEVENT
BEGIN:VEVENT
DTSTART;TZID=America/New_York:20251118T100000
DTEND;TZID=America/New_York:20251118T140000
DTSTAMP:20260422T174936
CREATED:20251109T005221Z
LAST-MODIFIED:20251109T005221Z
UID:10035500-1763460000-1763474400@metroatlantaexchange.org
SUMMARY:Insight Global: Elevate - A Workforce Development Event
DESCRIPTION:Insight Global is hosting Elevate – A Workforce Development Event on Tuesday\, November 18th\, from 10:00 AM to 2:00 PM\, at the City of Refuge. \nGet ready to level up your career while you gain the tools and connections needed to succeed. Whether you’re a seasoned professional looking to sharpen your skills or just starting out in the workforce\, this event is for you. Offerings like resume/LinkedIn building\, professional headshots\, one-on-one career coaching\, interview prep\, networking opportunities and more will be available. Don’t miss this opportunity to elevate your career! \nClick here to learn more and register. Click here for a flyer.
URL:https://metroatlantaexchange.org/event/insight-global-elevate-a-workforce-development-event/
LOCATION:City of Refuge Workforce Innovation Hub\, 1300 Joseph E. Boone Blvd NW\, Atlanta\, GA\, 30314\, United States
CATEGORIES:Career Development,In-Person Event,Job Seeker
GEO:33.7623158;-84.4302296
X-APPLE-STRUCTURED-LOCATION;VALUE=URI;X-ADDRESS=City of Refuge Workforce Innovation Hub 1300 Joseph E. Boone Blvd NW Atlanta GA 30314 United States;X-APPLE-RADIUS=500;X-TITLE=1300 Joseph E. Boone Blvd NW:geo:-84.4302296,33.7623158
END:VEVENT
BEGIN:VEVENT
DTSTART;TZID=America/New_York:20251118T120000
DTEND;TZID=America/New_York:20251118T130000
DTSTAMP:20260422T174936
CREATED:20251109T005346Z
LAST-MODIFIED:20251109T005346Z
UID:10035501-1763467200-1763470800@metroatlantaexchange.org
SUMMARY:Innovation Women: Get More Speaking Opportunities
DESCRIPTION:Innovation Women is hosting a Get More Speaking Opportunities webinar on Tuesday\, November 18th\, starting at 12:00 PM. \nLooking to boost your business\, increase your visibility and get on more stages? Speaking is one of the most effective ways to share your expertise\, build credibility and attract new business and career opportunities — and we’re here to help you. Join this free session with Speaker Expert\, Bobbie Carlton\, and learn how to find and land speaking opportunities with Innovation Women. \nClick here to learn more and register.
URL:https://metroatlantaexchange.org/event/innovation-women-get-more-speaking-opportunities/
LOCATION:GA
CATEGORIES:Career Development,Job Seeker,Virtual Event
END:VEVENT
BEGIN:VEVENT
DTSTART;TZID=America/New_York:20251118T130000
DTEND;TZID=America/New_York:20251118T140000
DTSTAMP:20260422T174936
CREATED:20251109T005511Z
LAST-MODIFIED:20251109T005511Z
UID:10035502-1763470800-1763474400@metroatlantaexchange.org
SUMMARY:Job Search Academy: Ask a Career Strategist - Launching a New Career at Any Stage
DESCRIPTION:Job Search Academy is hosting an Ask a Career Strategist: Launching a New Career at Any Stage webinar on Tuesday\, November 18th\, starting at 1:00 PM. \nReady to make a professional pivot or start a career path that truly fits you? Join Indeed Career Strategist Matt Berndt and guest career coach Jeremy Schifeling\, Founder of Job Insiders\, for a live Q&A focused on successfully launching a new career at any stage of life. Whether you’re making a career change\, re-entering the workforce\, or simply exploring new industries\, you’ll learn how to translate your experience\, identify transferable skills\, and leverage your background to land the job you want. \nClick here to learn more and register.
URL:https://metroatlantaexchange.org/event/job-search-academy-ask-a-career-strategist-launching-a-new-career-at-any-stage/
LOCATION:GA
CATEGORIES:Career Development,Job Seeker,Virtual Event
END:VEVENT
BEGIN:VEVENT
DTSTART;TZID=America/New_York:20251118T140000
DTEND;TZID=America/New_York:20251118T150000
DTSTAMP:20260422T174936
CREATED:20251109T005635Z
LAST-MODIFIED:20251109T005635Z
UID:10035503-1763474400-1763478000@metroatlantaexchange.org
SUMMARY:RecruitMilitary: Understanding and Utilizing USAJobs
DESCRIPTION:RecruitMilitary is hosting a webinar on Understanding and Utilizing USAJobs on Tuesday\, November 18th\, from 2:00 PM to 3:00 PM. \nJoin RecruitMilitary’s Certified Federal Job Search Trainer® and Certified Federal Career Coach® to unpack the latest USAJobs updates. Learn how to identify keywords and core competencies in job postings\, and ensure your resume includes the right content to stand out in the federal hiring process. \nClick here to learn more and register.
URL:https://metroatlantaexchange.org/event/recruitmilitary-understanding-and-utilizing-usajobs/
LOCATION:GA
CATEGORIES:Career Development,Job Seeker,Veterans/Military,Virtual Event
END:VEVENT
BEGIN:VEVENT
DTSTART;TZID=America/New_York:20251118T180000
DTEND;TZID=America/New_York:20251118T190000
DTSTAMP:20260422T174936
CREATED:20251108T235329Z
LAST-MODIFIED:20251202T150537Z
UID:10035478-1763488800-1763492400@metroatlantaexchange.org
SUMMARY:Fulton County Library System: Computer Class
DESCRIPTION:The Fulton County Library System is hosting a Computer Class every Tuesday\, from 6:00 PM to 7:00 PM\, at the Gladys S. Dennard Library. \nJoin an exciting session designed to boost your digital skills! Whether you’re looking to master your computer\, navigate the internet\, or make the most of your mobile devices and e-readers. \nClick here to learn more and register. \n 
URL:https://metroatlantaexchange.org/event/fulton-county-library-system-computer-class-2/2025-11-18/
LOCATION:Gladys S. Dennard Library\, 4055 Flat Shoals Road\, Union City\, GA\, 30291\, United States
CATEGORIES:Career Development,In-Person Event,Job Seeker
END:VEVENT
END:VCALENDAR