BEGIN:VCALENDAR
VERSION:2.0
PRODID:-//MAX - ECPv6.15.17.1//NONSGML v1.0//EN
CALSCALE:GREGORIAN
METHOD:PUBLISH
X-WR-CALNAME:MAX
X-ORIGINAL-URL:https://metroatlantaexchange.org
X-WR-CALDESC:Events for MAX
REFRESH-INTERVAL;VALUE=DURATION:PT1H
X-Robots-Tag:noindex
X-PUBLISHED-TTL:PT1H
BEGIN:VTIMEZONE
TZID:America/New_York
BEGIN:DAYLIGHT
TZOFFSETFROM:-0500
TZOFFSETTO:-0400
TZNAME:EDT
DTSTART:20240310T070000
END:DAYLIGHT
BEGIN:STANDARD
TZOFFSETFROM:-0400
TZOFFSETTO:-0500
TZNAME:EST
DTSTART:20241103T060000
END:STANDARD
BEGIN:DAYLIGHT
TZOFFSETFROM:-0500
TZOFFSETTO:-0400
TZNAME:EDT
DTSTART:20250309T070000
END:DAYLIGHT
BEGIN:STANDARD
TZOFFSETFROM:-0400
TZOFFSETTO:-0500
TZNAME:EST
DTSTART:20251102T060000
END:STANDARD
BEGIN:DAYLIGHT
TZOFFSETFROM:-0500
TZOFFSETTO:-0400
TZNAME:EDT
DTSTART:20260308T070000
END:DAYLIGHT
BEGIN:STANDARD
TZOFFSETFROM:-0400
TZOFFSETTO:-0500
TZNAME:EST
DTSTART:20261101T060000
END:STANDARD
END:VTIMEZONE
BEGIN:VEVENT
DTSTART;TZID=America/New_York:20251118T100000
DTEND;TZID=America/New_York:20251118T120000
DTSTAMP:20260422T212737
CREATED:20251108T203501Z
LAST-MODIFIED:20251108T203501Z
UID:10035432-1763460000-1763467200@metroatlantaexchange.org
SUMMARY:Goodwill of North Georgia: Career and Resource Fair
DESCRIPTION:Goodwill of North Georgia is hosting a Career and Resource Fair on Tuesday\, November 18th\, from 10:00 AM to 12:00 PM\, at the Woodstock Career Center. \nFor more information\, call 770-874-0901. \nClick here to learn more and register.
URL:https://metroatlantaexchange.org/event/goodwill-of-north-georgia-career-and-resource-fair/
LOCATION:Goodwill of North Georgia – Woodstock Career Center\, 9425 Highway 92\, Woodstock\, GA\, 30188\, United States
CATEGORIES:In-Person Event,Job Seeker
GEO:34.0872637;-84.5325399
X-APPLE-STRUCTURED-LOCATION;VALUE=URI;X-ADDRESS=Goodwill of North Georgia – Woodstock Career Center 9425 Highway 92 Woodstock GA 30188 United States;X-APPLE-RADIUS=500;X-TITLE=9425 Highway 92:geo:-84.5325399,34.0872637
END:VEVENT
BEGIN:VEVENT
DTSTART;TZID=America/New_York:20251118T100000
DTEND;TZID=America/New_York:20251118T120000
DTSTAMP:20260422T212737
CREATED:20251108T203618Z
LAST-MODIFIED:20251108T203649Z
UID:10035433-1763460000-1763467200@metroatlantaexchange.org
SUMMARY:Goodwill of North Georgia: Job and Resource Fair and Veteran Event
DESCRIPTION:Goodwill of North Georgia is hosting a Job and Resource Fair and Veteran Event on Tuesday\, November 18th\, from 10:00 AM to 12:00 PM\, at the Cartersville Career Center. \nFor more information\, call 770-276-7036. \nClick here to learn more and register.
URL:https://metroatlantaexchange.org/event/goodwill-of-north-georgia-2/
LOCATION:Goodwill of North Georgia – Cartersville Career Center\, 929 Joe Frank Harris Parkway\, Cartersville\, GA\, 30120\, United States
CATEGORIES:In-Person Event,Job Seeker
GEO:34.1974793;-84.7941559
X-APPLE-STRUCTURED-LOCATION;VALUE=URI;X-ADDRESS=Goodwill of North Georgia – Cartersville Career Center 929 Joe Frank Harris Parkway Cartersville GA 30120 United States;X-APPLE-RADIUS=500;X-TITLE=929 Joe Frank Harris Parkway:geo:-84.7941559,34.1974793
END:VEVENT
BEGIN:VEVENT
DTSTART;TZID=America/New_York:20251118T100000
DTEND;TZID=America/New_York:20251118T120000
DTSTAMP:20260422T212737
CREATED:20251108T203942Z
LAST-MODIFIED:20251108T203942Z
UID:10035435-1763460000-1763467200@metroatlantaexchange.org
SUMMARY:Goodwill of North Georgia: Multi-Employer Hiring Event
DESCRIPTION:Goodwill of North Georgia is hosting a Multi-Employer Hiring Event on Tuesday\, November 18th\, from 10:00 AM to 12:00 PM\, at the Rome Career Center. \nFor more information\, call 706-292-3304. \nClick here to learn more and register.
URL:https://metroatlantaexchange.org/event/goodwill-of-north-georgia-multi-employer-hiring-event-3/
LOCATION:Goodwill of North Georgia – Rome Career Center\, 154 Hicks Drive\, Rome\, 30161
CATEGORIES:In-Person Event,Job Seeker
END:VEVENT
BEGIN:VEVENT
DTSTART;TZID=America/New_York:20251118T100000
DTEND;TZID=America/New_York:20251118T130000
DTSTAMP:20260422T212737
CREATED:20251108T203825Z
LAST-MODIFIED:20251108T203825Z
UID:10035434-1763460000-1763470800@metroatlantaexchange.org
SUMMARY:Goodwill of North Georgia: Multi-Employer Career Job Fair
DESCRIPTION:Goodwill of North Georgia is hosting a Multi-Employer Career Job Fair on Tuesday\, November 18th\, from 10:00 AM to 1:00 PM\, at the Smyrna Career Center. \nFor more information\, call 678-766-8173. \nClick here to learn more and register.
URL:https://metroatlantaexchange.org/event/goodwill-of-north-georgia-multi-employer-career-job-fair/
LOCATION:Goodwill of North Georgia – Smyrna Career Center\, 3205 South Cobb Drive\, Smyrna\, GA\, 30080\, United States
CATEGORIES:In-Person Event,Job Seeker
GEO:33.8769374;-84.5289443
X-APPLE-STRUCTURED-LOCATION;VALUE=URI;X-ADDRESS=Goodwill of North Georgia – Smyrna Career Center 3205 South Cobb Drive Smyrna GA 30080 United States;X-APPLE-RADIUS=500;X-TITLE=3205 South Cobb Drive:geo:-84.5289443,33.8769374
END:VEVENT
BEGIN:VEVENT
DTSTART;TZID=America/New_York:20251118T100000
DTEND;TZID=America/New_York:20251118T130000
DTSTAMP:20260422T212737
CREATED:20251108T204102Z
LAST-MODIFIED:20251108T204102Z
UID:10035436-1763460000-1763470800@metroatlantaexchange.org
SUMMARY:Goodwill of North Georgia: Phillips State Prison Hiring Event
DESCRIPTION:Goodwill of North Georgia is hosting a Phillips State Prison Hiring Event on Tuesday\, November 18th\, from 10:00 AM to 1:00 PM\, at the South DeKalb Career Center. \nFor more information\, call 404-728-8605. \nClick here to learn more and register.
URL:https://metroatlantaexchange.org/event/goodwill-of-north-georgia-phillips-state-prison-hiring-event-6/
LOCATION:Goodwill of North Georgia – South DeKalb Career Center\, 1295 Columbia Drive\, Decatur\, GA\, 30032\, United States
CATEGORIES:In-Person Event,Job Seeker
GEO:33.7510576;-84.2656565
X-APPLE-STRUCTURED-LOCATION;VALUE=URI;X-ADDRESS=Goodwill of North Georgia – South DeKalb Career Center 1295 Columbia Drive Decatur GA 30032 United States;X-APPLE-RADIUS=500;X-TITLE=1295 Columbia Drive:geo:-84.2656565,33.7510576
END:VEVENT
BEGIN:VEVENT
DTSTART;TZID=America/New_York:20251118T100000
DTEND;TZID=America/New_York:20251118T130000
DTSTAMP:20260422T212737
CREATED:20251108T204213Z
LAST-MODIFIED:20251108T204213Z
UID:10035437-1763460000-1763470800@metroatlantaexchange.org
SUMMARY:Goodwill of North Georgia: Veterans Resource and Job Fair
DESCRIPTION:Goodwill of North Georgia is hosting Veterans Resource and Job Fair on Tuesday\, November 18th\, from 10:00 AM to 1:00 PM\, at the Cornelia Career Center. \nFor more information\, call 706-894-4905. \nClick here to learn more and register.
URL:https://metroatlantaexchange.org/event/goodwill-of-north-georgia-veterans-resource-and-job-fair/
LOCATION:Goodwill of North Georgia – Cornelia Career Center\, 308 Habersham Hills Circle\, Cornelia\, GA\, 30531\, United States
CATEGORIES:In-Person Event,Job Seeker
END:VEVENT
BEGIN:VEVENT
DTSTART;TZID=America/New_York:20251118T100000
DTEND;TZID=America/New_York:20251118T140000
DTSTAMP:20260422T212737
CREATED:20251109T005032Z
LAST-MODIFIED:20251109T005032Z
UID:10035499-1763460000-1763474400@metroatlantaexchange.org
SUMMARY:Atlanta WorkSource: Mobile Career Unit
DESCRIPTION:Atlanta WorkSource is hosting its Mobile Career Unit on Tuesday\, November 18th\, from 10:00 AM to 2:00 PM\, at the Sandy Springs Branch. \nWorkSource Fulton’s Mobile Career Unit is a fully equipped resource center on wheels\, designed to deliver essential career services directly to the community. During each visit\, individuals can access job search support\, resume assistance\, career counseling\, interview preparation tools\, connections to local employment opportunities and more. The mission of the Mobile Career Unit is to meet people where they are and provide the tools and guidance they need to take the next steps in their career journey. No appointments are necessary. The Mobile Career Unit will be in the Sandy Springs Library parking lot on the third Tuesday of each month. \nClick here to learn more.
URL:https://metroatlantaexchange.org/event/atlanta-worksource-mobile-career-unit/
LOCATION:Sandy Springs Library\, 395 Mount Vernon Highway\, NE\, Sandy Springs\, GA\, 30328\, United States
CATEGORIES:Career Development,In-Person Event,Job Seeker
END:VEVENT
BEGIN:VEVENT
DTSTART;TZID=America/New_York:20251118T100000
DTEND;TZID=America/New_York:20251118T140000
DTSTAMP:20260422T212737
CREATED:20251109T005221Z
LAST-MODIFIED:20251109T005221Z
UID:10035500-1763460000-1763474400@metroatlantaexchange.org
SUMMARY:Insight Global: Elevate - A Workforce Development Event
DESCRIPTION:Insight Global is hosting Elevate – A Workforce Development Event on Tuesday\, November 18th\, from 10:00 AM to 2:00 PM\, at the City of Refuge. \nGet ready to level up your career while you gain the tools and connections needed to succeed. Whether you’re a seasoned professional looking to sharpen your skills or just starting out in the workforce\, this event is for you. Offerings like resume/LinkedIn building\, professional headshots\, one-on-one career coaching\, interview prep\, networking opportunities and more will be available. Don’t miss this opportunity to elevate your career! \nClick here to learn more and register. Click here for a flyer.
URL:https://metroatlantaexchange.org/event/insight-global-elevate-a-workforce-development-event/
LOCATION:City of Refuge Workforce Innovation Hub\, 1300 Joseph E. Boone Blvd NW\, Atlanta\, GA\, 30314\, United States
CATEGORIES:Career Development,In-Person Event,Job Seeker
GEO:33.7623158;-84.4302296
X-APPLE-STRUCTURED-LOCATION;VALUE=URI;X-ADDRESS=City of Refuge Workforce Innovation Hub 1300 Joseph E. Boone Blvd NW Atlanta GA 30314 United States;X-APPLE-RADIUS=500;X-TITLE=1300 Joseph E. Boone Blvd NW:geo:-84.4302296,33.7623158
END:VEVENT
BEGIN:VEVENT
DTSTART;TZID=America/New_York:20251118T100000
DTEND;TZID=America/New_York:20251118T170000
DTSTAMP:20260422T212737
CREATED:20251108T204402Z
LAST-MODIFIED:20251108T204402Z
UID:10035438-1763460000-1763485200@metroatlantaexchange.org
SUMMARY:MEI Rigging and Crating: Atlanta Hiring Event
DESCRIPTION:MEI Rigging and Crating is hosting an Atlanta Hiring Event on Tuesday\, November 18th\, from 10:00 AM to 5:00 PM\, at MEI Rigging and Crating. \nMEI Rigging and Crating is seeking passionate\, motivated individuals to join the growing team. Whether you are experienced or just starting your career\, there are opportunities for you. Open roles include Project Manager\, Superintendent\, Rigger\, CDL Driver\, Millwright and Field Personnel. MEI Rigging and Crating offers competitive wages and benefits\, opportunities for growth and a collaborative and inclusive work environment. Stop by the event for an on-the-spot interview. Please bring a resume and a positive attitude. \nClick here to learn more and register.
URL:https://metroatlantaexchange.org/event/mei-rigging-and-crating-atlanta-hiring-event/
LOCATION:MEI Rigging and Crating\, 7924 Troon Circle\, Austell\, GA\, 30168\, United States
CATEGORIES:In-Person Event,Job Seeker
END:VEVENT
BEGIN:VEVENT
DTSTART;TZID=America/New_York:20251118T110000
DTEND;TZID=America/New_York:20251118T150000
DTSTAMP:20260422T212737
CREATED:20251108T204516Z
LAST-MODIFIED:20251108T204516Z
UID:10035439-1763463600-1763478000@metroatlantaexchange.org
SUMMARY:CareerEco: STEM Career and Graduate Virtual Fair
DESCRIPTION:CareerEco is hosting a STEM Career and Graduate Virtual Fair on Tuesday\, November 18th\, from 11:00 AM to 3:00 PM. \nCandidates interested in pursing a career or furthering their education in STEM are invited to attend this online event. \nClick here to learn more and register.
URL:https://metroatlantaexchange.org/event/careereco-stem-career-and-graduate-virtual-fair-2/
LOCATION:GA
CATEGORIES:Job Seeker,Student,Virtual Event
ORGANIZER;CN="CareerEco":MAILTO:Events@CareerEco.com
END:VEVENT
BEGIN:VEVENT
DTSTART;TZID=America/New_York:20251118T120000
DTEND;TZID=America/New_York:20251118T130000
DTSTAMP:20260422T212737
CREATED:20251109T005346Z
LAST-MODIFIED:20251109T005346Z
UID:10035501-1763467200-1763470800@metroatlantaexchange.org
SUMMARY:Innovation Women: Get More Speaking Opportunities
DESCRIPTION:Innovation Women is hosting a Get More Speaking Opportunities webinar on Tuesday\, November 18th\, starting at 12:00 PM. \nLooking to boost your business\, increase your visibility and get on more stages? Speaking is one of the most effective ways to share your expertise\, build credibility and attract new business and career opportunities — and we’re here to help you. Join this free session with Speaker Expert\, Bobbie Carlton\, and learn how to find and land speaking opportunities with Innovation Women. \nClick here to learn more and register.
URL:https://metroatlantaexchange.org/event/innovation-women-get-more-speaking-opportunities/
LOCATION:GA
CATEGORIES:Career Development,Job Seeker,Virtual Event
END:VEVENT
BEGIN:VEVENT
DTSTART;TZID=America/New_York:20251118T130000
DTEND;TZID=America/New_York:20251118T140000
DTSTAMP:20260422T212737
CREATED:20251109T005511Z
LAST-MODIFIED:20251109T005511Z
UID:10035502-1763470800-1763474400@metroatlantaexchange.org
SUMMARY:Job Search Academy: Ask a Career Strategist - Launching a New Career at Any Stage
DESCRIPTION:Job Search Academy is hosting an Ask a Career Strategist: Launching a New Career at Any Stage webinar on Tuesday\, November 18th\, starting at 1:00 PM. \nReady to make a professional pivot or start a career path that truly fits you? Join Indeed Career Strategist Matt Berndt and guest career coach Jeremy Schifeling\, Founder of Job Insiders\, for a live Q&A focused on successfully launching a new career at any stage of life. Whether you’re making a career change\, re-entering the workforce\, or simply exploring new industries\, you’ll learn how to translate your experience\, identify transferable skills\, and leverage your background to land the job you want. \nClick here to learn more and register.
URL:https://metroatlantaexchange.org/event/job-search-academy-ask-a-career-strategist-launching-a-new-career-at-any-stage/
LOCATION:GA
CATEGORIES:Career Development,Job Seeker,Virtual Event
END:VEVENT
BEGIN:VEVENT
DTSTART;TZID=America/New_York:20251118T140000
DTEND;TZID=America/New_York:20251118T150000
DTSTAMP:20260422T212737
CREATED:20251109T005635Z
LAST-MODIFIED:20251109T005635Z
UID:10035503-1763474400-1763478000@metroatlantaexchange.org
SUMMARY:RecruitMilitary: Understanding and Utilizing USAJobs
DESCRIPTION:RecruitMilitary is hosting a webinar on Understanding and Utilizing USAJobs on Tuesday\, November 18th\, from 2:00 PM to 3:00 PM. \nJoin RecruitMilitary’s Certified Federal Job Search Trainer® and Certified Federal Career Coach® to unpack the latest USAJobs updates. Learn how to identify keywords and core competencies in job postings\, and ensure your resume includes the right content to stand out in the federal hiring process. \nClick here to learn more and register.
URL:https://metroatlantaexchange.org/event/recruitmilitary-understanding-and-utilizing-usajobs/
LOCATION:GA
CATEGORIES:Career Development,Job Seeker,Veterans/Military,Virtual Event
END:VEVENT
BEGIN:VEVENT
DTSTART;TZID=America/New_York:20251118T140000
DTEND;TZID=America/New_York:20251118T180000
DTSTAMP:20260422T212737
CREATED:20251108T204644Z
LAST-MODIFIED:20251108T204644Z
UID:10035440-1763474400-1763488800@metroatlantaexchange.org
SUMMARY:Northeast Georgia Health System (NGHS): Virtual Nursing Recruiting Event
DESCRIPTION:The Northeast Georgia Health System (NGHS) is hosting a Virtual Nursing Recruiting Event on Tuesday\, November 18th\, from 2:00 PM to 6:00 PM. \nLooking for a meaningful opportunity for your next full-time\, part-time\, resource pool or night shift role? Join Northeast Georgia Health System (NGHS) — proudly recognized by Newsweek as one of America’s Greatest Workplaces — for this online event. Participants will get a chance to connect with recruiters and learn why NGHS is one of the best places to work in health care. Open roles include Registered Nurse positions in the Acute Care\, Intermediate Care\, Emergency and Resource Pool departments. Up to a $15\,000 sign-on bonus will be available for qualified full and part-time positions. \nClick here to learn more and register.
URL:https://metroatlantaexchange.org/event/northeast-georgia-health-system-nghs-virtual-nursing-recruiting-event/
LOCATION:GA
CATEGORIES:Job Seeker,Virtual Event
END:VEVENT
BEGIN:VEVENT
DTSTART;TZID=America/New_York:20251118T180000
DTEND;TZID=America/New_York:20251118T190000
DTSTAMP:20260422T212737
CREATED:20251108T235329Z
LAST-MODIFIED:20251202T150537Z
UID:10035478-1763488800-1763492400@metroatlantaexchange.org
SUMMARY:Fulton County Library System: Computer Class
DESCRIPTION:The Fulton County Library System is hosting a Computer Class every Tuesday\, from 6:00 PM to 7:00 PM\, at the Gladys S. Dennard Library. \nJoin an exciting session designed to boost your digital skills! Whether you’re looking to master your computer\, navigate the internet\, or make the most of your mobile devices and e-readers. \nClick here to learn more and register. \n 
URL:https://metroatlantaexchange.org/event/fulton-county-library-system-computer-class-2/2025-11-18/
LOCATION:Gladys S. Dennard Library\, 4055 Flat Shoals Road\, Union City\, GA\, 30291\, United States
CATEGORIES:Career Development,In-Person Event,Job Seeker
END:VEVENT
END:VCALENDAR