BEGIN:VCALENDAR
VERSION:2.0
PRODID:-//MAX - ECPv6.15.17.1//NONSGML v1.0//EN
CALSCALE:GREGORIAN
METHOD:PUBLISH
X-WR-CALNAME:MAX
X-ORIGINAL-URL:https://metroatlantaexchange.org
X-WR-CALDESC:Events for MAX
REFRESH-INTERVAL;VALUE=DURATION:PT1H
X-Robots-Tag:noindex
X-PUBLISHED-TTL:PT1H
BEGIN:VTIMEZONE
TZID:America/New_York
BEGIN:DAYLIGHT
TZOFFSETFROM:-0500
TZOFFSETTO:-0400
TZNAME:EDT
DTSTART:20240310T070000
END:DAYLIGHT
BEGIN:STANDARD
TZOFFSETFROM:-0400
TZOFFSETTO:-0500
TZNAME:EST
DTSTART:20241103T060000
END:STANDARD
BEGIN:DAYLIGHT
TZOFFSETFROM:-0500
TZOFFSETTO:-0400
TZNAME:EDT
DTSTART:20250309T070000
END:DAYLIGHT
BEGIN:STANDARD
TZOFFSETFROM:-0400
TZOFFSETTO:-0500
TZNAME:EST
DTSTART:20251102T060000
END:STANDARD
BEGIN:DAYLIGHT
TZOFFSETFROM:-0500
TZOFFSETTO:-0400
TZNAME:EDT
DTSTART:20260308T070000
END:DAYLIGHT
BEGIN:STANDARD
TZOFFSETFROM:-0400
TZOFFSETTO:-0500
TZNAME:EST
DTSTART:20261101T060000
END:STANDARD
END:VTIMEZONE
BEGIN:VEVENT
DTSTART;TZID=America/New_York:20251124T100000
DTEND;TZID=America/New_York:20251124T110000
DTSTAMP:20260422T174905
CREATED:20251109T011338Z
LAST-MODIFIED:20251109T011338Z
UID:10035511-1763978400-1763982000@metroatlantaexchange.org
SUMMARY:Jewish Family and Career Services: Virtual Interviewing Workshop
DESCRIPTION:Jewish Family and Career Services is hosting a Virtual Interviewing Workshop on Monday\, November 24th\, from 10:00 AM to 11:00 AM. \nLearn how to better prepare for an interview\, understand the different types of interviews and answer common interview questions. This workshop will address how to tackle difficult interviewing moments as well as help you gain strategies on the do’s and don’ts of salary negotiation. \nClick here to learn more and register.
URL:https://metroatlantaexchange.org/event/jewish-family-and-career-services-virtual-interviewing-workshop-4/
LOCATION:GA
CATEGORIES:Career Development,Job Seeker,Virtual Event
ORGANIZER;CN="Jewish Family and Career Services":MAILTO:info@jfcsatl.org
END:VEVENT
END:VCALENDAR