BEGIN:VCALENDAR
VERSION:2.0
PRODID:-//MAX - ECPv6.15.17.1//NONSGML v1.0//EN
CALSCALE:GREGORIAN
METHOD:PUBLISH
X-WR-CALNAME:MAX
X-ORIGINAL-URL:https://metroatlantaexchange.org
X-WR-CALDESC:Events for MAX
REFRESH-INTERVAL;VALUE=DURATION:PT1H
X-Robots-Tag:noindex
X-PUBLISHED-TTL:PT1H
BEGIN:VTIMEZONE
TZID:America/New_York
BEGIN:DAYLIGHT
TZOFFSETFROM:-0500
TZOFFSETTO:-0400
TZNAME:EDT
DTSTART:20240310T070000
END:DAYLIGHT
BEGIN:STANDARD
TZOFFSETFROM:-0400
TZOFFSETTO:-0500
TZNAME:EST
DTSTART:20241103T060000
END:STANDARD
BEGIN:DAYLIGHT
TZOFFSETFROM:-0500
TZOFFSETTO:-0400
TZNAME:EDT
DTSTART:20250309T070000
END:DAYLIGHT
BEGIN:STANDARD
TZOFFSETFROM:-0400
TZOFFSETTO:-0500
TZNAME:EST
DTSTART:20251102T060000
END:STANDARD
BEGIN:DAYLIGHT
TZOFFSETFROM:-0500
TZOFFSETTO:-0400
TZNAME:EDT
DTSTART:20260308T070000
END:DAYLIGHT
BEGIN:STANDARD
TZOFFSETFROM:-0400
TZOFFSETTO:-0500
TZNAME:EST
DTSTART:20261101T060000
END:STANDARD
END:VTIMEZONE
BEGIN:VEVENT
DTSTART;TZID=America/New_York:20251202T090000
DTEND;TZID=America/New_York:20251202T120000
DTSTAMP:20260422T180020
CREATED:20251108T220113Z
LAST-MODIFIED:20251108T220113Z
UID:10035459-1764666000-1764676800@metroatlantaexchange.org
SUMMARY:Cobb County School District: Support Staff Job Fair
DESCRIPTION:The Cobb County School District is hosting a Support Staff Job Fair on Tuesday\, December 2nd\, from 9:00 AM to 12:00 PM\, at the NorthStar Church. \nDon’t miss your chance to work for one of the Best Places to Work in Georgia for the last five years by Forbes Magazine. Available positions include Mechanic\, Maintenance\, Bus Driver\, Food and Nutrition Services\, Nurse\, Custodian\, General Education Paraprofessional\, Campus Police and more. \nClick here to apply prior to the event. \nClick here to learn more and register.
URL:https://metroatlantaexchange.org/event/cobb-county-school-district-support-staff-job-fair/
LOCATION:NorthStar Church\, 3413 Blue Springs Road\, Kennesaw\, Georgia\, 30144
CATEGORIES:In-Person Event,Job Seeker
END:VEVENT
BEGIN:VEVENT
DTSTART;TZID=America/New_York:20251202T100000
DTEND;TZID=America/New_York:20251202T120000
DTSTAMP:20260422T180020
CREATED:20251201T151831Z
LAST-MODIFIED:20251201T151831Z
UID:10035553-1764669600-1764676800@metroatlantaexchange.org
SUMMARY:Clifton School: Job Fair
DESCRIPTION:The Clifton School\, in Atlanta\, GA\, is hosting a Job Fair on Tuesday\, December 2nd\, from 10:00 AM to 12:00 PM\, at the Clifton School. \nAre you a passionate early childhood educator looking for a career with competitive pay\, great benefits\, and a chance to grow in a supportive\, play-based learning environment? Clifton School is seeking Lead Teachers\, Assistant Teachers and Floaters. During this event\, attendees will be able to tour the school\, meet with staff and see what makes Clifton School so special. A $250 sign-on bonus will be available after 90 days with another $250 after six months. \nClick here to learn more and register.
URL:https://metroatlantaexchange.org/event/clifton-school-job-fair/
LOCATION:Clifton School\, 1900 Starvine Way\, Atlanta\, GA\, 30322\, United States
CATEGORIES:In-Person Event,Job Seeker
END:VEVENT
BEGIN:VEVENT
DTSTART;TZID=America/New_York:20251202T100000
DTEND;TZID=America/New_York:20251202T120000
DTSTAMP:20260422T180020
CREATED:20251202T143938Z
LAST-MODIFIED:20251202T143938Z
UID:10035622-1764669600-1764676800@metroatlantaexchange.org
SUMMARY:Goodwill of North Georgia: Resume Workshop by Appointment
DESCRIPTION:Goodwill of North Georgia is hosting a Resume Workshop by Appointment every Tuesday\, from 10:00 AM to 12:00 PM\, at the Metropolitan Parkway Career Center. \nFor more information\, call 770-795-4204. \nClick here to learn more and register.
URL:https://metroatlantaexchange.org/event/goodwill-of-north-georgia-resume-workshop-by-appointment/2025-12-02/
LOCATION:Goodwill of North Georgia – Metropolitan Parkway Career Center\, 2160 Metropolitan Parkway\, Atlanta\, GA\, 30315\, United States
CATEGORIES:Career Development,In-Person Event,Job Seeker
END:VEVENT
BEGIN:VEVENT
DTSTART;TZID=America/New_York:20251202T100000
DTEND;TZID=America/New_York:20251202T140000
DTSTAMP:20260422T180020
CREATED:20251201T152025Z
LAST-MODIFIED:20251201T152025Z
UID:10035554-1764669600-1764684000@metroatlantaexchange.org
SUMMARY:Ōnin Staffing: Hiring Event
DESCRIPTION:Ōnin Staffing is hosting a Hiring Event on Tuesday\, December 2nd\, from 10:00 AM to 2:00 PM\, at Copeland. \nIf you’ve been looking for a place where your hard work is valued\, your growth matters\, and your future feels bright\, this is your moment to shine! This season\, Ōnin Staffing is hosting an exclusive onsite hiring event at Copeland\, the 100+ year global leader in climate technology. Open roles include Electrical Assemblers\, Quality Inspectors\, and Shipping and Receiving Specialists. Perks include 40 hours plus steady overtime offered\, a clean climate-controlled working environment\, career growth opportunities and more. This is the fastest way in 2025 to land a stable job with a company that actually invests in its people. \nClick here to learn more and register.
URL:https://metroatlantaexchange.org/event/onin-staffing-hiring-event/
LOCATION:Copeland\, 1065 Big Shanty Road\, Kennesaw\, GA\, 30144\, United States
CATEGORIES:In-Person Event,Job Seeker
END:VEVENT
BEGIN:VEVENT
DTSTART;TZID=America/New_York:20251202T110000
DTEND;TZID=America/New_York:20251202T120000
DTSTAMP:20260422T180020
CREATED:20251202T144720Z
LAST-MODIFIED:20251202T144720Z
UID:10035627-1764673200-1764676800@metroatlantaexchange.org
SUMMARY:Goodwill of North Georgia: Goodwill Training Program Information Session
DESCRIPTION:Goodwill of North Georgia is hosting a Goodwill Training Program Information Session every Tuesday\, from 11:00 AM to 12:00 PM\, at the Pleasant Hill Career Center. \nCall 770-564-2447 for more information. \nClick here to learn more and register.
URL:https://metroatlantaexchange.org/event/goodwill-of-north-georgia-goodwill-training-program-information-session-2/2025-12-02/
LOCATION:Goodwill of North Georgia – Pleasant Hill Career Center\, 1502 Pleasant Hill Road\, Duluth\, GA\, 30096\, United States
CATEGORIES:Career Development,In-Person Event,Job Seeker
GEO:33.9429794;-84.121643
X-APPLE-STRUCTURED-LOCATION;VALUE=URI;X-ADDRESS=Goodwill of North Georgia – Pleasant Hill Career Center 1502 Pleasant Hill Road Duluth GA 30096 United States;X-APPLE-RADIUS=500;X-TITLE=1502 Pleasant Hill Road:geo:-84.121643,33.9429794
END:VEVENT
BEGIN:VEVENT
DTSTART;TZID=America/New_York:20251202T130000
DTEND;TZID=America/New_York:20251202T150000
DTSTAMP:20260422T180020
CREATED:20251202T145527Z
LAST-MODIFIED:20251202T145527Z
UID:10035632-1764680400-1764687600@metroatlantaexchange.org
SUMMARY:Atlanta Center for Self Sufficiency (ACSS): Elevate: Get Started! Get Trained! Get Hired!
DESCRIPTION:The Atlanta Center for Self Sufficiency (ACSS) is hosting Elevate: Get Started! Get Trained! Get Hired! every Tuesday\, from 1:00 PM to 3:00 PM at Forest Park Elevate. \nElevate is a free\, comprehensive workforce development program supporting individuals experiencing homelessness\, unemployed or underemployed residents of Forest Park. This session will introduce you to the many services available\, including training\, career coaching\, and job placement\, with support every step of the way. \nClick here to learn more and register.
URL:https://metroatlantaexchange.org/event/atlanta-center-for-self-sufficiency-acss-elevate-get-started-get-trained-get-hired/2025-12-02/
LOCATION:Elevate – Forest Park Office\, 819 Forest Parkway\, Suite D\, Forest Park\, GA\, 30297\, United States
CATEGORIES:Career Development,In-Person Event,Job Seeker
END:VEVENT
BEGIN:VEVENT
DTSTART;TZID=America/New_York:20251202T140000
DTEND;TZID=America/New_York:20251202T150000
DTSTAMP:20260422T180020
CREATED:20251202T145946Z
LAST-MODIFIED:20251202T145946Z
UID:10035637-1764684000-1764687600@metroatlantaexchange.org
SUMMARY:Goodwill of North Georgia: Goodwill Training Program Information Session
DESCRIPTION:Goodwill of North Georgia is hosting a Goodwill Training Program Information Session every Tuesday\, from 2:00 PM to 3:00 PM\, at the Old National Career Center. \nFor more information\, call 678-554-0412. \nClick here to learn more and register.
URL:https://metroatlantaexchange.org/event/goodwill-of-north-georgia-goodwill-training-program-information-session-4/2025-12-02/
LOCATION:Goodwill of North Georgia – Old National Career Center\, 6175 Old National Highway\, Suite 120\, Atlanta\, GA\, 30349\, United States
CATEGORIES:Career Development,In-Person Event,Job Seeker
END:VEVENT
BEGIN:VEVENT
DTSTART;TZID=America/New_York:20251202T140000
DTEND;TZID=America/New_York:20251202T160000
DTSTAMP:20260422T180020
CREATED:20251202T150120Z
LAST-MODIFIED:20251202T150120Z
UID:10035642-1764684000-1764691200@metroatlantaexchange.org
SUMMARY:Goodwill of North Georgia: IBM Skills Build Technology Training
DESCRIPTION:Goodwill of North Georgia is hosting an IBM Skills Build Technology Training every Tuesday\, from 2:00 PM to 4:00 PM\, at the Woodstock Career Center. \nFor more information\, call 770-874-0901. \nClick here to learn more and register.
URL:https://metroatlantaexchange.org/event/goodwill-of-north-georgia-ibm-skills-build-technology-training/2025-12-02/
LOCATION:Goodwill of North Georgia – Woodstock Career Center\, 9425 Highway 92\, Woodstock\, GA\, 30188\, United States
CATEGORIES:Career Development,In-Person Event,Job Seeker
GEO:34.0872637;-84.5325399
X-APPLE-STRUCTURED-LOCATION;VALUE=URI;X-ADDRESS=Goodwill of North Georgia – Woodstock Career Center 9425 Highway 92 Woodstock GA 30188 United States;X-APPLE-RADIUS=500;X-TITLE=9425 Highway 92:geo:-84.5325399,34.0872637
END:VEVENT
END:VCALENDAR