BEGIN:VCALENDAR
VERSION:2.0
PRODID:-//MAX - ECPv6.15.17.1//NONSGML v1.0//EN
CALSCALE:GREGORIAN
METHOD:PUBLISH
X-WR-CALNAME:MAX
X-ORIGINAL-URL:https://metroatlantaexchange.org
X-WR-CALDESC:Events for MAX
REFRESH-INTERVAL;VALUE=DURATION:PT1H
X-Robots-Tag:noindex
X-PUBLISHED-TTL:PT1H
BEGIN:VTIMEZONE
TZID:America/New_York
BEGIN:DAYLIGHT
TZOFFSETFROM:-0500
TZOFFSETTO:-0400
TZNAME:EDT
DTSTART:20240310T070000
END:DAYLIGHT
BEGIN:STANDARD
TZOFFSETFROM:-0400
TZOFFSETTO:-0500
TZNAME:EST
DTSTART:20241103T060000
END:STANDARD
BEGIN:DAYLIGHT
TZOFFSETFROM:-0500
TZOFFSETTO:-0400
TZNAME:EDT
DTSTART:20250309T070000
END:DAYLIGHT
BEGIN:STANDARD
TZOFFSETFROM:-0400
TZOFFSETTO:-0500
TZNAME:EST
DTSTART:20251102T060000
END:STANDARD
BEGIN:DAYLIGHT
TZOFFSETFROM:-0500
TZOFFSETTO:-0400
TZNAME:EDT
DTSTART:20260308T070000
END:DAYLIGHT
BEGIN:STANDARD
TZOFFSETFROM:-0400
TZOFFSETTO:-0500
TZNAME:EST
DTSTART:20261101T060000
END:STANDARD
END:VTIMEZONE
BEGIN:VEVENT
DTSTART;TZID=America/New_York:20251203T090000
DTEND;TZID=America/New_York:20251203T100000
DTSTAMP:20260422T180037
CREATED:20250902T220734Z
LAST-MODIFIED:20250902T220734Z
UID:10035260-1764752400-1764756000@metroatlantaexchange.org
SUMMARY:Goodwill of North Georgia: NorthStar Testing Session
DESCRIPTION:Goodwill of North Georgia is hosting a NorthStar Testing Session every Wednesday\, from 9:00 AM to 10:00 AM\, at the Woodstock Career Center. \nFor more information\, call 770-874-0901. \nClick here to learn more and register.
URL:https://metroatlantaexchange.org/event/goodwill-of-north-georgia-northstar-testing-session/2025-12-03/
LOCATION:Goodwill of North Georgia – Woodstock Career Center\, 9425 Highway 92\, Woodstock\, GA\, 30188\, United States
CATEGORIES:Career Development,In-Person Event,Job Seeker
GEO:34.0872637;-84.5325399
X-APPLE-STRUCTURED-LOCATION;VALUE=URI;X-ADDRESS=Goodwill of North Georgia – Woodstock Career Center 9425 Highway 92 Woodstock GA 30188 United States;X-APPLE-RADIUS=500;X-TITLE=9425 Highway 92:geo:-84.5325399,34.0872637
END:VEVENT
BEGIN:VEVENT
DTSTART;TZID=America/New_York:20251203T100000
DTEND;TZID=America/New_York:20251203T130000
DTSTAMP:20260422T180037
CREATED:20251201T152224Z
LAST-MODIFIED:20251201T152224Z
UID:10035555-1764756000-1764766800@metroatlantaexchange.org
SUMMARY:Goodwill of North Georgia: Jolly Good Jobs Job and Resource Fair
DESCRIPTION:Goodwill of North Georgia is hosting a Jolly Good Jobs Job and Resource Fair on Wednesday\, December 3rd\, from 10:00 AM to 1:00 PM\, at the East Athens Career Center. \nFor more information\, call 706-395-1558. \nClick here to learn more and register.
URL:https://metroatlantaexchange.org/event/goodwill-of-north-georgia-jolly-good-jobs-job-and-resource-fair/
LOCATION:Goodwill of North Georgia – East Athens Career Center\, 4070 Lexington Road\, Athens\, GA\, 30605\, United States
CATEGORIES:In-Person Event,Job Seeker
END:VEVENT
BEGIN:VEVENT
DTSTART;TZID=America/New_York:20251203T100000
DTEND;TZID=America/New_York:20251203T130000
DTSTAMP:20260422T180037
CREATED:20251201T152359Z
LAST-MODIFIED:20251201T152359Z
UID:10035556-1764756000-1764766800@metroatlantaexchange.org
SUMMARY:Goodwill of North Georgia: Veterans Career and Resource Fair
DESCRIPTION:Goodwill of North Georgia is hosting a Veterans Career and Resource Fair on Wednesday\, December 3rd\, from 10:00 AM to 12:00 PM\, at the Sequoyah Library. \nFor more information\, call 770-874-0901. \nClick here to learn more and register.
URL:https://metroatlantaexchange.org/event/goodwill-of-north-georgia-veterans-career-and-resource-fair/
LOCATION:Sequoyah Library\, 7735 Main Street\, Woodstock\, GA\, 30188\, United States
CATEGORIES:In-Person Event,Job Seeker,Veterans/Military
END:VEVENT
BEGIN:VEVENT
DTSTART;TZID=America/New_York:20251203T100000
DTEND;TZID=America/New_York:20251203T140000
DTSTAMP:20260422T180037
CREATED:20251201T154017Z
LAST-MODIFIED:20251201T154017Z
UID:10035557-1764756000-1764770400@metroatlantaexchange.org
SUMMARY:Southern Regional Medical Center: Registered Nurse (RN) Hiring Event
DESCRIPTION:Southern Regional Medical Center is hosting a Registered Nurse (RN) Hiring Event on Wednesday\, December 3rd\, from 10:00 AM to 2:00 PM\, at the Southern Regional Medical Center. \nAre you a compassionate nurse? This exclusive hiring event will allow attendees to explore opportunities across all departments including Emergency Services\, Telemetry\, Cardiac Catheterization\, Surgery\, and more. Attendees will get the chance to learn about sign-on bonuses\, explore career advancement opportunities and meet the team. Bring your nursing credentials\, an updated resume and a positive\, team-oriented attitude ready to shine. \nClick here to learn more and register.
URL:https://metroatlantaexchange.org/event/southern-regional-medical-center-registered-nurse-rn-hiring-event/
LOCATION:Southern Regional Medical Center\, 11 Upper Riverdale Road\, SW\, Riverdale\, GA\, 30274\, United States
CATEGORIES:In-Person Event,Job Seeker
END:VEVENT
BEGIN:VEVENT
DTSTART;TZID=America/New_York:20251203T110000
DTEND;TZID=America/New_York:20251203T140000
DTSTAMP:20260422T180037
CREATED:20251201T154150Z
LAST-MODIFIED:20251201T154150Z
UID:10035558-1764759600-1764770400@metroatlantaexchange.org
SUMMARY:Best Hire: Atlanta Job Fair
DESCRIPTION:Best Hire is hosting an Atlanta Job Fair on Wednesday\, December 3rd\, from 11:00 AM to 2:00 PM\, at the Westin Peachtree Plaza. \nIf you’re looking for your next career move\, this Atlanta Job Fair offers valuable opportunities to help you achieve your goals. Highlights include meeting hiring managers\, on-the-spot interviews\, career support services\, diverse job opportunities and more. This premier hiring event is the perfect opportunity for job seekers to connect with top employers and take the next step in their careers. \nClick here to learn more and register.
URL:https://metroatlantaexchange.org/event/best-hire-atlanta-job-fair/
LOCATION:The Westin Peachtree Plaza Atlanta\, 210 Peachtree Street\, NW\, Atlanta\, GA\, 30303\, United States
CATEGORIES:In-Person Event,Job Seeker
GEO:33.7591658;-84.3880638
X-APPLE-STRUCTURED-LOCATION;VALUE=URI;X-ADDRESS=The Westin Peachtree Plaza Atlanta 210 Peachtree Street NW Atlanta GA 30303 United States;X-APPLE-RADIUS=500;X-TITLE=210 Peachtree Street\, NW:geo:-84.3880638,33.7591658
END:VEVENT
BEGIN:VEVENT
DTSTART;TZID=America/New_York:20251203T120000
DTEND;TZID=America/New_York:20251203T150000
DTSTAMP:20260422T180037
CREATED:20251201T154433Z
LAST-MODIFIED:20251201T154433Z
UID:10035559-1764763200-1764774000@metroatlantaexchange.org
SUMMARY:PruittHealth – West Atlanta:  Sweater Weather Walk-In Wednesdays: Cozy Up to a New Career
DESCRIPTION:PruittHealth – West Atlanta is hosting Sweater Weather Walk-In Wednesdays: Cozy Up to a New Career every Wednesday\, from 12:00 PM to 3:00 PM\, at PruiitHealth. \nJoin this exclusive hiring event tailored for healthcare professionals! Whether you’re a seasoned expert or a recent graduate\, we have exciting opportunities waiting for you. Open roles include Registered Nurses (RN)\, Licensed Practical Nurses (LPN)\, and Certified Nursing Assistants (CNA). During this event\, attendees will be able to meet with hiring managers\, participate in on-the-spot interviews\, and partake in networking opportunities about career advancement. \nClick here to learn more and register.
URL:https://metroatlantaexchange.org/event/pruitthealth-west-atlanta-sweater-weather-walk-in-wednesdays-cozy-up-to-a-new-career/2025-12-03/
LOCATION:PruittHealth – West Atlanta\, 2645 Whiting Street\, NW\, Atlanta\, GA\, 30318\, United States
CATEGORIES:In-Person Event,Job Seeker
END:VEVENT
BEGIN:VEVENT
DTSTART;TZID=America/New_York:20251203T140000
DTEND;TZID=America/New_York:20251203T160000
DTSTAMP:20260422T180037
CREATED:20251202T152829Z
LAST-MODIFIED:20251202T152829Z
UID:10035653-1764770400-1764777600@metroatlantaexchange.org
SUMMARY:Goodwill of North Georgia: Application Assistance Day
DESCRIPTION:Goodwill of North Georgia is hosting an in-person Application Assistance Day every Wednesday\, from 2:00 PM to 4:00 PM\, at the Oakwood Career Center. \nFor more information\, call 770-538-4209. \nClick here to learn more and register.
URL:https://metroatlantaexchange.org/event/goodwill-of-north-georgia-application-assistance-day-2/2025-12-03/
LOCATION:Goodwill of North Georgia – Oakwood Career Center\, 3715 Mundy Mill Road\, Oakwood\, GA\, 30566\, United States
CATEGORIES:Career Development,In-Person Event,Job Seeker
GEO:34.2290795;-83.8701636
X-APPLE-STRUCTURED-LOCATION;VALUE=URI;X-ADDRESS=Goodwill of North Georgia – Oakwood Career Center 3715 Mundy Mill Road Oakwood GA 30566 United States;X-APPLE-RADIUS=500;X-TITLE=3715 Mundy Mill Road:geo:-83.8701636,34.2290795
END:VEVENT
BEGIN:VEVENT
DTSTART;TZID=America/New_York:20251203T171500
DTEND;TZID=America/New_York:20251203T190000
DTSTAMP:20260422T180037
CREATED:20251201T154651Z
LAST-MODIFIED:20251201T154651Z
UID:10035562-1764782100-1764788400@metroatlantaexchange.org
SUMMARY:Georgia Driving Academy: Werner Truck Driver Recruiting Event
DESCRIPTION:The Georgia Driving Academy is hosting a Werner Truck Driver Recruiting Event on Wednesday\, December 3rd\, starting at 5:15 PM\, at the Conyers Campus. \nAttend a free\, no-obligation information session with a representative from Werner at our Conyers Campus. Learn more about our CDL training courses\, receive a campus tour\, and hear about the many job opportunities for recent graduates. Find out how Werner is ready to jump-start your new trucking career with on-the-job training and support. \nClick here to learn more and register.
URL:https://metroatlantaexchange.org/event/georgia-driving-academy-werner-truck-driver-recruiting-event-2/
LOCATION:Georgia Driving Academy\, 1035 Sigman Road\, NE\, Conyers\, GA\, 30012\, United States
CATEGORIES:In-Person Event,Job Seeker
END:VEVENT
END:VCALENDAR