BEGIN:VCALENDAR
VERSION:2.0
PRODID:-//MAX - ECPv6.15.17.1//NONSGML v1.0//EN
CALSCALE:GREGORIAN
METHOD:PUBLISH
X-ORIGINAL-URL:https://metroatlantaexchange.org
X-WR-CALDESC:Events for MAX
REFRESH-INTERVAL;VALUE=DURATION:PT1H
X-Robots-Tag:noindex
X-PUBLISHED-TTL:PT1H
BEGIN:VTIMEZONE
TZID:America/New_York
BEGIN:DAYLIGHT
TZOFFSETFROM:-0500
TZOFFSETTO:-0400
TZNAME:EDT
DTSTART:20240310T070000
END:DAYLIGHT
BEGIN:STANDARD
TZOFFSETFROM:-0400
TZOFFSETTO:-0500
TZNAME:EST
DTSTART:20241103T060000
END:STANDARD
BEGIN:DAYLIGHT
TZOFFSETFROM:-0500
TZOFFSETTO:-0400
TZNAME:EDT
DTSTART:20250309T070000
END:DAYLIGHT
BEGIN:STANDARD
TZOFFSETFROM:-0400
TZOFFSETTO:-0500
TZNAME:EST
DTSTART:20251102T060000
END:STANDARD
BEGIN:DAYLIGHT
TZOFFSETFROM:-0500
TZOFFSETTO:-0400
TZNAME:EDT
DTSTART:20260308T070000
END:DAYLIGHT
BEGIN:STANDARD
TZOFFSETFROM:-0400
TZOFFSETTO:-0500
TZNAME:EST
DTSTART:20261101T060000
END:STANDARD
END:VTIMEZONE
BEGIN:VEVENT
DTSTART;TZID=America/New_York:20251204T080000
DTEND;TZID=America/New_York:20251204T170000
DTSTAMP:20260422T180143
CREATED:20251202T153659Z
LAST-MODIFIED:20251202T153659Z
UID:10035664-1764835200-1764867600@metroatlantaexchange.org
SUMMARY:Goodwill of North Georgia: Resumes and Cover Letters Workshop
DESCRIPTION:Goodwill of North Georgia is hosting a Resumes and Cover Letters Workshop every Thursday\, from 12:00 PM to 1:00 PM\, at the Decatur Career Center. \nFor more information\, call 404-554-9600. \nClick here to learn more and register.
URL:https://metroatlantaexchange.org/event/goodwill-of-north-georgia-resumes-and-cover-letters-workshop/2025-12-04/1/
LOCATION:Goodwill of North Georgia – Decatur Career Center\, 2201 Lawrenceville Highway\, Suite 200\, Decatur\, GA\, 30033\, United States
CATEGORIES:Career Development,In-Person Event,Job Seeker
GEO:33.8114213;-84.2699313
X-APPLE-STRUCTURED-LOCATION;VALUE=URI;X-ADDRESS=Goodwill of North Georgia – Decatur Career Center 2201 Lawrenceville Highway Suite 200 Decatur GA 30033 United States;X-APPLE-RADIUS=500;X-TITLE=2201 Lawrenceville Highway\, Suite 200:geo:-84.2699313,33.8114213
END:VEVENT
BEGIN:VEVENT
DTSTART;TZID=America/New_York:20251204T100000
DTEND;TZID=America/New_York:20251204T130000
DTSTAMP:20260422T180143
CREATED:20251108T220539Z
LAST-MODIFIED:20251108T220539Z
UID:10035462-1764842400-1764853200@metroatlantaexchange.org
SUMMARY:Employment Seeker Publication: In-Person Job Fair
DESCRIPTION:Employment Seeker Publication is hosting an In-Person Job Fair on Thursday\, December 4th\, from 10:00 AM to 1:00 PM\, at the Hyatt Regency Suites Atlanta Northwest. \nGet ready to meet potential employers face-to-face\, network with industry professionals\, and discover exciting job opportunities at this unique event. Don’t miss this chance to make a great impression and land your dream job. Mark your calendar and come prepared with your resume and enthusiasm. \nClick here to learn more and register.
URL:https://metroatlantaexchange.org/event/employment-seeker-publication-in-person-job-fair/
LOCATION:Hyatt Regency Suites Atlanta Northwest\, 2999 Windy Hill Road\, SE\, Marietta\, GA\, 30067\, United States
CATEGORIES:In-Person Event,Job Seeker
GEO:33.9060918;-84.4662404
X-APPLE-STRUCTURED-LOCATION;VALUE=URI;X-ADDRESS=Hyatt Regency Suites Atlanta Northwest 2999 Windy Hill Road SE Marietta GA 30067 United States;X-APPLE-RADIUS=500;X-TITLE=2999 Windy Hill Road\, SE:geo:-84.4662404,33.9060918
END:VEVENT
BEGIN:VEVENT
DTSTART;TZID=America/New_York:20251204T100000
DTEND;TZID=America/New_York:20251204T150000
DTSTAMP:20260422T180143
CREATED:20251201T154823Z
LAST-MODIFIED:20251201T154823Z
UID:10035563-1764842400-1764860400@metroatlantaexchange.org
SUMMARY:Goodwill of North Georgia: Onin Staffing Hiring Event
DESCRIPTION:Goodwill of North Georgia is hosting an Onin Staffing Hiring Event on Thursday\, December 4th\, from 10:00 AM to 3:00 PM\, at the Woodstock Career Center. \nFor more information\, call 770-874-0901. \nClick here to learn more and register.
URL:https://metroatlantaexchange.org/event/goodwill-of-north-georgia-onin-staffing-hiring-event/
LOCATION:Goodwill of North Georgia – Woodstock Career Center\, 9425 Highway 92\, Woodstock\, GA\, 30188\, United States
CATEGORIES:In-Person Event,Job Seeker
GEO:34.0872637;-84.5325399
X-APPLE-STRUCTURED-LOCATION;VALUE=URI;X-ADDRESS=Goodwill of North Georgia – Woodstock Career Center 9425 Highway 92 Woodstock GA 30188 United States;X-APPLE-RADIUS=500;X-TITLE=9425 Highway 92:geo:-84.5325399,34.0872637
END:VEVENT
BEGIN:VEVENT
DTSTART;TZID=America/New_York:20251204T120000
DTEND;TZID=America/New_York:20251204T130000
DTSTAMP:20260422T180143
CREATED:20251202T153659Z
LAST-MODIFIED:20251202T153659Z
UID:10035665-1764849600-1764853200@metroatlantaexchange.org
SUMMARY:Goodwill of North Georgia: Resumes and Cover Letters Workshop
DESCRIPTION:Goodwill of North Georgia is hosting a Resumes and Cover Letters Workshop every Thursday\, from 12:00 PM to 1:00 PM\, at the Decatur Career Center. \nFor more information\, call 404-554-9600. \nClick here to learn more and register.
URL:https://metroatlantaexchange.org/event/goodwill-of-north-georgia-resumes-and-cover-letters-workshop/2025-12-04/2/
LOCATION:Goodwill of North Georgia – Decatur Career Center\, 2201 Lawrenceville Highway\, Suite 200\, Decatur\, GA\, 30033\, United States
CATEGORIES:Career Development,In-Person Event,Job Seeker
GEO:33.8114213;-84.2699313
X-APPLE-STRUCTURED-LOCATION;VALUE=URI;X-ADDRESS=Goodwill of North Georgia – Decatur Career Center 2201 Lawrenceville Highway Suite 200 Decatur GA 30033 United States;X-APPLE-RADIUS=500;X-TITLE=2201 Lawrenceville Highway\, Suite 200:geo:-84.2699313,33.8114213
END:VEVENT
BEGIN:VEVENT
DTSTART;TZID=America/New_York:20251204T130000
DTEND;TZID=America/New_York:20251204T170000
DTSTAMP:20260422T180143
CREATED:20251201T155010Z
LAST-MODIFIED:20251201T155010Z
UID:10035564-1764853200-1764867600@metroatlantaexchange.org
SUMMARY:Goodwill of North Georgia: Diversified/ SK Battery Open Interviews
DESCRIPTION:Goodwill of North Georgia is hosting Diversified/SK Battery Open Interviews every Thursday\, from 1:00 PM to 5:00 PM\, at the Cartersville Career Center. \nFor more information\, call 770-276-7036. \nClick here to learn more and register.
URL:https://metroatlantaexchange.org/event/goodwill-of-north-georgia-diversified-sk-battery-open-interviews-2/2025-12-04/
LOCATION:Goodwill of North Georgia – Cartersville Career Center\, 929 Joe Frank Harris Parkway\, Cartersville\, GA\, 30120\, United States
CATEGORIES:In-Person Event,Job Seeker
GEO:34.1974793;-84.7941559
X-APPLE-STRUCTURED-LOCATION;VALUE=URI;X-ADDRESS=Goodwill of North Georgia – Cartersville Career Center 929 Joe Frank Harris Parkway Cartersville GA 30120 United States;X-APPLE-RADIUS=500;X-TITLE=929 Joe Frank Harris Parkway:geo:-84.7941559,34.1974793
END:VEVENT
BEGIN:VEVENT
DTSTART;TZID=America/New_York:20251204T140000
DTEND;TZID=America/New_York:20251204T160000
DTSTAMP:20260422T180143
CREATED:20251201T155154Z
LAST-MODIFIED:20251201T155154Z
UID:10035569-1764856800-1764864000@metroatlantaexchange.org
SUMMARY:Goodwill of North Georgia: Spherion Hiring Event
DESCRIPTION:Goodwill of North Georgia is hosting a Spherion Hiring Event every Thursday\, from 2:00 PM to 4:00 PM\, at the Cornelia Career Center. \nFor more information\, call 706-894-4905. \nClick here to learn more and register.
URL:https://metroatlantaexchange.org/event/goodwill-of-north-georgia-spherion-hiring-event-6/2025-12-04/
LOCATION:Goodwill of North Georgia – Cornelia Career Center\, 308 Habersham Hills Circle\, Cornelia\, GA\, 30531\, United States
CATEGORIES:In-Person Event,Job Seeker
END:VEVENT
END:VCALENDAR