BEGIN:VCALENDAR
VERSION:2.0
PRODID:-//MAX - ECPv6.15.17.1//NONSGML v1.0//EN
CALSCALE:GREGORIAN
METHOD:PUBLISH
X-ORIGINAL-URL:https://metroatlantaexchange.org
X-WR-CALDESC:Events for MAX
REFRESH-INTERVAL;VALUE=DURATION:PT1H
X-Robots-Tag:noindex
X-PUBLISHED-TTL:PT1H
BEGIN:VTIMEZONE
TZID:America/New_York
BEGIN:DAYLIGHT
TZOFFSETFROM:-0500
TZOFFSETTO:-0400
TZNAME:EDT
DTSTART:20240310T070000
END:DAYLIGHT
BEGIN:STANDARD
TZOFFSETFROM:-0400
TZOFFSETTO:-0500
TZNAME:EST
DTSTART:20241103T060000
END:STANDARD
BEGIN:DAYLIGHT
TZOFFSETFROM:-0500
TZOFFSETTO:-0400
TZNAME:EDT
DTSTART:20250309T070000
END:DAYLIGHT
BEGIN:STANDARD
TZOFFSETFROM:-0400
TZOFFSETTO:-0500
TZNAME:EST
DTSTART:20251102T060000
END:STANDARD
BEGIN:DAYLIGHT
TZOFFSETFROM:-0500
TZOFFSETTO:-0400
TZNAME:EDT
DTSTART:20260308T070000
END:DAYLIGHT
BEGIN:STANDARD
TZOFFSETFROM:-0400
TZOFFSETTO:-0500
TZNAME:EST
DTSTART:20261101T060000
END:STANDARD
END:VTIMEZONE
BEGIN:VEVENT
DTSTART;TZID=America/New_York:20251209T130000
DTEND;TZID=America/New_York:20251209T140000
DTSTAMP:20260422T213958
CREATED:20251202T164555Z
LAST-MODIFIED:20251202T164555Z
UID:10035687-1765285200-1765288800@metroatlantaexchange.org
SUMMARY:U.S. Patent and Trademark Office (USPTO): Day in the Life of a USPTO Patent Examiner
DESCRIPTION:The U.S. Patent and Trademark Office (USPTO) is hosting a Day in the Life of a USPTO Patent Examiner webinar on Tuesday\, December 9th\, from 1:00 PM to 2:00 PM. \nDo you want a rewarding career? Do you want to use your STEM background to make an impact on the protection of intellectual property and bring ideas to market? Are you interested in public service while shaping the future of patent examination and advancing key processes? If you answered yes to any of these questions\, you may belong at the USPTO as a patent examiner! Don’t miss this event where you will have the opportunity to learn more about the USPTO and the patent examiner position\, meet with the team and learn how to apply. \nClick here to learn more and register.
URL:https://metroatlantaexchange.org/event/u-s-patent-and-trademark-office-uspto-day-in-the-life-of-a-uspto-patent-examiner/
LOCATION:GA
CATEGORIES:Career Development,Job Seeker,Virtual Event
END:VEVENT
BEGIN:VEVENT
DTSTART;TZID=America/New_York:20251209T160000
DTEND;TZID=America/New_York:20251209T173000
DTSTAMP:20260422T213958
CREATED:20251202T164709Z
LAST-MODIFIED:20251202T164709Z
UID:10035688-1765296000-1765301400@metroatlantaexchange.org
SUMMARY:Hiring Our Heroes: Exploring Careers in the Semiconductor Industry
DESCRIPTION:Hiring Our Heroes is hosting Exploring Careers in the Semiconductor Industry on Tuesday\, December 9th\, from 4:00 PM to 5:30 PM. \nDiscover how your military experience translates into high-demand careers in the semiconductor industry—including roles in engineering\, operations\, cybersecurity\, and more. The event kicks off with an industry employer panel discussing workforce needs\, hiring practices\, and career paths\, followed by breakout rooms for direct networking and deeper conversation with hiring teams. \nClick here to learn more and register via Zoom.
URL:https://metroatlantaexchange.org/event/hiring-our-heroes-exploring-careers-in-the-semiconductor-industry/
LOCATION:GA
CATEGORIES:Career Development,Job Seeker,Veterans/Military,Virtual Event
END:VEVENT
BEGIN:VEVENT
DTSTART;TZID=America/New_York:20251209T190000
DTEND;TZID=America/New_York:20251209T200000
DTSTAMP:20260422T213958
CREATED:20251202T164902Z
LAST-MODIFIED:20251202T164902Z
UID:10035689-1765306800-1765310400@metroatlantaexchange.org
SUMMARY:Hiring Our Heroes: SkillBridge Fellowships Information Session
DESCRIPTION:Hiring Our Heroes is hosting a SkillBridge Fellowships Information Session on Tuesday\, December 9th\, starting at 7:00 PM. \nHiring Our Heroes invites transitioning service members to learn more about SkillBridge fellowships\, which provide professional training and hands-on experience in the civilian workforce. These fellowships are designed to prepare you for a smooth transition into meaningful civilian careers. \nClick here to register via Zoom.
URL:https://metroatlantaexchange.org/event/hiring-our-heroes-skillbridge-fellowships-information-session-3/
LOCATION:GA
CATEGORIES:Career Development,Job Seeker,Veterans/Military,Virtual Event
END:VEVENT
END:VCALENDAR