BEGIN:VCALENDAR
VERSION:2.0
PRODID:-//MAX - ECPv6.15.17.1//NONSGML v1.0//EN
CALSCALE:GREGORIAN
METHOD:PUBLISH
X-WR-CALNAME:MAX
X-ORIGINAL-URL:https://metroatlantaexchange.org
X-WR-CALDESC:Events for MAX
REFRESH-INTERVAL;VALUE=DURATION:PT1H
X-Robots-Tag:noindex
X-PUBLISHED-TTL:PT1H
BEGIN:VTIMEZONE
TZID:America/New_York
BEGIN:DAYLIGHT
TZOFFSETFROM:-0500
TZOFFSETTO:-0400
TZNAME:EDT
DTSTART:20240310T070000
END:DAYLIGHT
BEGIN:STANDARD
TZOFFSETFROM:-0400
TZOFFSETTO:-0500
TZNAME:EST
DTSTART:20241103T060000
END:STANDARD
BEGIN:DAYLIGHT
TZOFFSETFROM:-0500
TZOFFSETTO:-0400
TZNAME:EDT
DTSTART:20250309T070000
END:DAYLIGHT
BEGIN:STANDARD
TZOFFSETFROM:-0400
TZOFFSETTO:-0500
TZNAME:EST
DTSTART:20251102T060000
END:STANDARD
BEGIN:DAYLIGHT
TZOFFSETFROM:-0500
TZOFFSETTO:-0400
TZNAME:EDT
DTSTART:20260308T070000
END:DAYLIGHT
BEGIN:STANDARD
TZOFFSETFROM:-0400
TZOFFSETTO:-0500
TZNAME:EST
DTSTART:20261101T060000
END:STANDARD
END:VTIMEZONE
BEGIN:VEVENT
DTSTART;TZID=America/New_York:20251210T090000
DTEND;TZID=America/New_York:20251210T100000
DTSTAMP:20260422T211828
CREATED:20250902T220734Z
LAST-MODIFIED:20250902T220734Z
UID:10035261-1765357200-1765360800@metroatlantaexchange.org
SUMMARY:Goodwill of North Georgia: NorthStar Testing Session
DESCRIPTION:Goodwill of North Georgia is hosting a NorthStar Testing Session every Wednesday\, from 9:00 AM to 10:00 AM\, at the Woodstock Career Center. \nFor more information\, call 770-874-0901. \nClick here to learn more and register.
URL:https://metroatlantaexchange.org/event/goodwill-of-north-georgia-northstar-testing-session/2025-12-10/
LOCATION:Goodwill of North Georgia – Woodstock Career Center\, 9425 Highway 92\, Woodstock\, GA\, 30188\, United States
CATEGORIES:Career Development,In-Person Event,Job Seeker
GEO:34.0872637;-84.5325399
X-APPLE-STRUCTURED-LOCATION;VALUE=URI;X-ADDRESS=Goodwill of North Georgia – Woodstock Career Center 9425 Highway 92 Woodstock GA 30188 United States;X-APPLE-RADIUS=500;X-TITLE=9425 Highway 92:geo:-84.5325399,34.0872637
END:VEVENT
BEGIN:VEVENT
DTSTART;TZID=America/New_York:20251210T090000
DTEND;TZID=America/New_York:20251210T100000
DTSTAMP:20260422T211828
CREATED:20251202T165050Z
LAST-MODIFIED:20251202T165050Z
UID:10035690-1765357200-1765360800@metroatlantaexchange.org
SUMMARY:Hiring Our Heroes: Virtual Amplify: Career Readiness and Hiring Event Preparation
DESCRIPTION:Hiring Our Heroes is hosting a Virtual Amplify: Career Readiness and Hiring Event Preparation on Wednesday\, December 10th\, from 9:00 AM to 10:00 AM. \nThis session is designed to support your career goals! Topics include professional branding\, resume support\, interview techniques\, and networking. Amplify attendees will leave the event feeling prepared and confident for the afternoon Virtual Hiring Fair. \nClick here to learn more and register.
URL:https://metroatlantaexchange.org/event/hiring-our-heroes-virtual-amplify-career-readiness-and-hiring-event-preparation-3/
LOCATION:GA
CATEGORIES:Career Development,Job Seeker,Veterans/Military,Virtual Event
END:VEVENT
BEGIN:VEVENT
DTSTART;TZID=America/New_York:20251210T140000
DTEND;TZID=America/New_York:20251210T160000
DTSTAMP:20260422T211828
CREATED:20251202T152829Z
LAST-MODIFIED:20251202T152829Z
UID:10035654-1765375200-1765382400@metroatlantaexchange.org
SUMMARY:Goodwill of North Georgia: Application Assistance Day
DESCRIPTION:Goodwill of North Georgia is hosting an in-person Application Assistance Day every Wednesday\, from 2:00 PM to 4:00 PM\, at the Oakwood Career Center. \nFor more information\, call 770-538-4209. \nClick here to learn more and register.
URL:https://metroatlantaexchange.org/event/goodwill-of-north-georgia-application-assistance-day-2/2025-12-10/
LOCATION:Goodwill of North Georgia – Oakwood Career Center\, 3715 Mundy Mill Road\, Oakwood\, GA\, 30566\, United States
CATEGORIES:Career Development,In-Person Event,Job Seeker
GEO:34.2290795;-83.8701636
X-APPLE-STRUCTURED-LOCATION;VALUE=URI;X-ADDRESS=Goodwill of North Georgia – Oakwood Career Center 3715 Mundy Mill Road Oakwood GA 30566 United States;X-APPLE-RADIUS=500;X-TITLE=3715 Mundy Mill Road:geo:-83.8701636,34.2290795
END:VEVENT
BEGIN:VEVENT
DTSTART;TZID=America/New_York:20251210T180000
DTEND;TZID=America/New_York:20251210T190000
DTSTAMP:20260422T211828
CREATED:20251202T165219Z
LAST-MODIFIED:20251202T165219Z
UID:10035691-1765389600-1765393200@metroatlantaexchange.org
SUMMARY:African American Women Trucking Association (AAWTA): AAWTA Membership Advantage Virtual Open House
DESCRIPTION:The African American Women Trucking Association (AAWTA) is hosting an AAWTA Membership Advantage Virtual Open House on Wednesday\, December 10th\, from 6:00 PM to 7:00 PM. \nReady to unlock everything your AAWTA membership has to offer? Join this event for an engaging virtual open house designed to help you fully understand\, maximize\, and experience the benefits of being part of the African American Women Trucking Association. Whether you’re a professional driver\, dispatcher\, student\, entrepreneur\, or industry professional\, this event will break down the tools\, perks\, and opportunities that come with membership—and how you can use them to grow\, connect\, and thrive. \nClick here to learn more and register.
URL:https://metroatlantaexchange.org/event/african-american-women-trucking-association-aawta-aawta-membership-advantage-virtual-open-house/
LOCATION:GA
CATEGORIES:Career Development,Job Seeker,Virtual Event
END:VEVENT
BEGIN:VEVENT
DTSTART;TZID=America/New_York:20251210T190000
DTEND;TZID=America/New_York:20251210T210000
DTSTAMP:20260422T211828
CREATED:20251202T151351Z
LAST-MODIFIED:20251202T151351Z
UID:10035648-1765393200-1765400400@metroatlantaexchange.org
SUMMARY:STEM Atlanta: Work-Ready Wednesdays
DESCRIPTION:STEM Atlanta\, in partnership with OneTen hosts Work-Ready Wednesdays every Wednesday\, starting at 12:00 PM and 7:00 PM. \nEvery Wednesday\, you will learn insights into the hidden job market\, build intergenerational wealth and leadership skills\, connect directly with OneTen coalition job opportunities and more. This isn’t just another career webinar — it’s your chance to gain the tools\, connections\, and confidence to step into the opportunities you deserve. \nClick here to learn more and register. \nClick here to register for access to hundreds of jobs.
URL:https://metroatlantaexchange.org/event/stem-atlanta-work-ready-wednesdays/2025-12-10/
LOCATION:GA
CATEGORIES:Career Development,Job Seeker,Virtual Event
END:VEVENT
END:VCALENDAR