BEGIN:VCALENDAR
VERSION:2.0
PRODID:-//MAX - ECPv6.15.17.1//NONSGML v1.0//EN
CALSCALE:GREGORIAN
METHOD:PUBLISH
X-WR-CALNAME:MAX
X-ORIGINAL-URL:https://metroatlantaexchange.org
X-WR-CALDESC:Events for MAX
REFRESH-INTERVAL;VALUE=DURATION:PT1H
X-Robots-Tag:noindex
X-PUBLISHED-TTL:PT1H
BEGIN:VTIMEZONE
TZID:America/New_York
BEGIN:DAYLIGHT
TZOFFSETFROM:-0500
TZOFFSETTO:-0400
TZNAME:EDT
DTSTART:20240310T070000
END:DAYLIGHT
BEGIN:STANDARD
TZOFFSETFROM:-0400
TZOFFSETTO:-0500
TZNAME:EST
DTSTART:20241103T060000
END:STANDARD
BEGIN:DAYLIGHT
TZOFFSETFROM:-0500
TZOFFSETTO:-0400
TZNAME:EDT
DTSTART:20250309T070000
END:DAYLIGHT
BEGIN:STANDARD
TZOFFSETFROM:-0400
TZOFFSETTO:-0500
TZNAME:EST
DTSTART:20251102T060000
END:STANDARD
BEGIN:DAYLIGHT
TZOFFSETFROM:-0500
TZOFFSETTO:-0400
TZNAME:EDT
DTSTART:20260308T070000
END:DAYLIGHT
BEGIN:STANDARD
TZOFFSETFROM:-0400
TZOFFSETTO:-0500
TZNAME:EST
DTSTART:20261101T060000
END:STANDARD
END:VTIMEZONE
BEGIN:VEVENT
DTSTART;TZID=America/New_York:20251210T090000
DTEND;TZID=America/New_York:20251210T100000
DTSTAMP:20260422T214106
CREATED:20250902T220734Z
LAST-MODIFIED:20250902T220734Z
UID:10035261-1765357200-1765360800@metroatlantaexchange.org
SUMMARY:Goodwill of North Georgia: NorthStar Testing Session
DESCRIPTION:Goodwill of North Georgia is hosting a NorthStar Testing Session every Wednesday\, from 9:00 AM to 10:00 AM\, at the Woodstock Career Center. \nFor more information\, call 770-874-0901. \nClick here to learn more and register.
URL:https://metroatlantaexchange.org/event/goodwill-of-north-georgia-northstar-testing-session/2025-12-10/
LOCATION:Goodwill of North Georgia – Woodstock Career Center\, 9425 Highway 92\, Woodstock\, GA\, 30188\, United States
CATEGORIES:Career Development,In-Person Event,Job Seeker
GEO:34.0872637;-84.5325399
X-APPLE-STRUCTURED-LOCATION;VALUE=URI;X-ADDRESS=Goodwill of North Georgia – Woodstock Career Center 9425 Highway 92 Woodstock GA 30188 United States;X-APPLE-RADIUS=500;X-TITLE=9425 Highway 92:geo:-84.5325399,34.0872637
END:VEVENT
BEGIN:VEVENT
DTSTART;TZID=America/New_York:20251210T090000
DTEND;TZID=America/New_York:20251210T120000
DTSTAMP:20260422T214106
CREATED:20251201T160519Z
LAST-MODIFIED:20251201T160519Z
UID:10035589-1765357200-1765368000@metroatlantaexchange.org
SUMMARY:Emory Healthcare: Registered Nurse (RN) Hiring Event
DESCRIPTION:Emory Healthcare is hosting a Registered Nurse (RN) Hiring Event on Wednesday\, December 10th\, from 9:00 AM to 12:00 PM\, at Morning by Morning Coffee. \nThis is your chance to discover opportunities to advance your career with a healthcare organization dedicated to providing innovative care to complex patients. Meet hiring managers from various departments\, including Critical Care\, Medical-Surgical\, Operating Room and more. \nClick here to learn more and register.
URL:https://metroatlantaexchange.org/event/emory-healthcare-registered-nurse-rn-hiring-event/
LOCATION:Morning by Morning Coffee\, 102 Main Street\, Perry\, GA\, 31069\, United States
CATEGORIES:In-Person Event,Job Seeker
END:VEVENT
BEGIN:VEVENT
DTSTART;TZID=America/New_York:20251210T100000
DTEND;TZID=America/New_York:20251210T130000
DTSTAMP:20260422T214106
CREATED:20251201T160634Z
LAST-MODIFIED:20251201T160634Z
UID:10035590-1765360800-1765371600@metroatlantaexchange.org
SUMMARY:Goodwill of North Georgia: Department of Corrections Hiring Event
DESCRIPTION:Goodwill of North Georgia is hosting a Department of Corrections Hiring Event on Wednesday\, December 10th\, from 10:00 AM to 1:00 PM\, at the Stockbridge Career Center. \nFor more information\, call 678-514-0670. \nClick here to learn more and register.
URL:https://metroatlantaexchange.org/event/goodwill-of-north-georgia-department-of-corrections-hiring-event-8/
LOCATION:GA
CATEGORIES:In-Person Event,Job Seeker
END:VEVENT
BEGIN:VEVENT
DTSTART;TZID=America/New_York:20251210T120000
DTEND;TZID=America/New_York:20251210T150000
DTSTAMP:20260422T214106
CREATED:20251201T154433Z
LAST-MODIFIED:20251201T154433Z
UID:10035560-1765368000-1765378800@metroatlantaexchange.org
SUMMARY:PruittHealth – West Atlanta:  Sweater Weather Walk-In Wednesdays: Cozy Up to a New Career
DESCRIPTION:PruittHealth – West Atlanta is hosting Sweater Weather Walk-In Wednesdays: Cozy Up to a New Career every Wednesday\, from 12:00 PM to 3:00 PM\, at PruiitHealth. \nJoin this exclusive hiring event tailored for healthcare professionals! Whether you’re a seasoned expert or a recent graduate\, we have exciting opportunities waiting for you. Open roles include Registered Nurses (RN)\, Licensed Practical Nurses (LPN)\, and Certified Nursing Assistants (CNA). During this event\, attendees will be able to meet with hiring managers\, participate in on-the-spot interviews\, and partake in networking opportunities about career advancement. \nClick here to learn more and register.
URL:https://metroatlantaexchange.org/event/pruitthealth-west-atlanta-sweater-weather-walk-in-wednesdays-cozy-up-to-a-new-career/2025-12-10/
LOCATION:PruittHealth – West Atlanta\, 2645 Whiting Street\, NW\, Atlanta\, GA\, 30318\, United States
CATEGORIES:In-Person Event,Job Seeker
END:VEVENT
BEGIN:VEVENT
DTSTART;TZID=America/New_York:20251210T140000
DTEND;TZID=America/New_York:20251210T160000
DTSTAMP:20260422T214106
CREATED:20251202T152829Z
LAST-MODIFIED:20251202T152829Z
UID:10035654-1765375200-1765382400@metroatlantaexchange.org
SUMMARY:Goodwill of North Georgia: Application Assistance Day
DESCRIPTION:Goodwill of North Georgia is hosting an in-person Application Assistance Day every Wednesday\, from 2:00 PM to 4:00 PM\, at the Oakwood Career Center. \nFor more information\, call 770-538-4209. \nClick here to learn more and register.
URL:https://metroatlantaexchange.org/event/goodwill-of-north-georgia-application-assistance-day-2/2025-12-10/
LOCATION:Goodwill of North Georgia – Oakwood Career Center\, 3715 Mundy Mill Road\, Oakwood\, GA\, 30566\, United States
CATEGORIES:Career Development,In-Person Event,Job Seeker
GEO:34.2290795;-83.8701636
X-APPLE-STRUCTURED-LOCATION;VALUE=URI;X-ADDRESS=Goodwill of North Georgia – Oakwood Career Center 3715 Mundy Mill Road Oakwood GA 30566 United States;X-APPLE-RADIUS=500;X-TITLE=3715 Mundy Mill Road:geo:-83.8701636,34.2290795
END:VEVENT
END:VCALENDAR