BEGIN:VCALENDAR
VERSION:2.0
PRODID:-//MAX - ECPv6.15.17.1//NONSGML v1.0//EN
CALSCALE:GREGORIAN
METHOD:PUBLISH
X-WR-CALNAME:MAX
X-ORIGINAL-URL:https://metroatlantaexchange.org
X-WR-CALDESC:Events for MAX
REFRESH-INTERVAL;VALUE=DURATION:PT1H
X-Robots-Tag:noindex
X-PUBLISHED-TTL:PT1H
BEGIN:VTIMEZONE
TZID:America/New_York
BEGIN:DAYLIGHT
TZOFFSETFROM:-0500
TZOFFSETTO:-0400
TZNAME:EDT
DTSTART:20240310T070000
END:DAYLIGHT
BEGIN:STANDARD
TZOFFSETFROM:-0400
TZOFFSETTO:-0500
TZNAME:EST
DTSTART:20241103T060000
END:STANDARD
BEGIN:DAYLIGHT
TZOFFSETFROM:-0500
TZOFFSETTO:-0400
TZNAME:EDT
DTSTART:20250309T070000
END:DAYLIGHT
BEGIN:STANDARD
TZOFFSETFROM:-0400
TZOFFSETTO:-0500
TZNAME:EST
DTSTART:20251102T060000
END:STANDARD
BEGIN:DAYLIGHT
TZOFFSETFROM:-0500
TZOFFSETTO:-0400
TZNAME:EDT
DTSTART:20260308T070000
END:DAYLIGHT
BEGIN:STANDARD
TZOFFSETFROM:-0400
TZOFFSETTO:-0500
TZNAME:EST
DTSTART:20261101T060000
END:STANDARD
END:VTIMEZONE
BEGIN:VEVENT
DTSTART;TZID=America/New_York:20251211T090000
DTEND;TZID=America/New_York:20251212T210000
DTSTAMP:20260422T212737
CREATED:20251201T161010Z
LAST-MODIFIED:20251201T161010Z
UID:10035592-1765443600-1765573200@metroatlantaexchange.org
SUMMARY:CareerTown: Welcome to the Maximus Virtual Open House Recruitment Event
DESCRIPTION:CareerTown is hosting a Welcome to the Maximus Virtual Open House Recruitment Event on Thursday\, December 11th and Friday\, December 12th\, from 9:00 AM to 9:00 PM. \nAs trusted partners\, Maximus elevates public service by empowering government agencies with advanced technology\, infrastructure\, and human-centric operational support. Maximus is seeking Customer Service Representatives who have basic computer skills and like working with people. While Maximus partners with governments to deliver essential services\, it’s the team that moves people and initiatives forward. \nClick here to learn more and register.
URL:https://metroatlantaexchange.org/event/careertown-welcome-to-the-maximus-virtual-open-house-recruitment-event/
LOCATION:GA
CATEGORIES:Job Seeker,Virtual Event
END:VEVENT
BEGIN:VEVENT
DTSTART;TZID=America/New_York:20251212T100000
DTEND;TZID=America/New_York:20251212T110000
DTSTAMP:20260422T212737
CREATED:20251202T170233Z
LAST-MODIFIED:20251202T170233Z
UID:10035698-1765533600-1765537200@metroatlantaexchange.org
SUMMARY:Goodwill of North Georgia: Resume Workshop
DESCRIPTION:Goodwill of North Georgia is hosting a Resume Workshop on Friday\, December 12th\, from 10:00 AM to 11:00 AM\, at the Woodstock Career Center. \nFor more information\, call 770-874-0901. \nClick here to learn more and register.
URL:https://metroatlantaexchange.org/event/goodwill-of-north-georgia-resume-workshop-4/
LOCATION:Goodwill of North Georgia – Woodstock Career Center\, 9425 Highway 92\, Woodstock\, GA\, 30188\, United States
CATEGORIES:Career Development,In-Person Event,Job Seeker
GEO:34.0872637;-84.5325399
X-APPLE-STRUCTURED-LOCATION;VALUE=URI;X-ADDRESS=Goodwill of North Georgia – Woodstock Career Center 9425 Highway 92 Woodstock GA 30188 United States;X-APPLE-RADIUS=500;X-TITLE=9425 Highway 92:geo:-84.5325399,34.0872637
END:VEVENT
BEGIN:VEVENT
DTSTART;TZID=America/New_York:20251212T100000
DTEND;TZID=America/New_York:20251212T120000
DTSTAMP:20260422T212737
CREATED:20251201T155353Z
LAST-MODIFIED:20251201T155353Z
UID:10035575-1765533600-1765540800@metroatlantaexchange.org
SUMMARY:Goodwill of North Georgia: Chase Staffing Open Position Interviews
DESCRIPTION:Goodwill of North Georgia is hosting Chase Staffing Open Position Interviews every Friday\, from 10:00 AM to 12:00 PM\, at the Cartersville Career Center. \nFor more information\, call 770-276-7036. \nClick here to learn more and register.
URL:https://metroatlantaexchange.org/event/goodwill-of-north-georgia-chase-staffing-open-position-interviews-2/2025-12-12/
LOCATION:Goodwill of North Georgia – Cartersville Career Center\, 929 Joe Frank Harris Parkway\, Cartersville\, GA\, 30120\, United States
CATEGORIES:In-Person Event,Job Seeker
GEO:34.1974793;-84.7941559
X-APPLE-STRUCTURED-LOCATION;VALUE=URI;X-ADDRESS=Goodwill of North Georgia – Cartersville Career Center 929 Joe Frank Harris Parkway Cartersville GA 30120 United States;X-APPLE-RADIUS=500;X-TITLE=929 Joe Frank Harris Parkway:geo:-84.7941559,34.1974793
END:VEVENT
BEGIN:VEVENT
DTSTART;TZID=America/New_York:20251212T110000
DTEND;TZID=America/New_York:20251212T133000
DTSTAMP:20260422T212737
CREATED:20251202T133553Z
LAST-MODIFIED:20251202T133553Z
UID:10035600-1765537200-1765546200@metroatlantaexchange.org
SUMMARY:Goodwill of North Georgia: Winter Workforce Wonderland: Career and Resource Fair
DESCRIPTION:Goodwill of North Georgia is hosting a Winter Workforce Wonderland: Career and Resource Fair on Friday\, December 12th\, from 11:00 AM to 1:30 PM\, at the Department of Labor. \nFor more information\, call 706-395-1558. \nClick here to learn more and register.
URL:https://metroatlantaexchange.org/event/goodwill-of-north-georgia-winter-workforce-wonderland-career-and-resource-fair/
LOCATION:Georgia Department of Labor Pulaski\, 355 Pulaski Street\, Pulaski\, GA\, 30601\, United States
CATEGORIES:In-Person Event,Job Seeker
END:VEVENT
BEGIN:VEVENT
DTSTART;TZID=America/New_York:20251212T110000
DTEND;TZID=America/New_York:20251212T140000
DTSTAMP:20260422T212737
CREATED:20251201T155556Z
LAST-MODIFIED:20251201T155556Z
UID:10035580-1765537200-1765548000@metroatlantaexchange.org
SUMMARY:Goodwill of North Georgia: Department of Corrections Hiring Event
DESCRIPTION:Goodwill of North Georgia is hosting a Department of Corrections Hiring Event every Friday\, from 11:00 AM to 2:00 PM\, at the Stockbridge Career Center. \nFor more information\, call 678-514-0670. \nClick here to learn more and register.
URL:https://metroatlantaexchange.org/event/goodwill-of-north-georgia-department-of-corrections-hiring-event-7/2025-12-12/
LOCATION:GA
CATEGORIES:In-Person Event,Job Seeker
END:VEVENT
BEGIN:VEVENT
DTSTART;TZID=America/New_York:20251212T110000
DTEND;TZID=America/New_York:20251212T140000
DTSTAMP:20260422T212737
CREATED:20251201T162258Z
LAST-MODIFIED:20251201T162258Z
UID:10035599-1765537200-1765548000@metroatlantaexchange.org
SUMMARY:Agape Hospice: Hiring Event
DESCRIPTION:Agape Hospice\, a Three Oaks Hospice company is hosting a Hiring Event on Friday\, December 12th\, from 11:00 AM to 2:00 PM\, at Starbucks. \nAgape Hospice is seeking Registered Nurses (RN)\, Licensed Practical Nurses (LPN)\, and Certified Nursing Assistants (CNA) interested in serving patients in the Atlanta area. Fulfill your calling by joining a team of amazing colleagues connected by a shared passion and purpose. Perks include competitive salaries\, with mileage\, outstanding benefits and matching 401(k). Please bring a resume so you can connect with leaders and discover your next career move. \nClick here to learn more and register.
URL:https://metroatlantaexchange.org/event/agape-hospice-hiring-event/
LOCATION:Starbucks\, 1861 Peachtree Road\, NE\, Atlanta\, GA\, 30309\, United States
CATEGORIES:In-Person Event,Job Seeker
END:VEVENT
END:VCALENDAR