BEGIN:VCALENDAR
VERSION:2.0
PRODID:-//MAX - ECPv6.15.17.1//NONSGML v1.0//EN
CALSCALE:GREGORIAN
METHOD:PUBLISH
X-WR-CALNAME:MAX
X-ORIGINAL-URL:https://metroatlantaexchange.org
X-WR-CALDESC:Events for MAX
REFRESH-INTERVAL;VALUE=DURATION:PT1H
X-Robots-Tag:noindex
X-PUBLISHED-TTL:PT1H
BEGIN:VTIMEZONE
TZID:America/New_York
BEGIN:DAYLIGHT
TZOFFSETFROM:-0500
TZOFFSETTO:-0400
TZNAME:EDT
DTSTART:20240310T070000
END:DAYLIGHT
BEGIN:STANDARD
TZOFFSETFROM:-0400
TZOFFSETTO:-0500
TZNAME:EST
DTSTART:20241103T060000
END:STANDARD
BEGIN:DAYLIGHT
TZOFFSETFROM:-0500
TZOFFSETTO:-0400
TZNAME:EDT
DTSTART:20250309T070000
END:DAYLIGHT
BEGIN:STANDARD
TZOFFSETFROM:-0400
TZOFFSETTO:-0500
TZNAME:EST
DTSTART:20251102T060000
END:STANDARD
BEGIN:DAYLIGHT
TZOFFSETFROM:-0500
TZOFFSETTO:-0400
TZNAME:EDT
DTSTART:20260308T070000
END:DAYLIGHT
BEGIN:STANDARD
TZOFFSETFROM:-0400
TZOFFSETTO:-0500
TZNAME:EST
DTSTART:20261101T060000
END:STANDARD
END:VTIMEZONE
BEGIN:VEVENT
DTSTART;TZID=America/New_York:20251211T090000
DTEND;TZID=America/New_York:20251212T210000
DTSTAMP:20260422T211835
CREATED:20251201T161010Z
LAST-MODIFIED:20251201T161010Z
UID:10035592-1765443600-1765573200@metroatlantaexchange.org
SUMMARY:CareerTown: Welcome to the Maximus Virtual Open House Recruitment Event
DESCRIPTION:CareerTown is hosting a Welcome to the Maximus Virtual Open House Recruitment Event on Thursday\, December 11th and Friday\, December 12th\, from 9:00 AM to 9:00 PM. \nAs trusted partners\, Maximus elevates public service by empowering government agencies with advanced technology\, infrastructure\, and human-centric operational support. Maximus is seeking Customer Service Representatives who have basic computer skills and like working with people. While Maximus partners with governments to deliver essential services\, it’s the team that moves people and initiatives forward. \nClick here to learn more and register.
URL:https://metroatlantaexchange.org/event/careertown-welcome-to-the-maximus-virtual-open-house-recruitment-event/
LOCATION:GA
CATEGORIES:Job Seeker,Virtual Event
END:VEVENT
END:VCALENDAR