BEGIN:VCALENDAR
VERSION:2.0
PRODID:-//MAX - ECPv6.15.17.1//NONSGML v1.0//EN
CALSCALE:GREGORIAN
METHOD:PUBLISH
X-ORIGINAL-URL:https://metroatlantaexchange.org
X-WR-CALDESC:Events for MAX
REFRESH-INTERVAL;VALUE=DURATION:PT1H
X-Robots-Tag:noindex
X-PUBLISHED-TTL:PT1H
BEGIN:VTIMEZONE
TZID:America/New_York
BEGIN:DAYLIGHT
TZOFFSETFROM:-0500
TZOFFSETTO:-0400
TZNAME:EDT
DTSTART:20240310T070000
END:DAYLIGHT
BEGIN:STANDARD
TZOFFSETFROM:-0400
TZOFFSETTO:-0500
TZNAME:EST
DTSTART:20241103T060000
END:STANDARD
BEGIN:DAYLIGHT
TZOFFSETFROM:-0500
TZOFFSETTO:-0400
TZNAME:EDT
DTSTART:20250309T070000
END:DAYLIGHT
BEGIN:STANDARD
TZOFFSETFROM:-0400
TZOFFSETTO:-0500
TZNAME:EST
DTSTART:20251102T060000
END:STANDARD
BEGIN:DAYLIGHT
TZOFFSETFROM:-0500
TZOFFSETTO:-0400
TZNAME:EDT
DTSTART:20260308T070000
END:DAYLIGHT
BEGIN:STANDARD
TZOFFSETFROM:-0400
TZOFFSETTO:-0500
TZNAME:EST
DTSTART:20261101T060000
END:STANDARD
END:VTIMEZONE
BEGIN:VEVENT
DTSTART;TZID=America/New_York:20251215T090000
DTEND;TZID=America/New_York:20251215T170000
DTSTAMP:20260422T194851
CREATED:20251202T133728Z
LAST-MODIFIED:20251202T133728Z
UID:10035601-1765789200-1765818000@metroatlantaexchange.org
SUMMARY:Georgia Vocational Solutions (GVS): Come Grow With Us Hiring Event
DESCRIPTION:Georgia Vocational Solutions (GVS) is hosting a Come Grow With Us Hiring Event on Monday\, December 15th\, from 9:00 AM to 5:00 PM\, at Georgia Vocational Solutions. \nCome grow with GVS and participate in on-the-spot Landscaper interviews. Pay starts at $18+ per hour. No background check required – fresh starts are welcome. \nClick here to learn more and register.
URL:https://metroatlantaexchange.org/event/georgia-vocational-solutions-gvs-come-grow-with-us-hiring-event/
LOCATION:Georgia Vocational Solutions\, 1800 Phoenix Boulevard\, Suite 126-16\, College Park\, GA\, 30349\, United States
CATEGORIES:In-Person Event,Job Seeker
ORGANIZER;CN="Georgia Vocational Solutions":MAILTO:info@mygvs.org
END:VEVENT
BEGIN:VEVENT
DTSTART;TZID=America/New_York:20251215T100000
DTEND;TZID=America/New_York:20251215T110000
DTSTAMP:20260422T194851
CREATED:20251202T170341Z
LAST-MODIFIED:20251202T170341Z
UID:10035699-1765792800-1765796400@metroatlantaexchange.org
SUMMARY:Goodwill of North Georgia: Basic Computer Skills Class
DESCRIPTION:Goodwill of North Georgia is hosting a Basic Computer Skills Class on Monday\, December 15th\, from 10:00 AM to 11:00 AM\, at the Metropolitan Parkway Career Center. \nFor more information\, call 770-795-4204. \nClick here to learn more and register.
URL:https://metroatlantaexchange.org/event/goodwill-of-north-georgia-basic-computer-skills-class-4/
LOCATION:Goodwill of North Georgia – Metropolitan Parkway Career Center\, 2160 Metropolitan Parkway\, Atlanta\, GA\, 30315\, United States
CATEGORIES:Career Development,In-Person Event,Job Seeker
END:VEVENT
BEGIN:VEVENT
DTSTART;TZID=America/New_York:20251215T120000
DTEND;TZID=America/New_York:20251215T170000
DTSTAMP:20260422T194851
CREATED:20251201T151605Z
LAST-MODIFIED:20251201T151605Z
UID:10035549-1765800000-1765818000@metroatlantaexchange.org
SUMMARY:Goodwill of North Georgia: Ingles Open Interviews
DESCRIPTION:Goodwill of North Georgia is hosting Ingles Open Interviews every Monday\, from 12:00 PM to 5:00 PM\, at the Cornelia Career Center. \nFor more information\, call 706-894-4905. \nClick here to learn more and register.
URL:https://metroatlantaexchange.org/event/goodwill-of-north-georgia-ingles-open-interviews-2/2025-12-15/
LOCATION:Goodwill of North Georgia – Cornelia Career Center\, 308 Habersham Hills Circle\, Cornelia\, GA\, 30531\, United States
CATEGORIES:In-Person Event,Job Seeker
END:VEVENT
END:VCALENDAR