BEGIN:VCALENDAR
VERSION:2.0
PRODID:-//MAX - ECPv6.15.17.1//NONSGML v1.0//EN
CALSCALE:GREGORIAN
METHOD:PUBLISH
X-ORIGINAL-URL:https://metroatlantaexchange.org
X-WR-CALDESC:Events for MAX
REFRESH-INTERVAL;VALUE=DURATION:PT1H
X-Robots-Tag:noindex
X-PUBLISHED-TTL:PT1H
BEGIN:VTIMEZONE
TZID:America/New_York
BEGIN:DAYLIGHT
TZOFFSETFROM:-0500
TZOFFSETTO:-0400
TZNAME:EDT
DTSTART:20240310T070000
END:DAYLIGHT
BEGIN:STANDARD
TZOFFSETFROM:-0400
TZOFFSETTO:-0500
TZNAME:EST
DTSTART:20241103T060000
END:STANDARD
BEGIN:DAYLIGHT
TZOFFSETFROM:-0500
TZOFFSETTO:-0400
TZNAME:EDT
DTSTART:20250309T070000
END:DAYLIGHT
BEGIN:STANDARD
TZOFFSETFROM:-0400
TZOFFSETTO:-0500
TZNAME:EST
DTSTART:20251102T060000
END:STANDARD
BEGIN:DAYLIGHT
TZOFFSETFROM:-0500
TZOFFSETTO:-0400
TZNAME:EDT
DTSTART:20260308T070000
END:DAYLIGHT
BEGIN:STANDARD
TZOFFSETFROM:-0400
TZOFFSETTO:-0500
TZNAME:EST
DTSTART:20261101T060000
END:STANDARD
END:VTIMEZONE
BEGIN:VEVENT
DTSTART;TZID=America/New_York:20251216T100000
DTEND;TZID=America/New_York:20251216T120000
DTSTAMP:20260422T213834
CREATED:20251202T143938Z
LAST-MODIFIED:20251202T143938Z
UID:10035624-1765879200-1765886400@metroatlantaexchange.org
SUMMARY:Goodwill of North Georgia: Resume Workshop by Appointment
DESCRIPTION:Goodwill of North Georgia is hosting a Resume Workshop by Appointment every Tuesday\, from 10:00 AM to 12:00 PM\, at the Metropolitan Parkway Career Center. \nFor more information\, call 770-795-4204. \nClick here to learn more and register.
URL:https://metroatlantaexchange.org/event/goodwill-of-north-georgia-resume-workshop-by-appointment/2025-12-16/
LOCATION:Goodwill of North Georgia – Metropolitan Parkway Career Center\, 2160 Metropolitan Parkway\, Atlanta\, GA\, 30315\, United States
CATEGORIES:Career Development,In-Person Event,Job Seeker
END:VEVENT
BEGIN:VEVENT
DTSTART;TZID=America/New_York:20251216T100000
DTEND;TZID=America/New_York:20251216T130000
DTSTAMP:20260422T213834
CREATED:20251202T133842Z
LAST-MODIFIED:20251202T133842Z
UID:10035602-1765879200-1765890000@metroatlantaexchange.org
SUMMARY:Goodwill of North Georgia: Skilled Warehouse Job Fair
DESCRIPTION:Goodwill of North Georgia is hosting a Skilled Warehouse Job Fair on Tuesday\, December 16th\, from 10:00 AM to 1:00 PM\, at the Stockbridge Career Center. \nFor more information\, call 678-514-0670. \nClick here to learn more and register.
URL:https://metroatlantaexchange.org/event/goodwill-of-north-georgia-skilled-warehouse-job-fair/
LOCATION:GA
CATEGORIES:In-Person Event,Job Seeker
END:VEVENT
BEGIN:VEVENT
DTSTART;TZID=America/New_York:20251216T110000
DTEND;TZID=America/New_York:20251216T120000
DTSTAMP:20260422T213834
CREATED:20251202T144720Z
LAST-MODIFIED:20251202T144720Z
UID:10035629-1765882800-1765886400@metroatlantaexchange.org
SUMMARY:Goodwill of North Georgia: Goodwill Training Program Information Session
DESCRIPTION:Goodwill of North Georgia is hosting a Goodwill Training Program Information Session every Tuesday\, from 11:00 AM to 12:00 PM\, at the Pleasant Hill Career Center. \nCall 770-564-2447 for more information. \nClick here to learn more and register.
URL:https://metroatlantaexchange.org/event/goodwill-of-north-georgia-goodwill-training-program-information-session-2/2025-12-16/
LOCATION:Goodwill of North Georgia – Pleasant Hill Career Center\, 1502 Pleasant Hill Road\, Duluth\, GA\, 30096\, United States
CATEGORIES:Career Development,In-Person Event,Job Seeker
GEO:33.9429794;-84.121643
X-APPLE-STRUCTURED-LOCATION;VALUE=URI;X-ADDRESS=Goodwill of North Georgia – Pleasant Hill Career Center 1502 Pleasant Hill Road Duluth GA 30096 United States;X-APPLE-RADIUS=500;X-TITLE=1502 Pleasant Hill Road:geo:-84.121643,33.9429794
END:VEVENT
BEGIN:VEVENT
DTSTART;TZID=America/New_York:20251216T110000
DTEND;TZID=America/New_York:20251216T140000
DTSTAMP:20260422T213834
CREATED:20251202T134645Z
LAST-MODIFIED:20251202T134645Z
UID:10035604-1765882800-1765893600@metroatlantaexchange.org
SUMMARY:Goodwill of North Georgia: Off-Site Job Fair
DESCRIPTION:Goodwill of North Georgia is hosting an Off-Site Job Fair on Tuesday\, December 16th\, from 11:00 AM to 2:00 PM\, at the Commerce Public Library. \nFor more information\, call 706-894-4905. \nClick here to learn more and register.
URL:https://metroatlantaexchange.org/event/goodwill-of-north-georgia-off-site-job-fair-2/
LOCATION:Commerce Public Library\, 344 South Broad Street\, Commerce\, GA\, 30529\, United States
CATEGORIES:In-Person Event,Job Seeker
END:VEVENT
BEGIN:VEVENT
DTSTART;TZID=America/New_York:20251216T110000
DTEND;TZID=America/New_York:20251216T140000
DTSTAMP:20260422T213834
CREATED:20251202T134748Z
LAST-MODIFIED:20251202T134748Z
UID:10035605-1765882800-1765893600@metroatlantaexchange.org
SUMMARY:Goodwill of North Georgia: Phillips State Prison Hiring Event
DESCRIPTION:Goodwill of North Georgia is hosting a Phillips State Prison Hiring Event on Tuesday\, December 16th\, from 11:00 AM to 2:00 PM\, at the South DeKalb Career Center. \nFor more information\, call 404-728-8605. \nClick here to learn more and register.
URL:https://metroatlantaexchange.org/event/goodwill-of-north-georgia-phillips-state-prison-hiring-event-9/
LOCATION:Goodwill of North Georgia – South DeKalb Career Center\, 1295 Columbia Drive\, Decatur\, GA\, 30032\, United States
CATEGORIES:In-Person Event,Job Seeker
GEO:33.7510576;-84.2656565
X-APPLE-STRUCTURED-LOCATION;VALUE=URI;X-ADDRESS=Goodwill of North Georgia – South DeKalb Career Center 1295 Columbia Drive Decatur GA 30032 United States;X-APPLE-RADIUS=500;X-TITLE=1295 Columbia Drive:geo:-84.2656565,33.7510576
END:VEVENT
BEGIN:VEVENT
DTSTART;TZID=America/New_York:20251216T110000
DTEND;TZID=America/New_York:20251216T150000
DTSTAMP:20260422T213834
CREATED:20251202T134450Z
LAST-MODIFIED:20251202T134450Z
UID:10035603-1765882800-1765897200@metroatlantaexchange.org
SUMMARY:CareerEco: Healthcare Virtual Career and Grad School Fair
DESCRIPTION:CareerEco is hosting a Healthcare Virtual Career and Grad School Fair on Tuesday\, December 16th\, from 11:00 AM to 3:00 PM. \nThis free event is intended for jobseekers and is open to diverse healthcare students\, alumni and professionals. \nClick here to learn more and register.
URL:https://metroatlantaexchange.org/event/careereco-healthcare-virtual-career-and-grad-school-fair/
LOCATION:GA
CATEGORIES:Job Seeker,Virtual Event
ORGANIZER;CN="CareerEco":MAILTO:Events@CareerEco.com
END:VEVENT
BEGIN:VEVENT
DTSTART;TZID=America/New_York:20251216T130000
DTEND;TZID=America/New_York:20251216T150000
DTSTAMP:20260422T213834
CREATED:20251202T145527Z
LAST-MODIFIED:20251202T145527Z
UID:10035634-1765890000-1765897200@metroatlantaexchange.org
SUMMARY:Atlanta Center for Self Sufficiency (ACSS): Elevate: Get Started! Get Trained! Get Hired!
DESCRIPTION:The Atlanta Center for Self Sufficiency (ACSS) is hosting Elevate: Get Started! Get Trained! Get Hired! every Tuesday\, from 1:00 PM to 3:00 PM at Forest Park Elevate. \nElevate is a free\, comprehensive workforce development program supporting individuals experiencing homelessness\, unemployed or underemployed residents of Forest Park. This session will introduce you to the many services available\, including training\, career coaching\, and job placement\, with support every step of the way. \nClick here to learn more and register.
URL:https://metroatlantaexchange.org/event/atlanta-center-for-self-sufficiency-acss-elevate-get-started-get-trained-get-hired/2025-12-16/
LOCATION:Elevate – Forest Park Office\, 819 Forest Parkway\, Suite D\, Forest Park\, GA\, 30297\, United States
CATEGORIES:Career Development,In-Person Event,Job Seeker
END:VEVENT
BEGIN:VEVENT
DTSTART;TZID=America/New_York:20251216T140000
DTEND;TZID=America/New_York:20251216T150000
DTSTAMP:20260422T213834
CREATED:20251202T145946Z
LAST-MODIFIED:20251202T145946Z
UID:10035639-1765893600-1765897200@metroatlantaexchange.org
SUMMARY:Goodwill of North Georgia: Goodwill Training Program Information Session
DESCRIPTION:Goodwill of North Georgia is hosting a Goodwill Training Program Information Session every Tuesday\, from 2:00 PM to 3:00 PM\, at the Old National Career Center. \nFor more information\, call 678-554-0412. \nClick here to learn more and register.
URL:https://metroatlantaexchange.org/event/goodwill-of-north-georgia-goodwill-training-program-information-session-4/2025-12-16/
LOCATION:Goodwill of North Georgia – Old National Career Center\, 6175 Old National Highway\, Suite 120\, Atlanta\, GA\, 30349\, United States
CATEGORIES:Career Development,In-Person Event,Job Seeker
END:VEVENT
BEGIN:VEVENT
DTSTART;TZID=America/New_York:20251216T140000
DTEND;TZID=America/New_York:20251216T160000
DTSTAMP:20260422T213834
CREATED:20251202T150120Z
LAST-MODIFIED:20251202T150120Z
UID:10035644-1765893600-1765900800@metroatlantaexchange.org
SUMMARY:Goodwill of North Georgia: IBM Skills Build Technology Training
DESCRIPTION:Goodwill of North Georgia is hosting an IBM Skills Build Technology Training every Tuesday\, from 2:00 PM to 4:00 PM\, at the Woodstock Career Center. \nFor more information\, call 770-874-0901. \nClick here to learn more and register.
URL:https://metroatlantaexchange.org/event/goodwill-of-north-georgia-ibm-skills-build-technology-training/2025-12-16/
LOCATION:Goodwill of North Georgia – Woodstock Career Center\, 9425 Highway 92\, Woodstock\, GA\, 30188\, United States
CATEGORIES:Career Development,In-Person Event,Job Seeker
GEO:34.0872637;-84.5325399
X-APPLE-STRUCTURED-LOCATION;VALUE=URI;X-ADDRESS=Goodwill of North Georgia – Woodstock Career Center 9425 Highway 92 Woodstock GA 30188 United States;X-APPLE-RADIUS=500;X-TITLE=9425 Highway 92:geo:-84.5325399,34.0872637
END:VEVENT
END:VCALENDAR