BEGIN:VCALENDAR
VERSION:2.0
PRODID:-//MAX - ECPv6.15.17.1//NONSGML v1.0//EN
CALSCALE:GREGORIAN
METHOD:PUBLISH
X-WR-CALNAME:MAX
X-ORIGINAL-URL:https://metroatlantaexchange.org
X-WR-CALDESC:Events for MAX
REFRESH-INTERVAL;VALUE=DURATION:PT1H
X-Robots-Tag:noindex
X-PUBLISHED-TTL:PT1H
BEGIN:VTIMEZONE
TZID:America/New_York
BEGIN:DAYLIGHT
TZOFFSETFROM:-0500
TZOFFSETTO:-0400
TZNAME:EDT
DTSTART:20240310T070000
END:DAYLIGHT
BEGIN:STANDARD
TZOFFSETFROM:-0400
TZOFFSETTO:-0500
TZNAME:EST
DTSTART:20241103T060000
END:STANDARD
BEGIN:DAYLIGHT
TZOFFSETFROM:-0500
TZOFFSETTO:-0400
TZNAME:EDT
DTSTART:20250309T070000
END:DAYLIGHT
BEGIN:STANDARD
TZOFFSETFROM:-0400
TZOFFSETTO:-0500
TZNAME:EST
DTSTART:20251102T060000
END:STANDARD
BEGIN:DAYLIGHT
TZOFFSETFROM:-0500
TZOFFSETTO:-0400
TZNAME:EDT
DTSTART:20260308T070000
END:DAYLIGHT
BEGIN:STANDARD
TZOFFSETFROM:-0400
TZOFFSETTO:-0500
TZNAME:EST
DTSTART:20261101T060000
END:STANDARD
END:VTIMEZONE
BEGIN:VEVENT
DTSTART;TZID=America/New_York:20251217T090000
DTEND;TZID=America/New_York:20251217T100000
DTSTAMP:20260423T010143
CREATED:20250902T220734Z
LAST-MODIFIED:20250902T220734Z
UID:10035262-1765962000-1765965600@metroatlantaexchange.org
SUMMARY:Goodwill of North Georgia: NorthStar Testing Session
DESCRIPTION:Goodwill of North Georgia is hosting a NorthStar Testing Session every Wednesday\, from 9:00 AM to 10:00 AM\, at the Woodstock Career Center. \nFor more information\, call 770-874-0901. \nClick here to learn more and register.
URL:https://metroatlantaexchange.org/event/goodwill-of-north-georgia-northstar-testing-session/2025-12-17/
LOCATION:Goodwill of North Georgia – Woodstock Career Center\, 9425 Highway 92\, Woodstock\, GA\, 30188\, United States
CATEGORIES:Career Development,In-Person Event,Job Seeker
GEO:34.0872637;-84.5325399
X-APPLE-STRUCTURED-LOCATION;VALUE=URI;X-ADDRESS=Goodwill of North Georgia – Woodstock Career Center 9425 Highway 92 Woodstock GA 30188 United States;X-APPLE-RADIUS=500;X-TITLE=9425 Highway 92:geo:-84.5325399,34.0872637
END:VEVENT
BEGIN:VEVENT
DTSTART;TZID=America/New_York:20251217T100000
DTEND;TZID=America/New_York:20251217T120000
DTSTAMP:20260423T010143
CREATED:20251202T134853Z
LAST-MODIFIED:20251202T134853Z
UID:10035606-1765965600-1765972800@metroatlantaexchange.org
SUMMARY:Goodwill of North Georgia: Multi-Business Job Fair
DESCRIPTION:Goodwill of North Georgia is hosting a Multi-Business Job Fair on Wednesday\, December 17th\, from 10:00 AM to 12:00 PM\, at the Cartersville Career Center. \nFor more information\, call 770-276-7036. \nClick here to learn more and register.
URL:https://metroatlantaexchange.org/event/goodwill-of-north-georgia-multi-business-job-fair/
LOCATION:Goodwill of North Georgia – Cartersville Career Center\, 929 Joe Frank Harris Parkway\, Cartersville\, GA\, 30120\, United States
CATEGORIES:In-Person Event,Job Seeker
GEO:34.1974793;-84.7941559
X-APPLE-STRUCTURED-LOCATION;VALUE=URI;X-ADDRESS=Goodwill of North Georgia – Cartersville Career Center 929 Joe Frank Harris Parkway Cartersville GA 30120 United States;X-APPLE-RADIUS=500;X-TITLE=929 Joe Frank Harris Parkway:geo:-84.7941559,34.1974793
END:VEVENT
BEGIN:VEVENT
DTSTART;TZID=America/New_York:20251217T120000
DTEND;TZID=America/New_York:20251217T150000
DTSTAMP:20260423T010143
CREATED:20251201T154433Z
LAST-MODIFIED:20251201T154433Z
UID:10035561-1765972800-1765983600@metroatlantaexchange.org
SUMMARY:PruittHealth – West Atlanta:  Sweater Weather Walk-In Wednesdays: Cozy Up to a New Career
DESCRIPTION:PruittHealth – West Atlanta is hosting Sweater Weather Walk-In Wednesdays: Cozy Up to a New Career every Wednesday\, from 12:00 PM to 3:00 PM\, at PruiitHealth. \nJoin this exclusive hiring event tailored for healthcare professionals! Whether you’re a seasoned expert or a recent graduate\, we have exciting opportunities waiting for you. Open roles include Registered Nurses (RN)\, Licensed Practical Nurses (LPN)\, and Certified Nursing Assistants (CNA). During this event\, attendees will be able to meet with hiring managers\, participate in on-the-spot interviews\, and partake in networking opportunities about career advancement. \nClick here to learn more and register.
URL:https://metroatlantaexchange.org/event/pruitthealth-west-atlanta-sweater-weather-walk-in-wednesdays-cozy-up-to-a-new-career/2025-12-17/
LOCATION:PruittHealth – West Atlanta\, 2645 Whiting Street\, NW\, Atlanta\, GA\, 30318\, United States
CATEGORIES:In-Person Event,Job Seeker
END:VEVENT
BEGIN:VEVENT
DTSTART;TZID=America/New_York:20251217T140000
DTEND;TZID=America/New_York:20251217T160000
DTSTAMP:20260423T010143
CREATED:20251202T152829Z
LAST-MODIFIED:20251202T152829Z
UID:10035655-1765980000-1765987200@metroatlantaexchange.org
SUMMARY:Goodwill of North Georgia: Application Assistance Day
DESCRIPTION:Goodwill of North Georgia is hosting an in-person Application Assistance Day every Wednesday\, from 2:00 PM to 4:00 PM\, at the Oakwood Career Center. \nFor more information\, call 770-538-4209. \nClick here to learn more and register.
URL:https://metroatlantaexchange.org/event/goodwill-of-north-georgia-application-assistance-day-2/2025-12-17/
LOCATION:Goodwill of North Georgia – Oakwood Career Center\, 3715 Mundy Mill Road\, Oakwood\, GA\, 30566\, United States
CATEGORIES:Career Development,In-Person Event,Job Seeker
GEO:34.2290795;-83.8701636
X-APPLE-STRUCTURED-LOCATION;VALUE=URI;X-ADDRESS=Goodwill of North Georgia – Oakwood Career Center 3715 Mundy Mill Road Oakwood GA 30566 United States;X-APPLE-RADIUS=500;X-TITLE=3715 Mundy Mill Road:geo:-83.8701636,34.2290795
END:VEVENT
BEGIN:VEVENT
DTSTART;TZID=America/New_York:20251217T173000
DTEND;TZID=America/New_York:20251217T183000
DTSTAMP:20260423T010143
CREATED:20251202T170847Z
LAST-MODIFIED:20251202T170847Z
UID:10035702-1765992600-1765996200@metroatlantaexchange.org
SUMMARY:Clayton County Government: Free Patient Care Tech Training and Certification Information Session
DESCRIPTION:Clayton County Government is hosting a Free Patient Care Tech Training and Certification Information Session on Wednesday\, December 17th\, starting at 5:30 PM\, at the Morrow Branch Library. \nStrive Atlanta will be offering free Patient Care Tech Training beginning in January 2026. This no-cost program will provide not only the necessary training\, but job placement assistance and lifetime support for alumni. \nClick here to learn more and register. \nClick here for a flyer.
URL:https://metroatlantaexchange.org/event/clayton-county-government-free-patient-care-tech-training-and-certification-information-session/
LOCATION:Clayton County Public Library – Morrow\, 6225 Maddox Road\, Morrow\, Georgia\, 30260
CATEGORIES:Career Development,In-Person Event,Job Seeker
END:VEVENT
BEGIN:VEVENT
DTSTART;TZID=America/New_York:20251217T190000
DTEND;TZID=America/New_York:20251217T210000
DTSTAMP:20260423T010143
CREATED:20251202T151351Z
LAST-MODIFIED:20251202T151351Z
UID:10035649-1765998000-1766005200@metroatlantaexchange.org
SUMMARY:STEM Atlanta: Work-Ready Wednesdays
DESCRIPTION:STEM Atlanta\, in partnership with OneTen hosts Work-Ready Wednesdays every Wednesday\, starting at 12:00 PM and 7:00 PM. \nEvery Wednesday\, you will learn insights into the hidden job market\, build intergenerational wealth and leadership skills\, connect directly with OneTen coalition job opportunities and more. This isn’t just another career webinar — it’s your chance to gain the tools\, connections\, and confidence to step into the opportunities you deserve. \nClick here to learn more and register. \nClick here to register for access to hundreds of jobs.
URL:https://metroatlantaexchange.org/event/stem-atlanta-work-ready-wednesdays/2025-12-17/
LOCATION:GA
CATEGORIES:Career Development,Job Seeker,Virtual Event
END:VEVENT
END:VCALENDAR