BEGIN:VCALENDAR
VERSION:2.0
PRODID:-//MAX - ECPv6.15.17.1//NONSGML v1.0//EN
CALSCALE:GREGORIAN
METHOD:PUBLISH
X-WR-CALNAME:MAX
X-ORIGINAL-URL:https://metroatlantaexchange.org
X-WR-CALDESC:Events for MAX
REFRESH-INTERVAL;VALUE=DURATION:PT1H
X-Robots-Tag:noindex
X-PUBLISHED-TTL:PT1H
BEGIN:VTIMEZONE
TZID:America/New_York
BEGIN:DAYLIGHT
TZOFFSETFROM:-0500
TZOFFSETTO:-0400
TZNAME:EDT
DTSTART:20240310T070000
END:DAYLIGHT
BEGIN:STANDARD
TZOFFSETFROM:-0400
TZOFFSETTO:-0500
TZNAME:EST
DTSTART:20241103T060000
END:STANDARD
BEGIN:DAYLIGHT
TZOFFSETFROM:-0500
TZOFFSETTO:-0400
TZNAME:EDT
DTSTART:20250309T070000
END:DAYLIGHT
BEGIN:STANDARD
TZOFFSETFROM:-0400
TZOFFSETTO:-0500
TZNAME:EST
DTSTART:20251102T060000
END:STANDARD
BEGIN:DAYLIGHT
TZOFFSETFROM:-0500
TZOFFSETTO:-0400
TZNAME:EDT
DTSTART:20260308T070000
END:DAYLIGHT
BEGIN:STANDARD
TZOFFSETFROM:-0400
TZOFFSETTO:-0500
TZNAME:EST
DTSTART:20261101T060000
END:STANDARD
END:VTIMEZONE
BEGIN:VEVENT
DTSTART;TZID=America/New_York:20251218T100000
DTEND;TZID=America/New_York:20251218T113000
DTSTAMP:20260422T212743
CREATED:20251202T171000Z
LAST-MODIFIED:20251202T171000Z
UID:10035703-1766052000-1766057400@metroatlantaexchange.org
SUMMARY:RecruitMilitary: Advanced Employment Virtual Workshop
DESCRIPTION:RecruitMilitary is hosting an Advanced Employment Virtual Workshop on Thursday\, December 18th\, from 10:00 AM to 11:30 AM. \nEmpower your job search journey with the Advanced Employment Workshop\, where you will be equipped with essential skills to excel and leave a lasting impression on your future employer! Topics include Skills Development\, Interview Techniques\, Salary Negotiations\, and Dress for Success. \nClick here to learn more and register.
URL:https://metroatlantaexchange.org/event/recruitmilitary-advanced-employment-virtual-workshop/
LOCATION:GA
CATEGORIES:Career Development,Job Seeker,Veterans/Military,Virtual Event
END:VEVENT
BEGIN:VEVENT
DTSTART;TZID=America/New_York:20251218T110000
DTEND;TZID=America/New_York:20251218T150000
DTSTAMP:20260422T212743
CREATED:20251202T135120Z
LAST-MODIFIED:20251202T135120Z
UID:10035608-1766055600-1766070000@metroatlantaexchange.org
SUMMARY:JobFairX: Atlanta Veteran Virtual Job Fair
DESCRIPTION:JobFairX is hosting an Atlanta Veteran Virtual Job Fair on Thursday\, December 18th\, from 11:00 AM to 3:00 PM. \nAt JobFairX\, job seekers are matched with employers who have registered for the virtual job fair. When you sign up and create a profile\, you provide information about your qualifications\, skills\, and preferences. JobFairX’s advanced matching algorithm analyzes this data to identify suitable job opportunities. If your qualifications align with a job\, you’ll receive an email invitation to schedule an interview with the employer during the fair. JobFairX’s streamlined process saves you time on your job search. \nClick here to register.
URL:https://metroatlantaexchange.org/event/jobfairx-atlanta-veteran-virtual-job-fair-6/
LOCATION:GA
CATEGORIES:Job Seeker,Veterans/Military,Virtual Event
END:VEVENT
BEGIN:VEVENT
DTSTART;TZID=America/New_York:20251218T120000
DTEND;TZID=America/New_York:20251218T130000
DTSTAMP:20260422T212743
CREATED:20251202T171155Z
LAST-MODIFIED:20251202T171155Z
UID:10035704-1766059200-1766062800@metroatlantaexchange.org
SUMMARY:Cybersecurity and Infrastructure Security Agency (CISA): Military-Affiliated Federal Application
DESCRIPTION:The Cybersecurity and Infrastructure Security Agency (CISA) is hosting a Military-Affiliated Federal Application webinar on Thursday\, December 18th\, from 12:00 PM to 2:00 PM. \nReady to launch your next career in federal service? Join CISA’s Military Programs Manager\, Keith Cassant\, for a powerful\, live webinar designed specifically for the military-affiliated community: Active Duty\, Guard\, Reserve\, Veterans\, and Military Spouses. Discover how to successfully navigate the federal hiring process and position yourself for success. Whether you’re transitioning out of the military\, supporting a spouse in their career journey\, or simply exploring new opportunities\, this session will arm you with insider knowledge and practical tools to stand out in the federal job market. \nClick here to learn more and register.
URL:https://metroatlantaexchange.org/event/cybersecurity-and-infrastructure-security-agency-cisa-military-affiliated-federal-application/
LOCATION:GA
CATEGORIES:Career Development,Job Seeker,Veterans/Military,Virtual Event
END:VEVENT
BEGIN:VEVENT
DTSTART;TZID=America/New_York:20251218T120000
DTEND;TZID=America/New_York:20251218T160000
DTSTAMP:20260422T212743
CREATED:20251202T135223Z
LAST-MODIFIED:20251202T135223Z
UID:10035609-1766059200-1766073600@metroatlantaexchange.org
SUMMARY:G.I. Jobs: Veteran and Military Spouse Virtual Job Fair
DESCRIPTION:G.I. Jobs is hosting a Veteran and Military Spouse Virtual Job Fair on Thursday\, December 18th\, from 12:00 PM to 4:00 PM. \nExplore hot jobs while you chat with recruiters live. Apply for positions with dozens of military-friendly employers during this exciting\, free event. \nClick here to learn more and register.
URL:https://metroatlantaexchange.org/event/g-i-jobs-veteran-and-military-spouse-virtual-job-fair-2/
LOCATION:GA
CATEGORIES:Job Seeker,Veterans/Military,Virtual Event
END:VEVENT
END:VCALENDAR