BEGIN:VCALENDAR
VERSION:2.0
PRODID:-//MAX - ECPv6.15.17.1//NONSGML v1.0//EN
CALSCALE:GREGORIAN
METHOD:PUBLISH
X-ORIGINAL-URL:https://metroatlantaexchange.org
X-WR-CALDESC:Events for MAX
REFRESH-INTERVAL;VALUE=DURATION:PT1H
X-Robots-Tag:noindex
X-PUBLISHED-TTL:PT1H
BEGIN:VTIMEZONE
TZID:America/New_York
BEGIN:DAYLIGHT
TZOFFSETFROM:-0500
TZOFFSETTO:-0400
TZNAME:EDT
DTSTART:20240310T070000
END:DAYLIGHT
BEGIN:STANDARD
TZOFFSETFROM:-0400
TZOFFSETTO:-0500
TZNAME:EST
DTSTART:20241103T060000
END:STANDARD
BEGIN:DAYLIGHT
TZOFFSETFROM:-0500
TZOFFSETTO:-0400
TZNAME:EDT
DTSTART:20250309T070000
END:DAYLIGHT
BEGIN:STANDARD
TZOFFSETFROM:-0400
TZOFFSETTO:-0500
TZNAME:EST
DTSTART:20251102T060000
END:STANDARD
BEGIN:DAYLIGHT
TZOFFSETFROM:-0500
TZOFFSETTO:-0400
TZNAME:EDT
DTSTART:20260308T070000
END:DAYLIGHT
BEGIN:STANDARD
TZOFFSETFROM:-0400
TZOFFSETTO:-0500
TZNAME:EST
DTSTART:20261101T060000
END:STANDARD
END:VTIMEZONE
BEGIN:VEVENT
DTSTART;TZID=America/New_York:20251222T100000
DTEND;TZID=America/New_York:20251222T110000
DTSTAMP:20260423T010222
CREATED:20251203T140706Z
LAST-MODIFIED:20251203T140706Z
UID:10035710-1766397600-1766401200@metroatlantaexchange.org
SUMMARY:Jewish Family and Career Services: Virtual Interviewing Workshop
DESCRIPTION:Jewish Family and Career Services is hosting a Virtual Interviewing Workshop on Monday\, December 22nd\, from 10:00 AM to 11:00 AM. \nLearn how to better prepare for an interview\, understand the different types of interviews and answer common interview questions. This workshop will address how to tackle difficult interviewing moments as well as help you gain strategies on the do’s and don’ts of salary negotiation. \nClick here to learn more and register.
URL:https://metroatlantaexchange.org/event/jewish-family-and-career-services-virtual-interviewing-workshop-5/
LOCATION:GA
CATEGORIES:Career Development,Job Seeker,Virtual Event
ORGANIZER;CN="Jewish Family and Career Services":MAILTO:info@jfcsatl.org
END:VEVENT
BEGIN:VEVENT
DTSTART;TZID=America/New_York:20251222T100000
DTEND;TZID=America/New_York:20251222T130000
DTSTAMP:20260423T010222
CREATED:20251202T135549Z
LAST-MODIFIED:20251202T135549Z
UID:10035611-1766397600-1766408400@metroatlantaexchange.org
SUMMARY:Goodwill of North Georgia: Department of Corrections Hiring Event
DESCRIPTION:Goodwill of North Georgia is hosting a Department of Corrections Hiring Event on Monday\, December 22nd\, from 10:00 AM to 1:00 PM\, at the Stockbridge Career Center. \nFor more information\, call 678-514-0670. \nClick here to learn more and register.
URL:https://metroatlantaexchange.org/event/goodwill-of-north-georgia-department-of-corrections-hiring-event-9/
LOCATION:Goodwill Stockbridge\, 3871 Highway 138\, SE\, Stockbridge\, 30281\, United States
CATEGORIES:In-Person Event,Job Seeker
END:VEVENT
BEGIN:VEVENT
DTSTART;TZID=America/New_York:20251222T120000
DTEND;TZID=America/New_York:20251222T170000
DTSTAMP:20260423T010222
CREATED:20251201T151605Z
LAST-MODIFIED:20251201T151605Z
UID:10035550-1766404800-1766422800@metroatlantaexchange.org
SUMMARY:Goodwill of North Georgia: Ingles Open Interviews
DESCRIPTION:Goodwill of North Georgia is hosting Ingles Open Interviews every Monday\, from 12:00 PM to 5:00 PM\, at the Cornelia Career Center. \nFor more information\, call 706-894-4905. \nClick here to learn more and register.
URL:https://metroatlantaexchange.org/event/goodwill-of-north-georgia-ingles-open-interviews-2/2025-12-22/
LOCATION:Goodwill of North Georgia – Cornelia Career Center\, 308 Habersham Hills Circle\, Cornelia\, GA\, 30531\, United States
CATEGORIES:In-Person Event,Job Seeker
END:VEVENT
END:VCALENDAR