BEGIN:VCALENDAR
VERSION:2.0
PRODID:-//MAX - ECPv6.15.17.1//NONSGML v1.0//EN
CALSCALE:GREGORIAN
METHOD:PUBLISH
X-ORIGINAL-URL:https://metroatlantaexchange.org
X-WR-CALDESC:Events for MAX
REFRESH-INTERVAL;VALUE=DURATION:PT1H
X-Robots-Tag:noindex
X-PUBLISHED-TTL:PT1H
BEGIN:VTIMEZONE
TZID:America/New_York
BEGIN:DAYLIGHT
TZOFFSETFROM:-0500
TZOFFSETTO:-0400
TZNAME:EDT
DTSTART:20250309T070000
END:DAYLIGHT
BEGIN:STANDARD
TZOFFSETFROM:-0400
TZOFFSETTO:-0500
TZNAME:EST
DTSTART:20251102T060000
END:STANDARD
BEGIN:DAYLIGHT
TZOFFSETFROM:-0500
TZOFFSETTO:-0400
TZNAME:EDT
DTSTART:20260308T070000
END:DAYLIGHT
BEGIN:STANDARD
TZOFFSETFROM:-0400
TZOFFSETTO:-0500
TZNAME:EST
DTSTART:20261101T060000
END:STANDARD
BEGIN:DAYLIGHT
TZOFFSETFROM:-0500
TZOFFSETTO:-0400
TZNAME:EDT
DTSTART:20270314T070000
END:DAYLIGHT
BEGIN:STANDARD
TZOFFSETFROM:-0400
TZOFFSETTO:-0500
TZNAME:EST
DTSTART:20271107T060000
END:STANDARD
END:VTIMEZONE
BEGIN:VEVENT
DTSTART;TZID=America/New_York:20260102T100000
DTEND;TZID=America/New_York:20260102T113000
DTSTAMP:20260422T212906
CREATED:20251202T154157Z
LAST-MODIFIED:20251202T154157Z
UID:10035677-1767348000-1767353400@metroatlantaexchange.org
SUMMARY:Georgia Justice Project (GJP): First Fridays
DESCRIPTION:The Georgia Justice Project (GJP) hosts First Fridays virtual sessions every first Friday of the month\, from 10:00 AM to 11:30 AM. \nFirst Fridays helps individuals with a Georgia criminal history understand what they can do about it. Topics include reading your record\, record restriction (expungement eligibility)\, Georgia’s new law for restricting convictions\, applying for a pardon\, and how to apply for GJP’s services. \nEmail intake@GJP.org or call 404-827-0027\, ext. 238\, with questions. \nClick here to learn more and register.
URL:https://metroatlantaexchange.org/event/georgia-justice-project-gjp-first-fridays/2026-01-02/
LOCATION:GA
CATEGORIES:Career Development,Job Seeker,Virtual Event
END:VEVENT
BEGIN:VEVENT
DTSTART;TZID=America/New_York:20260102T100000
DTEND;TZID=America/New_York:20260102T120000
DTSTAMP:20260422T212906
CREATED:20251201T155353Z
LAST-MODIFIED:20251201T155353Z
UID:10035578-1767348000-1767355200@metroatlantaexchange.org
SUMMARY:Goodwill of North Georgia: Chase Staffing Open Position Interviews
DESCRIPTION:Goodwill of North Georgia is hosting Chase Staffing Open Position Interviews every Friday\, from 10:00 AM to 12:00 PM\, at the Cartersville Career Center. \nFor more information\, call 770-276-7036. \nClick here to learn more and register.
URL:https://metroatlantaexchange.org/event/goodwill-of-north-georgia-chase-staffing-open-position-interviews-2/2026-01-02/
LOCATION:Goodwill of North Georgia – Cartersville Career Center\, 929 Joe Frank Harris Parkway\, Cartersville\, GA\, 30120\, United States
CATEGORIES:In-Person Event,Job Seeker
GEO:34.1974793;-84.7941559
X-APPLE-STRUCTURED-LOCATION;VALUE=URI;X-ADDRESS=Goodwill of North Georgia – Cartersville Career Center 929 Joe Frank Harris Parkway Cartersville GA 30120 United States;X-APPLE-RADIUS=500;X-TITLE=929 Joe Frank Harris Parkway:geo:-84.7941559,34.1974793
END:VEVENT
BEGIN:VEVENT
DTSTART;TZID=America/New_York:20260102T110000
DTEND;TZID=America/New_York:20260102T140000
DTSTAMP:20260422T212906
CREATED:20251201T155556Z
LAST-MODIFIED:20251201T155556Z
UID:10035583-1767351600-1767362400@metroatlantaexchange.org
SUMMARY:Goodwill of North Georgia: Department of Corrections Hiring Event
DESCRIPTION:Goodwill of North Georgia is hosting a Department of Corrections Hiring Event every Friday\, from 11:00 AM to 2:00 PM\, at the Stockbridge Career Center. \nFor more information\, call 678-514-0670. \nClick here to learn more and register.
URL:https://metroatlantaexchange.org/event/goodwill-of-north-georgia-department-of-corrections-hiring-event-7/2026-01-02/
LOCATION:GA
CATEGORIES:In-Person Event,Job Seeker
END:VEVENT
END:VCALENDAR