BEGIN:VCALENDAR
VERSION:2.0
PRODID:-//MAX - ECPv6.15.17.1//NONSGML v1.0//EN
CALSCALE:GREGORIAN
METHOD:PUBLISH
X-ORIGINAL-URL:https://metroatlantaexchange.org
X-WR-CALDESC:Events for MAX
REFRESH-INTERVAL;VALUE=DURATION:PT1H
X-Robots-Tag:noindex
X-PUBLISHED-TTL:PT1H
BEGIN:VTIMEZONE
TZID:America/New_York
BEGIN:DAYLIGHT
TZOFFSETFROM:-0500
TZOFFSETTO:-0400
TZNAME:EDT
DTSTART:20250309T070000
END:DAYLIGHT
BEGIN:STANDARD
TZOFFSETFROM:-0400
TZOFFSETTO:-0500
TZNAME:EST
DTSTART:20251102T060000
END:STANDARD
BEGIN:DAYLIGHT
TZOFFSETFROM:-0500
TZOFFSETTO:-0400
TZNAME:EDT
DTSTART:20260308T070000
END:DAYLIGHT
BEGIN:STANDARD
TZOFFSETFROM:-0400
TZOFFSETTO:-0500
TZNAME:EST
DTSTART:20261101T060000
END:STANDARD
BEGIN:DAYLIGHT
TZOFFSETFROM:-0500
TZOFFSETTO:-0400
TZNAME:EDT
DTSTART:20270314T070000
END:DAYLIGHT
BEGIN:STANDARD
TZOFFSETFROM:-0400
TZOFFSETTO:-0500
TZNAME:EST
DTSTART:20271107T060000
END:STANDARD
END:VTIMEZONE
BEGIN:VEVENT
DTSTART;TZID=America/New_York:20260127T110000
DTEND;TZID=America/New_York:20260127T150000
DTSTAMP:20260422T232351
CREATED:20251202T140913Z
LAST-MODIFIED:20251202T140913Z
UID:10035619-1769511600-1769526000@metroatlantaexchange.org
SUMMARY:Kennesaw State University: 2026 Spring Education Job Fair
DESCRIPTION:Kennesaw State University is hosting a 2026 Spring Education Job Fair on Tuesday\, January 27th\, from 11:00 AM to 3:00 PM\, at the Siegal Recreation and Activities Center. \nStudents and alumni of all majors and class levels are encouraged to attend and meet with companies with open job and internship opportunities. \nClick here to learn more and register.
URL:https://metroatlantaexchange.org/event/kennesaw-state-university-2026-spring-education-job-fair/
LOCATION:Kennesaw State University – Siegel Recreation and Activities Center\, 290 Kennesaw State University Road\, NW\, Kennesaw\, Georgia\, 30144
CATEGORIES:In-Person Event,Job Seeker,Student
END:VEVENT
END:VCALENDAR