BEGIN:VCALENDAR
VERSION:2.0
PRODID:-//MAX - ECPv6.15.17.1//NONSGML v1.0//EN
CALSCALE:GREGORIAN
METHOD:PUBLISH
X-ORIGINAL-URL:https://metroatlantaexchange.org
X-WR-CALDESC:Events for MAX
REFRESH-INTERVAL;VALUE=DURATION:PT1H
X-Robots-Tag:noindex
X-PUBLISHED-TTL:PT1H
BEGIN:VTIMEZONE
TZID:America/New_York
BEGIN:DAYLIGHT
TZOFFSETFROM:-0500
TZOFFSETTO:-0400
TZNAME:EDT
DTSTART:20250309T070000
END:DAYLIGHT
BEGIN:STANDARD
TZOFFSETFROM:-0400
TZOFFSETTO:-0500
TZNAME:EST
DTSTART:20251102T060000
END:STANDARD
BEGIN:DAYLIGHT
TZOFFSETFROM:-0500
TZOFFSETTO:-0400
TZNAME:EDT
DTSTART:20260308T070000
END:DAYLIGHT
BEGIN:STANDARD
TZOFFSETFROM:-0400
TZOFFSETTO:-0500
TZNAME:EST
DTSTART:20261101T060000
END:STANDARD
BEGIN:DAYLIGHT
TZOFFSETFROM:-0500
TZOFFSETTO:-0400
TZNAME:EDT
DTSTART:20270314T070000
END:DAYLIGHT
BEGIN:STANDARD
TZOFFSETFROM:-0400
TZOFFSETTO:-0500
TZNAME:EST
DTSTART:20271107T060000
END:STANDARD
END:VTIMEZONE
BEGIN:VEVENT
DTSTART;TZID=America/New_York:20260127T120000
DTEND;TZID=America/New_York:20260127T130000
DTSTAMP:20260423T011824
CREATED:20260120T011419Z
LAST-MODIFIED:20260120T011419Z
UID:10035867-1769515200-1769518800@metroatlantaexchange.org
SUMMARY:Connecting Communities and Families: Mental Health Workshops
DESCRIPTION:Connecting Communities and Families hosts a weekly Mental Health Workshop each Tuesday\, from 12:00 PM to 1:00 PM\, virtually. Topics include Stress Management\, Workplace Wellness\, Supporting Veterans and Their Families\, Building Resilience and much more. \nClick here to learn more and register. \n 
URL:https://metroatlantaexchange.org/event/connecting-communities-and-families-mental-health-workshops/2026-01-27/
LOCATION:GA
CATEGORIES:Career Development,Job Seeker,Virtual Event
END:VEVENT
BEGIN:VEVENT
DTSTART;TZID=America/New_York:20260127T120000
DTEND;TZID=America/New_York:20260127T130000
DTSTAMP:20260423T011824
CREATED:20260120T014720Z
LAST-MODIFIED:20260120T014720Z
UID:10035892-1769515200-1769518800@metroatlantaexchange.org
SUMMARY:Bank of America: Communications Workshop
DESCRIPTION:Bank of America is hosting a virtual Communications Workshop on Tuesday\, January 27th\, from 12:00 PM to 1:00 PM. \nThis workshop is designed for learners interested in exploring and improving their communication skills in an office environment. Strong communication is the skill set most sought after by corporate hiring managers. This workshop will provide learners with the skills needed to feel confident when communicating at work to different audiences and in different settings. \nClick here to learn more and register. \nClick here for a flyer.
URL:https://metroatlantaexchange.org/event/bank-of-america-communications-workshop/
LOCATION:GA
CATEGORIES:Career Development,Job Seeker,Virtual Event
END:VEVENT
BEGIN:VEVENT
DTSTART;TZID=America/New_York:20260127T120000
DTEND;TZID=America/New_York:20260127T130000
DTSTAMP:20260423T011824
CREATED:20260120T014931Z
LAST-MODIFIED:20260120T014931Z
UID:10035893-1769515200-1769518800@metroatlantaexchange.org
SUMMARY:Hiring Our Heroes: Virtual Amplify Essentials
DESCRIPTION:Hiring Our Heroes is hosting Virtual Amplify Essentials on Tuesday\, January 27th\, starting at 12:00 PM. \nEngage in workshops and interactive sessions designed to support your career goals! Topics include professional branding\, resume support\, interview techniques\, and networking. Amplify attendees will leave the event feeling prepared and confident for the afternoon hiring fair the next day. \nClick here to learn more and register.
URL:https://metroatlantaexchange.org/event/hiring-our-heroes-virtual-amplify-essentials/
LOCATION:GA
CATEGORIES:Career Development,Job Seeker,Veterans/Military,Virtual Event
END:VEVENT
BEGIN:VEVENT
DTSTART;TZID=America/New_York:20260127T120000
DTEND;TZID=America/New_York:20260129T130000
DTSTAMP:20260423T011824
CREATED:20251220T223625Z
LAST-MODIFIED:20251220T223625Z
UID:10035796-1769515200-1769691600@metroatlantaexchange.org
SUMMARY:Urban League of Greater Atlanta: CarePRO Workshop
DESCRIPTION:The Urban League of Greater Atlanta is hosting a CarePRO Workshop starting Tuesday\, January 27th through Thursday\, January 29th\, from 12:00 PM to 1:00 PM each day. \nAre you interested in a healthcare career? CarePRO is a free 3-session career readiness workshop to help you build skills and explore career pathways for entry-level healthcare careers like CNA\, Phlebotomy\, Patient Care Tech\, and Behavioral Health Technician. During the workshop\, you will learn foundational skills\, connect with current healthcare workers\, and receive information about local certification training programs.  We also assist you with resume building\, interview preparation\, workplace communication\, and digital skills.  The workshop is a 1-hour commitment for 3 days. Once you complete the workshop\, you will receive a Certificate of Completion\, and ULGA will refer you to a healthcare certification program in your desired career path. Click here to learn more and register. \nClick here for a flyer.
URL:https://metroatlantaexchange.org/event/urban-league-of-greater-atlanta-carepro-workshop/
LOCATION:GA
CATEGORIES:Career Development,Job Seeker,Virtual Event
END:VEVENT
BEGIN:VEVENT
DTSTART;TZID=America/New_York:20260127T130000
DTEND;TZID=America/New_York:20260127T140000
DTSTAMP:20260423T011824
CREATED:20260120T015109Z
LAST-MODIFIED:20260120T015109Z
UID:10035894-1769518800-1769522400@metroatlantaexchange.org
SUMMARY:Hiring Our Heroes: Employer Spotlight - CareSource
DESCRIPTION:Hiring Our Heroes is hosting an Employer Spotlight: CareSource on Tuesday\, January 27th\, starting at 1:00 PM. \nJoin Hiring Our Heroes for a virtual spotlight featuring CareSource\, a global healthcare provider committed to supporting veterans\, transitioning service members\, and military spouses. Learn about career paths\, veteran initiatives\, and how to navigate opportunities within the company. Bring your questions for live Q&A! \nClick here to learn more and register.
URL:https://metroatlantaexchange.org/event/hiring-our-heroes-employer-spotlight-caresource/
LOCATION:GA
CATEGORIES:Career Development,Job Seeker,Virtual Event
END:VEVENT
BEGIN:VEVENT
DTSTART;TZID=America/New_York:20260127T163000
DTEND;TZID=America/New_York:20260127T180000
DTSTAMP:20260423T011824
CREATED:20260119T182336Z
LAST-MODIFIED:20260119T182336Z
UID:10035822-1769531400-1769536800@metroatlantaexchange.org
SUMMARY:Fulton County Schools (FCS) Career\, Technical\, and Agricultural Education Virtual Career Fair
DESCRIPTION:Fulton County Schools (FCS) is hosting a Career\, Technical\, and Agricultural Education Virtual Career Fair on Tuesday\, January 27th\, from 4:30 PM to 6:00 PM. \nFCS is seeking Career\, Technical & Agricultural Education teachers for Middle & High Schools. During this event\, participants will have the opportunity to chat with multiple schools and learn more information on available positions. \nClick here to learn more. Click here for a flyer.
URL:https://metroatlantaexchange.org/event/fulton-county-schools-fcs-career-technical-and-agricultural-education-virtual-career-fair/
LOCATION:GA
CATEGORIES:Job Seeker,Virtual Event
END:VEVENT
BEGIN:VEVENT
DTSTART;TZID=America/New_York:20260127T173000
DTEND;TZID=America/New_York:20260127T183000
DTSTAMP:20260423T011824
CREATED:20260120T015324Z
LAST-MODIFIED:20260120T015324Z
UID:10035895-1769535000-1769538600@metroatlantaexchange.org
SUMMARY:African American Women Trucking Association (AAWTA): Freight Dispatcher Advantage Career Open House
DESCRIPTION:The African American Women Trucking Association (AAWTA) is hosting a Freight Dispatcher Advantage Career Open House on Tuesday\, January 27th\, from 5:30 PM to 6:30 PM. \nThis session is perfect for anyone exploring dispatching as a new career\, side business\, or at-home entrepreneurial opportunity. \nClick here to learn more and register.
URL:https://metroatlantaexchange.org/event/african-american-women-trucking-association-aawta-freight-dispatcher-advantage-career-open-house/
LOCATION:GA
CATEGORIES:Career Development,Job Seeker,Virtual Event
END:VEVENT
BEGIN:VEVENT
DTSTART;TZID=America/New_York:20260127T190000
DTEND;TZID=America/New_York:20260127T200000
DTSTAMP:20260423T011824
CREATED:20260120T015450Z
LAST-MODIFIED:20260120T015450Z
UID:10035896-1769540400-1769544000@metroatlantaexchange.org
SUMMARY:Hiring Our Heroes: SkillBridge Fellowships Information Session
DESCRIPTION:Hiring Our Heroes is hosting a SkillBridge Fellowships Information Session on Tuesday\, January 27th\, starting at 7:00 PM. \nTransitioning service members are invited to learn more about SkillBridge fellowships\, which offer professional training and hands-on experience in the civilian workforce. These programs are designed to help you transition smoothly into a meaningful civilian career. \nClick here to learn more and register.
URL:https://metroatlantaexchange.org/event/hiring-our-heroes-skillbridge-fellowships-information-session-5/
LOCATION:GA
CATEGORIES:Career Development,Job Seeker,Veterans/Military,Virtual Event
END:VEVENT
END:VCALENDAR