BEGIN:VCALENDAR
VERSION:2.0
PRODID:-//MAX - ECPv6.15.17.1//NONSGML v1.0//EN
CALSCALE:GREGORIAN
METHOD:PUBLISH
X-WR-CALNAME:MAX
X-ORIGINAL-URL:https://metroatlantaexchange.org
X-WR-CALDESC:Events for MAX
REFRESH-INTERVAL;VALUE=DURATION:PT1H
X-Robots-Tag:noindex
X-PUBLISHED-TTL:PT1H
BEGIN:VTIMEZONE
TZID:America/New_York
BEGIN:DAYLIGHT
TZOFFSETFROM:-0500
TZOFFSETTO:-0400
TZNAME:EDT
DTSTART:20250309T070000
END:DAYLIGHT
BEGIN:STANDARD
TZOFFSETFROM:-0400
TZOFFSETTO:-0500
TZNAME:EST
DTSTART:20251102T060000
END:STANDARD
BEGIN:DAYLIGHT
TZOFFSETFROM:-0500
TZOFFSETTO:-0400
TZNAME:EDT
DTSTART:20260308T070000
END:DAYLIGHT
BEGIN:STANDARD
TZOFFSETFROM:-0400
TZOFFSETTO:-0500
TZNAME:EST
DTSTART:20261101T060000
END:STANDARD
BEGIN:DAYLIGHT
TZOFFSETFROM:-0500
TZOFFSETTO:-0400
TZNAME:EDT
DTSTART:20270314T070000
END:DAYLIGHT
BEGIN:STANDARD
TZOFFSETFROM:-0400
TZOFFSETTO:-0500
TZNAME:EST
DTSTART:20271107T060000
END:STANDARD
END:VTIMEZONE
BEGIN:VEVENT
DTSTART;TZID=America/New_York:20260129T100000
DTEND;TZID=America/New_York:20260129T130000
DTSTAMP:20260422T212747
CREATED:20260119T183256Z
LAST-MODIFIED:20260119T183256Z
UID:10035827-1769680800-1769691600@metroatlantaexchange.org
SUMMARY:Goodwill of North Georgia: Division One Hiring Event
DESCRIPTION:Goodwill of North Georgia is hosting a Division One Hiring Event on Thursday\, January 29th\, from 10:00 AM to 1:00 PM\, at the Stockbridge Career Center. \nFor more information\, call 678-514-0670. \nClick here to learn more and register.
URL:https://metroatlantaexchange.org/event/goodwill-of-north-georgia-division-one-hiring-event-2/
LOCATION:Goodwill Stockbridge\, 3871 Highway 138\, SE\, Stockbridge\, 30281\, United States
CATEGORIES:In-Person Event,Job Seeker
END:VEVENT
BEGIN:VEVENT
DTSTART;TZID=America/New_York:20260129T110000
DTEND;TZID=America/New_York:20260129T130000
DTSTAMP:20260422T212747
CREATED:20260119T183522Z
LAST-MODIFIED:20260119T183522Z
UID:10035829-1769684400-1769691600@metroatlantaexchange.org
SUMMARY:Goodwill of North Georgia: Job and Resource Fair
DESCRIPTION:Goodwill of North Georgia is hosting a Job and Resource fair on Thursday\, January 29th\, from 11:00 AM to 1:00 PM\, at the Pleasant Hill Career Center. \nCall 770-564-2447 for more information. \nClick here to learn more and register.
URL:https://metroatlantaexchange.org/event/goodwill-of-north-georgia-job-and-resource-fair-18/
LOCATION:Goodwill of North Georgia – Pleasant Hill Career Center\, 1502 Pleasant Hill Road\, Duluth\, GA\, 30096\, United States
CATEGORIES:In-Person Event,Job Seeker
GEO:33.9429794;-84.121643
X-APPLE-STRUCTURED-LOCATION;VALUE=URI;X-ADDRESS=Goodwill of North Georgia – Pleasant Hill Career Center 1502 Pleasant Hill Road Duluth GA 30096 United States;X-APPLE-RADIUS=500;X-TITLE=1502 Pleasant Hill Road:geo:-84.121643,33.9429794
END:VEVENT
BEGIN:VEVENT
DTSTART;TZID=America/New_York:20260129T120000
DTEND;TZID=America/New_York:20260129T130000
DTSTAMP:20260422T212747
CREATED:20251202T153659Z
LAST-MODIFIED:20251202T153659Z
UID:10035673-1769688000-1769691600@metroatlantaexchange.org
SUMMARY:Goodwill of North Georgia: Resumes and Cover Letters Workshop
DESCRIPTION:Goodwill of North Georgia is hosting a Resumes and Cover Letters Workshop every Thursday\, from 12:00 PM to 1:00 PM\, at the Decatur Career Center. \nFor more information\, call 404-554-9600. \nClick here to learn more and register.
URL:https://metroatlantaexchange.org/event/goodwill-of-north-georgia-resumes-and-cover-letters-workshop/2026-01-29/
LOCATION:Goodwill of North Georgia – Decatur Career Center\, 2201 Lawrenceville Highway\, Suite 200\, Decatur\, GA\, 30033\, United States
CATEGORIES:Career Development,In-Person Event,Job Seeker
GEO:33.8114213;-84.2699313
X-APPLE-STRUCTURED-LOCATION;VALUE=URI;X-ADDRESS=Goodwill of North Georgia – Decatur Career Center 2201 Lawrenceville Highway Suite 200 Decatur GA 30033 United States;X-APPLE-RADIUS=500;X-TITLE=2201 Lawrenceville Highway\, Suite 200:geo:-84.2699313,33.8114213
END:VEVENT
BEGIN:VEVENT
DTSTART;TZID=America/New_York:20260129T120000
DTEND;TZID=America/New_York:20260129T140000
DTSTAMP:20260422T212747
CREATED:20260119T183651Z
LAST-MODIFIED:20260119T183651Z
UID:10035830-1769688000-1769695200@metroatlantaexchange.org
SUMMARY:MUST Ministries: Job Fair
DESCRIPTION:MUST Ministries\, in partnership with the Cherokee County School District\, is hosting a Job Fair on Thursday\, January 29th\, from 12:00 PM to 2:00 PM\, at MUST Ministries. \nThe Cherokee County School District is seeking candidates to fill School Nutrition Worker\, Custodian\, Paraprofessional and Bus Driver positions. Pay rates range from $16 to $31 per hour and great benefits will be available. Please bring a current resume. \nEmail wd@mustministries.org with any questions. \nClick here for a flyer.
URL:https://metroatlantaexchange.org/event/must-ministries-job-fair-5/
LOCATION:MUST Ministries – Canton\, 111 Brown Industrial Parkway\, Canton\, 30114\, United States
CATEGORIES:In-Person Event,Job Seeker
END:VEVENT
BEGIN:VEVENT
DTSTART;TZID=America/New_York:20260129T130000
DTEND;TZID=America/New_York:20260129T150000
DTSTAMP:20260422T212747
CREATED:20260119T174823Z
LAST-MODIFIED:20260119T174823Z
UID:10035812-1769691600-1769698800@metroatlantaexchange.org
SUMMARY:Goodwill of North Georgia: Diversified/5K Battery Open Interviews
DESCRIPTION:Goodwill of North Georgia is hosting Diversified/5K Battery Open Interviews every Thursday\, from 1:00 PM to 3:00 PM\, at the Cartersville Career Center. \nFor more information\, call 770-276-7036. \nClick here to learn more and register.
URL:https://metroatlantaexchange.org/event/goodwill-of-north-georgia-diversified-5k-battery-open-interviews/2026-01-29/
LOCATION:Goodwill of North Georgia – Cartersville Career Center\, 929 Joe Frank Harris Parkway\, Cartersville\, GA\, 30120\, United States
CATEGORIES:In-Person Event,Job Seeker
GEO:34.1974793;-84.7941559
X-APPLE-STRUCTURED-LOCATION;VALUE=URI;X-ADDRESS=Goodwill of North Georgia – Cartersville Career Center 929 Joe Frank Harris Parkway Cartersville GA 30120 United States;X-APPLE-RADIUS=500;X-TITLE=929 Joe Frank Harris Parkway:geo:-84.7941559,34.1974793
END:VEVENT
BEGIN:VEVENT
DTSTART;TZID=America/New_York:20260129T140000
DTEND;TZID=America/New_York:20260129T160000
DTSTAMP:20260422T212747
CREATED:20260119T175009Z
LAST-MODIFIED:20260119T175009Z
UID:10035814-1769695200-1769702400@metroatlantaexchange.org
SUMMARY:Goodwill of North Georgia: Spherion Hiring Event
DESCRIPTION:Goodwill of North Georgia is hosting a Spherion Hiring Event every Thursday\, from 2:00 PM to 4:00 PM\, at the Cornelia Career Center. \nFor more information\, call 706-894-4905. \nClick here to learn more and register.
URL:https://metroatlantaexchange.org/event/goodwill-of-north-georgia-spherion-hiring-event-7/2026-01-29/
LOCATION:Goodwill of North Georgia – Cornelia Career Center\, 308 Habersham Hills Circle\, Cornelia\, GA\, 30531\, United States
CATEGORIES:In-Person Event,Job Seeker
END:VEVENT
BEGIN:VEVENT
DTSTART;TZID=America/New_York:20260129T150000
DTEND;TZID=America/New_York:20260129T180000
DTSTAMP:20260422T212747
CREATED:20260119T183926Z
LAST-MODIFIED:20260119T183926Z
UID:10035831-1769698800-1769709600@metroatlantaexchange.org
SUMMARY:Northeast Georgia Health System (NGHS): NGPG/GHI Hiring Event
DESCRIPTION:Northeast Georgia Health System (NGHS) is hosting an NGPG/GHI Hiring Event on Thursday\, January 29th\, from 3:00 PM to 6:00 PM\, at NGPG Flowery Branch. \nThe Northeast Georgia Physicians Group (NGPG) and Georgia Heart Institute (GHI) is seeking Certified Medical Assistants (CMA)\, Registered Medical Assistants (RMA) and Licensed Practical Nurses (LPN). Hiring managers will be on-site\, so come prepared for an interview. Sign-on and relocation bonuses may be available for some select roles. \nClick here to learn more and register.
URL:https://metroatlantaexchange.org/event/northeast-georgia-health-system-nghs-ngpg-ghi-hiring-event/
LOCATION:NGPG Flowery Branch\, 5678 Phil Niekro Boulevard\, Flowery Branch\, GA\, 30542\, United States
CATEGORIES:In-Person Event,Job Seeker
END:VEVENT
END:VCALENDAR