BEGIN:VCALENDAR
VERSION:2.0
PRODID:-//MAX - ECPv6.15.17.1//NONSGML v1.0//EN
CALSCALE:GREGORIAN
METHOD:PUBLISH
X-WR-CALNAME:MAX
X-ORIGINAL-URL:https://metroatlantaexchange.org
X-WR-CALDESC:Events for MAX
REFRESH-INTERVAL;VALUE=DURATION:PT1H
X-Robots-Tag:noindex
X-PUBLISHED-TTL:PT1H
BEGIN:VTIMEZONE
TZID:America/New_York
BEGIN:DAYLIGHT
TZOFFSETFROM:-0500
TZOFFSETTO:-0400
TZNAME:EDT
DTSTART:20250309T070000
END:DAYLIGHT
BEGIN:STANDARD
TZOFFSETFROM:-0400
TZOFFSETTO:-0500
TZNAME:EST
DTSTART:20251102T060000
END:STANDARD
BEGIN:DAYLIGHT
TZOFFSETFROM:-0500
TZOFFSETTO:-0400
TZNAME:EDT
DTSTART:20260308T070000
END:DAYLIGHT
BEGIN:STANDARD
TZOFFSETFROM:-0400
TZOFFSETTO:-0500
TZNAME:EST
DTSTART:20261101T060000
END:STANDARD
BEGIN:DAYLIGHT
TZOFFSETFROM:-0500
TZOFFSETTO:-0400
TZNAME:EDT
DTSTART:20270314T070000
END:DAYLIGHT
BEGIN:STANDARD
TZOFFSETFROM:-0400
TZOFFSETTO:-0500
TZNAME:EST
DTSTART:20271107T060000
END:STANDARD
END:VTIMEZONE
BEGIN:VEVENT
DTSTART;TZID=America/New_York:20260203T090000
DTEND;TZID=America/New_York:20260203T150000
DTSTAMP:20260423T004323
CREATED:20251220T213508Z
LAST-MODIFIED:20251220T213508Z
UID:10035778-1770109200-1770130800@metroatlantaexchange.org
SUMMARY:Gwinnett County Government: Career From Here Job Fair
DESCRIPTION:Gwinnett County Government is hosting a Career From Here Job Fair on Tuesday\, February 3rd\, from 9:00 AM to 3:00 PM\, at the Gas South Convention Center. \nGwinnett County Government offers impactful career opportunities in a variety of fields including accounting\, administration\, automotive\, code enforcement\, custodial\, education\, engineering\, food services and many more. Gwinnett offers competitive pay\, benefits\, paid training\, educational incentives for certain positions\, tuition reimbursement\, career advancement\, and so much more! \nClick here to learn more and register.
URL:https://metroatlantaexchange.org/event/gwinnett-county-government-career-from-here-job-fair/
LOCATION:Gas South Arena\, 6400 Sugarloaf Parkway\, Duluth\, GA\, 30097\, United States
CATEGORIES:In-Person Event,Job Seeker
END:VEVENT
BEGIN:VEVENT
DTSTART;TZID=America/New_York:20260203T100000
DTEND;TZID=America/New_York:20260203T140000
DTSTAMP:20260423T004323
CREATED:20260120T010929Z
LAST-MODIFIED:20260120T010929Z
UID:10035862-1770112800-1770127200@metroatlantaexchange.org
SUMMARY:Fulton County Library System: Mobile Career Center
DESCRIPTION:The Fulton County Library System hosts a Mobile Career Center every first Tuesday of the month\, from 10:00 AM to 2:00 PM\, at the Palmetto Branch Library. \nJoin the Fulton County Library System once a month for a career assistance program that includes job search assistance\, resume writing\, job training\, and digital training. \nClick here to learn more.
URL:https://metroatlantaexchange.org/event/fulton-county-library-system-mobile-career-center/2026-02-03/
LOCATION:Palmetto Branch Library\, 9111 Cascade Palmetto Highway\, Palmetto\, GA\, 30268\, United States
CATEGORIES:Career Development,In-Person Event,Job Seeker
END:VEVENT
BEGIN:VEVENT
DTSTART;TZID=America/New_York:20260203T120000
DTEND;TZID=America/New_York:20260203T130000
DTSTAMP:20260423T004323
CREATED:20260120T011419Z
LAST-MODIFIED:20260120T011419Z
UID:10035868-1770120000-1770123600@metroatlantaexchange.org
SUMMARY:Connecting Communities and Families: Mental Health Workshops
DESCRIPTION:Connecting Communities and Families hosts a weekly Mental Health Workshop each Tuesday\, from 12:00 PM to 1:00 PM\, virtually. Topics include Stress Management\, Workplace Wellness\, Supporting Veterans and Their Families\, Building Resilience and much more. \nClick here to learn more and register. \n 
URL:https://metroatlantaexchange.org/event/connecting-communities-and-families-mental-health-workshops/2026-02-03/
LOCATION:GA
CATEGORIES:Career Development,Job Seeker,Virtual Event
END:VEVENT
BEGIN:VEVENT
DTSTART;TZID=America/New_York:20260203T140000
DTEND;TZID=America/New_York:20260203T160000
DTSTAMP:20260423T004323
CREATED:20260120T011731Z
LAST-MODIFIED:20260120T011731Z
UID:10035878-1770127200-1770134400@metroatlantaexchange.org
SUMMARY:Goodwill of North Georgia: IBM Skills Build Technology Training
DESCRIPTION:Goodwill of North Georgia is hosting an IBM Skills Build Technology Training every Tuesday\, from 2:00 PM to 4:00 PM\, at the Woodstock Career Center. \nFor more information\, call 770-874-0901. \nClick here to learn more and register.
URL:https://metroatlantaexchange.org/event/goodwill-of-north-georgia-ibm-skills-build-technology-training-2/2026-02-03/
LOCATION:Goodwill of North Georgia – Woodstock Career Center\, 9425 Highway 92\, Woodstock\, GA\, 30188\, United States
CATEGORIES:Career Development,In-Person Event,Job Seeker
GEO:34.0872637;-84.5325399
X-APPLE-STRUCTURED-LOCATION;VALUE=URI;X-ADDRESS=Goodwill of North Georgia – Woodstock Career Center 9425 Highway 92 Woodstock GA 30188 United States;X-APPLE-RADIUS=500;X-TITLE=9425 Highway 92:geo:-84.5325399,34.0872637
END:VEVENT
BEGIN:VEVENT
DTSTART;TZID=America/New_York:20260203T163000
DTEND;TZID=America/New_York:20260203T180000
DTSTAMP:20260423T004323
CREATED:20260119T184709Z
LAST-MODIFIED:20260119T184709Z
UID:10035835-1770136200-1770141600@metroatlantaexchange.org
SUMMARY:Fulton County Schools: Elementary Teacher Virtual Career Fair
DESCRIPTION:Fulton County Schools is hosting an Elementary Teacher Virtual Career Fair on Tuesday\, February 3rd\, from 4:30 PM to 6:00 PM. \nGet to know Fulton during this event that allows participants to chat with Fulton schools about available teaching positions. Enjoy competitive salaries\, world-class training\, opportunities for growth and more. \nClick here to learn more and register. \nClick here for a flyer.
URL:https://metroatlantaexchange.org/event/fulton-county-schools-elementary-teacher-virtual-career-fair/
LOCATION:GA
CATEGORIES:Job Seeker,Virtual Event
END:VEVENT
END:VCALENDAR