BEGIN:VCALENDAR
VERSION:2.0
PRODID:-//MAX - ECPv6.15.17.1//NONSGML v1.0//EN
CALSCALE:GREGORIAN
METHOD:PUBLISH
X-WR-CALNAME:MAX
X-ORIGINAL-URL:https://metroatlantaexchange.org
X-WR-CALDESC:Events for MAX
REFRESH-INTERVAL;VALUE=DURATION:PT1H
X-Robots-Tag:noindex
X-PUBLISHED-TTL:PT1H
BEGIN:VTIMEZONE
TZID:America/New_York
BEGIN:DAYLIGHT
TZOFFSETFROM:-0500
TZOFFSETTO:-0400
TZNAME:EDT
DTSTART:20250309T070000
END:DAYLIGHT
BEGIN:STANDARD
TZOFFSETFROM:-0400
TZOFFSETTO:-0500
TZNAME:EST
DTSTART:20251102T060000
END:STANDARD
BEGIN:DAYLIGHT
TZOFFSETFROM:-0500
TZOFFSETTO:-0400
TZNAME:EDT
DTSTART:20260308T070000
END:DAYLIGHT
BEGIN:STANDARD
TZOFFSETFROM:-0400
TZOFFSETTO:-0500
TZNAME:EST
DTSTART:20261101T060000
END:STANDARD
BEGIN:DAYLIGHT
TZOFFSETFROM:-0500
TZOFFSETTO:-0400
TZNAME:EDT
DTSTART:20270314T070000
END:DAYLIGHT
BEGIN:STANDARD
TZOFFSETFROM:-0400
TZOFFSETTO:-0500
TZNAME:EST
DTSTART:20271107T060000
END:STANDARD
END:VTIMEZONE
BEGIN:VEVENT
DTSTART;TZID=America/New_York:20260204T110000
DTEND;TZID=America/New_York:20260204T150000
DTSTAMP:20260422T230102
CREATED:20251220T213616Z
LAST-MODIFIED:20251220T213616Z
UID:10035779-1770202800-1770217200@metroatlantaexchange.org
SUMMARY:CareerEco: Government and Nonprofit Virtual Job Fair
DESCRIPTION:CareerEco is hosting a Government and Nonprofit Virtual Job Fair on Wednesday\, February 4th\, from 11:00 AM to 3:00 PM. \nThis virtual fair will connect purpose-driven individuals with government agencies and nonprofit organizations committed to public service and social impact. Explore meaningful career paths and engage with leaders who value purpose\, service\, and community. \nClick here to learn more and register.
URL:https://metroatlantaexchange.org/event/careereco-government-and-nonprofit-virtual-job-fair/
LOCATION:GA
CATEGORIES:Job Seeker,Virtual Event
ORGANIZER;CN="CareerEco":MAILTO:Events@CareerEco.com
END:VEVENT
BEGIN:VEVENT
DTSTART;TZID=America/New_York:20260204T120000
DTEND;TZID=America/New_York:20260204T160000
DTSTAMP:20260422T230102
CREATED:20260119T184841Z
LAST-MODIFIED:20260119T184841Z
UID:10035836-1770206400-1770220800@metroatlantaexchange.org
SUMMARY:Hiring Our Heroes: Virtual Hiring Fair - Financial Services
DESCRIPTION:Hiring Our Heroes is hosting a Virtual Hiring Fair: Financial Services on Wednesday\, February 4th\, from 12:00 PM to 4:00 PM. \nRegister now for this virtual hiring event focused on employment opportunities in financial services! Employers are looking for talent from the military community and hiring for hundreds of open positions. This event is open to transitioning service members\, veterans\, military spouses\, and military caregivers. \nClick here to learn more and register.
URL:https://metroatlantaexchange.org/event/hiring-our-heroes-virtual-hiring-fair-financial-services/
LOCATION:GA
CATEGORIES:Job Seeker,Veterans/Military,Virtual Event
END:VEVENT
BEGIN:VEVENT
DTSTART;TZID=America/New_York:20260204T150000
DTEND;TZID=America/New_York:20260204T160000
DTSTAMP:20260422T230102
CREATED:20251203T141838Z
LAST-MODIFIED:20251203T141838Z
UID:10035719-1770217200-1770220800@metroatlantaexchange.org
SUMMARY:Manufacturing Institute: Heroes Connect - Plastics Pipe Institute
DESCRIPTION:The Manufacturing Institute is hosting a Heroes Connect: Plastics Pipe Institute on Wednesday\, February 4th\, from 3:00 PM to 4:00 PM. \nTake a behind-the-scenes look at life and careers in the Plastics Pipe industry. In this interactive session\, you’ll meet company leaders\, explore their veteran-friendly culture\, and learn about open roles where you can make an impact. \nClick here to learn more and register.
URL:https://metroatlantaexchange.org/event/manufacturing-institute-heroes-connect-plastics-pipe-institute/
LOCATION:GA
CATEGORIES:Career Development,Job Seeker,Virtual Event
END:VEVENT
END:VCALENDAR