BEGIN:VCALENDAR
VERSION:2.0
PRODID:-//MAX - ECPv6.15.17.1//NONSGML v1.0//EN
CALSCALE:GREGORIAN
METHOD:PUBLISH
X-WR-CALNAME:MAX
X-ORIGINAL-URL:https://metroatlantaexchange.org
X-WR-CALDESC:Events for MAX
REFRESH-INTERVAL;VALUE=DURATION:PT1H
X-Robots-Tag:noindex
X-PUBLISHED-TTL:PT1H
BEGIN:VTIMEZONE
TZID:America/New_York
BEGIN:DAYLIGHT
TZOFFSETFROM:-0500
TZOFFSETTO:-0400
TZNAME:EDT
DTSTART:20250309T070000
END:DAYLIGHT
BEGIN:STANDARD
TZOFFSETFROM:-0400
TZOFFSETTO:-0500
TZNAME:EST
DTSTART:20251102T060000
END:STANDARD
BEGIN:DAYLIGHT
TZOFFSETFROM:-0500
TZOFFSETTO:-0400
TZNAME:EDT
DTSTART:20260308T070000
END:DAYLIGHT
BEGIN:STANDARD
TZOFFSETFROM:-0400
TZOFFSETTO:-0500
TZNAME:EST
DTSTART:20261101T060000
END:STANDARD
BEGIN:DAYLIGHT
TZOFFSETFROM:-0500
TZOFFSETTO:-0400
TZNAME:EDT
DTSTART:20270314T070000
END:DAYLIGHT
BEGIN:STANDARD
TZOFFSETFROM:-0400
TZOFFSETTO:-0500
TZNAME:EST
DTSTART:20271107T060000
END:STANDARD
END:VTIMEZONE
BEGIN:VEVENT
DTSTART;TZID=America/New_York:20260226T120000
DTEND;TZID=America/New_York:20260226T160000
DTSTAMP:20260423T010126
CREATED:20260119T213617Z
LAST-MODIFIED:20260119T213617Z
UID:10035857-1772107200-1772121600@metroatlantaexchange.org
SUMMARY:Hiring Our Heroes: Virtual Hiring Fair - Mid-to-Senior Level Technology and Cybersecurity Talent
DESCRIPTION:Hiring Our Heroes is hosting a Virtual Hiring Fair: Mid-to-Senior Level Technology and Cybersecurity Talent on Thursday\, February 26th\, from 12:00 PM to 4:00 PM. \nRegister now for this virtual hiring event focused on employment opportunities for experienced professionals in technology and cybersecurity!Recruitment teams from dozens of employers are looking for talent from the military community to fill thousands of open positions. Available roles include positions in IT support\, network engineering\, software engineering\, data analytics\, AI\, cybersecurity analytics\, and more. The event is open to transitioning service members\, veterans\, military spouses\, and military caregivers.  \nClick here to learn more and register.
URL:https://metroatlantaexchange.org/event/hiring-our-heroes-virtual-hiring-fair-mid-to-senior-level-technology-and-cybersecurity-talent-2/
LOCATION:GA
CATEGORIES:Job Seeker,Veterans/Military,Virtual Event
END:VEVENT
END:VCALENDAR