BEGIN:VCALENDAR
VERSION:2.0
PRODID:-//MAX - ECPv6.15.17.1//NONSGML v1.0//EN
CALSCALE:GREGORIAN
METHOD:PUBLISH
X-WR-CALNAME:MAX
X-ORIGINAL-URL:https://metroatlantaexchange.org
X-WR-CALDESC:Events for MAX
REFRESH-INTERVAL;VALUE=DURATION:PT1H
X-Robots-Tag:noindex
X-PUBLISHED-TTL:PT1H
BEGIN:VTIMEZONE
TZID:America/New_York
BEGIN:DAYLIGHT
TZOFFSETFROM:-0500
TZOFFSETTO:-0400
TZNAME:EDT
DTSTART:20250309T070000
END:DAYLIGHT
BEGIN:STANDARD
TZOFFSETFROM:-0400
TZOFFSETTO:-0500
TZNAME:EST
DTSTART:20251102T060000
END:STANDARD
BEGIN:DAYLIGHT
TZOFFSETFROM:-0500
TZOFFSETTO:-0400
TZNAME:EDT
DTSTART:20260308T070000
END:DAYLIGHT
BEGIN:STANDARD
TZOFFSETFROM:-0400
TZOFFSETTO:-0500
TZNAME:EST
DTSTART:20261101T060000
END:STANDARD
BEGIN:DAYLIGHT
TZOFFSETFROM:-0500
TZOFFSETTO:-0400
TZNAME:EDT
DTSTART:20270314T070000
END:DAYLIGHT
BEGIN:STANDARD
TZOFFSETFROM:-0400
TZOFFSETTO:-0500
TZNAME:EST
DTSTART:20271107T060000
END:STANDARD
END:VTIMEZONE
BEGIN:VEVENT
DTSTART;TZID=America/New_York:20260314T090000
DTEND;TZID=America/New_York:20260314T120000
DTSTAMP:20260423T012037
CREATED:20251220T215817Z
LAST-MODIFIED:20251220T215817Z
UID:10035786-1773478800-1773489600@metroatlantaexchange.org
SUMMARY:Cobb County School District (CCSD): Support Staff Job Fair
DESCRIPTION:The Cobb County School District (CCSD) is hosting a Support Staff Job Fair on Saturday\, March 14th\, from 9:00 AM to 12:00 PM\, at Truist Park. \nCompetitive salaries and being named “Best-In-State and Nation Employer” by Forbes Magazine make Cobb the BEST place to Teach\, Lead\, and Learn! Open roles include Mechanics\, Maintenance\, Bus Drivers\, Food and Nutrition Services\, Nurses\, Custodians\, Special Education Paraprofessionals\, General Education Paraprofessionals\, Campus Police and more. Candidates must click here to complete a CCSD application before attending the job fair. \nClick here to learn more and register.
URL:https://metroatlantaexchange.org/event/cobb-county-school-district-ccsd-support-staff-job-fair/
LOCATION:Truist Park\, 755 Battery Avenue\, SE\, Atlanta\, GA\, 30339\, United States
CATEGORIES:In-Person Event,Job Seeker
END:VEVENT
END:VCALENDAR