BEGIN:VCALENDAR
VERSION:2.0
PRODID:-//MAX - ECPv6.15.17.1//NONSGML v1.0//EN
CALSCALE:GREGORIAN
METHOD:PUBLISH
X-WR-CALNAME:MAX
X-ORIGINAL-URL:https://metroatlantaexchange.org
X-WR-CALDESC:Events for MAX
REFRESH-INTERVAL;VALUE=DURATION:PT1H
X-Robots-Tag:noindex
X-PUBLISHED-TTL:PT1H
BEGIN:VTIMEZONE
TZID:America/New_York
BEGIN:DAYLIGHT
TZOFFSETFROM:-0500
TZOFFSETTO:-0400
TZNAME:EDT
DTSTART:20250309T070000
END:DAYLIGHT
BEGIN:STANDARD
TZOFFSETFROM:-0400
TZOFFSETTO:-0500
TZNAME:EST
DTSTART:20251102T060000
END:STANDARD
BEGIN:DAYLIGHT
TZOFFSETFROM:-0500
TZOFFSETTO:-0400
TZNAME:EDT
DTSTART:20260308T070000
END:DAYLIGHT
BEGIN:STANDARD
TZOFFSETFROM:-0400
TZOFFSETTO:-0500
TZNAME:EST
DTSTART:20261101T060000
END:STANDARD
BEGIN:DAYLIGHT
TZOFFSETFROM:-0500
TZOFFSETTO:-0400
TZNAME:EDT
DTSTART:20270314T070000
END:DAYLIGHT
BEGIN:STANDARD
TZOFFSETFROM:-0400
TZOFFSETTO:-0500
TZNAME:EST
DTSTART:20271107T060000
END:STANDARD
END:VTIMEZONE
BEGIN:VEVENT
DTSTART;TZID=America/New_York:20260317T100000
DTEND;TZID=America/New_York:20260317T120000
DTSTAMP:20260423T010142
CREATED:20260310T183931Z
LAST-MODIFIED:20260310T183931Z
UID:10035988-1773741600-1773748800@metroatlantaexchange.org
SUMMARY:Goodwill of North Georgia: Kelly Services Hiring Event
DESCRIPTION:Goodwill of North Georgia is hosting a Kelly Services Hiring Event on Tuesday\, March 17th\, from 10:00 AM to 12:00 PM\, at the Metropolitan Parkway Career Center. \nFor more information\, call 770-795-4204. \nClick here to learn more and register.
URL:https://metroatlantaexchange.org/event/goodwill-of-north-georgia-kelly-services-hiring-event/
LOCATION:Goodwill of North Georgia – Metropolitan Parkway Career Center\, 2160 Metropolitan Parkway\, Atlanta\, GA\, 30315\, United States
CATEGORIES:In-Person Event,Job Seeker
END:VEVENT
BEGIN:VEVENT
DTSTART;TZID=America/New_York:20260317T100000
DTEND;TZID=America/New_York:20260317T120000
DTSTAMP:20260423T010142
CREATED:20260310T184208Z
LAST-MODIFIED:20260310T184208Z
UID:10035990-1773741600-1773748800@metroatlantaexchange.org
SUMMARY:Goodwill of North Georgia: Multi-Employer Job Fair
DESCRIPTION:Goodwill of North Georgia is hosting a Multi-Employer Job Fair on Tuesday\, March 17th\, from 10:00 AM to 12:00 PM\, at the Rome Career Center. \nFor more information\, call 706-292-3304. \nClick here to learn more and register.
URL:https://metroatlantaexchange.org/event/goodwill-of-north-georgia-multi-employer-job-fair-4/
LOCATION:Goodwill of North Georgia – Rome Career Center\, 154 Hicks Drive\, Rome\, 30161
CATEGORIES:In-Person Event,Job Seeker
END:VEVENT
BEGIN:VEVENT
DTSTART;TZID=America/New_York:20260317T100000
DTEND;TZID=America/New_York:20260317T130000
DTSTAMP:20260423T010142
CREATED:20260310T184326Z
LAST-MODIFIED:20260310T184326Z
UID:10035991-1773741600-1773752400@metroatlantaexchange.org
SUMMARY:Goodwill of North Georgia: Multi-Employer Hiring Event
DESCRIPTION:Goodwill of North Georgia is hosting a Multi-Employer Hiring Event on Tuesday\, March 17th\, from 10:00 AM to 1:00 PM\, at the Smyrna Career Center. \nFor more information\, call 678-766-8173. \nClick here to learn more and register.
URL:https://metroatlantaexchange.org/event/goodwill-of-north-georgia-multi-employer-hiring-event-6/
LOCATION:Goodwill of North Georgia – Smyrna Career Center\, 3205 South Cobb Drive\, Smyrna\, GA\, 30080\, United States
CATEGORIES:In-Person Event,Job Seeker
GEO:33.8769374;-84.5289443
X-APPLE-STRUCTURED-LOCATION;VALUE=URI;X-ADDRESS=Goodwill of North Georgia – Smyrna Career Center 3205 South Cobb Drive Smyrna GA 30080 United States;X-APPLE-RADIUS=500;X-TITLE=3205 South Cobb Drive:geo:-84.5289443,33.8769374
END:VEVENT
BEGIN:VEVENT
DTSTART;TZID=America/New_York:20260317T100000
DTEND;TZID=America/New_York:20260317T140000
DTSTAMP:20260423T010142
CREATED:20260310T184052Z
LAST-MODIFIED:20260310T184052Z
UID:10035989-1773741600-1773756000@metroatlantaexchange.org
SUMMARY:Goodwill of North Georgia: Multi-Employer Hiring Event
DESCRIPTION:Goodwill of North Georgia is hosting a Multi-Employer Hiring Event on Tuesday\, March 17th\, from 10:00 AM to 2:00 PM\, at the Old National Career Center. \nFor more information\, call 678-554-0412. \nClick here to learn more and register.
URL:https://metroatlantaexchange.org/event/goodwill-of-north-georgia-multi-employer-hiring-event-5/
LOCATION:Goodwill of North Georgia – Old National Career Center\, 6175 Old National Highway\, Suite 120\, Atlanta\, GA\, 30349\, United States
CATEGORIES:In-Person Event,Job Seeker
END:VEVENT
BEGIN:VEVENT
DTSTART;TZID=America/New_York:20260317T100000
DTEND;TZID=America/New_York:20260317T140000
DTSTAMP:20260423T010142
CREATED:20260310T184442Z
LAST-MODIFIED:20260310T184442Z
UID:10035992-1773741600-1773756000@metroatlantaexchange.org
SUMMARY:Northeast Georgia Health System (NGHS): Nursing Hiring Event
DESCRIPTION:The Northeast Georgia Health System (NGHS) is hosting a Nursing Hiring Event on Tuesday\, March 17th\, from 10:00 AM to 2:00 PM\, at Cornerstone Coworking. \nGrow your nursing career at one of Georgia’s top-ranked community hospitals. Don’t miss your chance to explore full-time\, part-time\, PRN and nightshift registered nurse (RN) opportunities at all NGHS hospital locations. Be part of a supportive\, community-focused organization where your work truly makes a difference. \nClick here to learn more and register.
URL:https://metroatlantaexchange.org/event/northeast-georgia-health-system-nghs-nursing-hiring-event-2/
LOCATION:Cornerstone Coworking\, 279 West Crogan Street\, Lawrenceville\, GA\, 30046\, United States
CATEGORIES:In-Person Event,Job Seeker
END:VEVENT
BEGIN:VEVENT
DTSTART;TZID=America/New_York:20260317T110000
DTEND;TZID=America/New_York:20260317T130000
DTSTAMP:20260423T010142
CREATED:20260310T184616Z
LAST-MODIFIED:20260310T184616Z
UID:10035993-1773745200-1773752400@metroatlantaexchange.org
SUMMARY:Goodwill of North Georgia: Career and Resource Fair
DESCRIPTION:Goodwill of North Georgia is hosting a Career and Resource Fair on Tuesday\, March 17th\, from 11:00 AM to 1:00 PM\, at the Woodstock Career Center. \nFor more information\, call 770-874-0901. \nClick here to learn more and register.
URL:https://metroatlantaexchange.org/event/goodwill-of-north-georgia-career-and-resource-fair-2/
LOCATION:Goodwill of North Georgia – Woodstock Career Center\, 9425 Highway 92\, Woodstock\, GA\, 30188\, United States
CATEGORIES:In-Person Event,Job Seeker
GEO:34.0872637;-84.5325399
X-APPLE-STRUCTURED-LOCATION;VALUE=URI;X-ADDRESS=Goodwill of North Georgia – Woodstock Career Center 9425 Highway 92 Woodstock GA 30188 United States;X-APPLE-RADIUS=500;X-TITLE=9425 Highway 92:geo:-84.5325399,34.0872637
END:VEVENT
BEGIN:VEVENT
DTSTART;TZID=America/New_York:20260317T120000
DTEND;TZID=America/New_York:20260317T130000
DTSTAMP:20260423T010142
CREATED:20260120T011419Z
LAST-MODIFIED:20260120T011419Z
UID:10035874-1773748800-1773752400@metroatlantaexchange.org
SUMMARY:Connecting Communities and Families: Mental Health Workshops
DESCRIPTION:Connecting Communities and Families hosts a weekly Mental Health Workshop each Tuesday\, from 12:00 PM to 1:00 PM\, virtually. Topics include Stress Management\, Workplace Wellness\, Supporting Veterans and Their Families\, Building Resilience and much more. \nClick here to learn more and register. \n 
URL:https://metroatlantaexchange.org/event/connecting-communities-and-families-mental-health-workshops/2026-03-17/
LOCATION:GA
CATEGORIES:Career Development,Job Seeker,Virtual Event
END:VEVENT
BEGIN:VEVENT
DTSTART;TZID=America/New_York:20260317T120000
DTEND;TZID=America/New_York:20260317T160000
DTSTAMP:20260423T010142
CREATED:20260310T184730Z
LAST-MODIFIED:20260310T184730Z
UID:10035994-1773748800-1773763200@metroatlantaexchange.org
SUMMARY:RecruitMilitary: National Virtual Career Fair
DESCRIPTION:RecruitMilitary is hosting a National Virtual Career Fair on Tuesday\, March 17th\, from 12:00 PM to 4:00 PM. \nThis unique event is where job seekers with military experience can meet with recruiters from local and national companies\, allowing participants to take a deep dive into an organization’s culture\, benefits\, and open roles. Learn about specific positions\, meet hiring managers\, and connect with organizations in a relaxed\, pressure-free environment. This event is free for U.S. veterans\, military spouses\, transitioning military\, and members of the Guard and Reserve. \nClick here to learn more and register.
URL:https://metroatlantaexchange.org/event/recruitmilitary-national-virtual-career-fair-2/
LOCATION:GA
CATEGORIES:Job Seeker,Veterans/Military,Virtual Event
END:VEVENT
BEGIN:VEVENT
DTSTART;TZID=America/New_York:20260317T163000
DTEND;TZID=America/New_York:20260317T180000
DTSTAMP:20260423T010142
CREATED:20260310T184902Z
LAST-MODIFIED:20260310T184902Z
UID:10035995-1773765000-1773770400@metroatlantaexchange.org
SUMMARY:Fulton County Schools (FCS): FCS Middle & High School Virtual Career Fair
DESCRIPTION:Fulton County Schools (FCS) is hosting an FCS Middle & High School Virtual Career Fair on Tuesday\, March 17th\, from 4:30 PM to 6:00 PM. \nGet to know Fulton as you chat with Fulton schools about available teaching positions for Elementary Teachers. Benefits include competitive salaries\, world-class training\, opportunities for growth\, an employee wellness program and more. \nClick here to learn more. Click here for a flyer.
URL:https://metroatlantaexchange.org/event/fulton-county-schools-fcs-fcs-middle-high-school-virtual-career-fair/
LOCATION:GA
CATEGORIES:Job Seeker,Virtual Event
END:VEVENT
END:VCALENDAR