BEGIN:VCALENDAR
VERSION:2.0
PRODID:-//MAX - ECPv6.15.17.1//NONSGML v1.0//EN
CALSCALE:GREGORIAN
METHOD:PUBLISH
X-WR-CALNAME:MAX
X-ORIGINAL-URL:https://metroatlantaexchange.org
X-WR-CALDESC:Events for MAX
REFRESH-INTERVAL;VALUE=DURATION:PT1H
X-Robots-Tag:noindex
X-PUBLISHED-TTL:PT1H
BEGIN:VTIMEZONE
TZID:America/New_York
BEGIN:DAYLIGHT
TZOFFSETFROM:-0500
TZOFFSETTO:-0400
TZNAME:EDT
DTSTART:20250309T070000
END:DAYLIGHT
BEGIN:STANDARD
TZOFFSETFROM:-0400
TZOFFSETTO:-0500
TZNAME:EST
DTSTART:20251102T060000
END:STANDARD
BEGIN:DAYLIGHT
TZOFFSETFROM:-0500
TZOFFSETTO:-0400
TZNAME:EDT
DTSTART:20260308T070000
END:DAYLIGHT
BEGIN:STANDARD
TZOFFSETFROM:-0400
TZOFFSETTO:-0500
TZNAME:EST
DTSTART:20261101T060000
END:STANDARD
BEGIN:DAYLIGHT
TZOFFSETFROM:-0500
TZOFFSETTO:-0400
TZNAME:EDT
DTSTART:20270314T070000
END:DAYLIGHT
BEGIN:STANDARD
TZOFFSETFROM:-0400
TZOFFSETTO:-0500
TZNAME:EST
DTSTART:20271107T060000
END:STANDARD
END:VTIMEZONE
BEGIN:VEVENT
DTSTART;TZID=America/New_York:20260326T100000
DTEND;TZID=America/New_York:20260326T120000
DTSTAMP:20260422T211142
CREATED:20260310T182157Z
LAST-MODIFIED:20260310T182229Z
UID:10035975-1774519200-1774526400@metroatlantaexchange.org
SUMMARY:Goodwill of North Georgia: Chase Staffing Open Position Interviews
DESCRIPTION:Goodwill of North Georgia is hosting Chase Staffing Open Position Interviews every Thursday\, from 10:00 AM to 12:00 PM\, at the Cartersville Career Center. \nFor more information\, call 770-276-7036. \nClick here to learn more and register.
URL:https://metroatlantaexchange.org/event/goodwill-of-north-georgia-chase-staffing-open-position-interviews-4/2026-03-26/
LOCATION:Goodwill of North Georgia – Cartersville Career Center\, 929 Joe Frank Harris Parkway\, Cartersville\, GA\, 30120\, United States
CATEGORIES:In-Person Event,Job Seeker
GEO:34.1974793;-84.7941559
X-APPLE-STRUCTURED-LOCATION;VALUE=URI;X-ADDRESS=Goodwill of North Georgia – Cartersville Career Center 929 Joe Frank Harris Parkway Cartersville GA 30120 United States;X-APPLE-RADIUS=500;X-TITLE=929 Joe Frank Harris Parkway:geo:-84.7941559,34.1974793
END:VEVENT
BEGIN:VEVENT
DTSTART;TZID=America/New_York:20260326T100000
DTEND;TZID=America/New_York:20260326T120000
DTSTAMP:20260422T211142
CREATED:20260310T193635Z
LAST-MODIFIED:20260310T193635Z
UID:10036020-1774519200-1774526400@metroatlantaexchange.org
SUMMARY:Goodwill of North Georgia: Multi-Employer Hiring Event
DESCRIPTION:Goodwill of North Georgia is hosting a Multi-Employer Hiring Event on Thursday\, March 26th\, from 10:00 AM to 12:00 PM\, at the Oakwood Career Center. \nFor more information\, call 770-538-4209. \nClick here to learn more and register. \n 
URL:https://metroatlantaexchange.org/event/goodwill-of-north-georgia-multi-employer-hiring-event-7/
LOCATION:Goodwill of North Georgia – Oakwood Career Center\, 3715 Mundy Mill Road\, Oakwood\, GA\, 30566\, United States
CATEGORIES:In-Person Event,Job Seeker
GEO:34.2290795;-83.8701636
X-APPLE-STRUCTURED-LOCATION;VALUE=URI;X-ADDRESS=Goodwill of North Georgia – Oakwood Career Center 3715 Mundy Mill Road Oakwood GA 30566 United States;X-APPLE-RADIUS=500;X-TITLE=3715 Mundy Mill Road:geo:-83.8701636,34.2290795
END:VEVENT
BEGIN:VEVENT
DTSTART;TZID=America/New_York:20260326T110000
DTEND;TZID=America/New_York:20260326T130000
DTSTAMP:20260422T211142
CREATED:20260310T194020Z
LAST-MODIFIED:20260310T194020Z
UID:10036023-1774522800-1774530000@metroatlantaexchange.org
SUMMARY:Goodwill of North Georgia: Multiple Employer Hiring Event
DESCRIPTION:Goodwill of North Georgia is hosting a Multiple Employer Hiring Event on Thursday\, March 26th\, from 11:00 AM to 1:00 PM\, at the Pleasant Hill Career Center. \nCall 770-564-2447 for more information. \nClick here to learn more and register.
URL:https://metroatlantaexchange.org/event/goodwill-of-north-georgia-multiple-employer-hiring-event-4/
LOCATION:Goodwill of North Georgia – Pleasant Hill Career Center\, 1502 Pleasant Hill Road\, Duluth\, GA\, 30096\, United States
CATEGORIES:In-Person Event,Job Seeker
GEO:33.9429794;-84.121643
X-APPLE-STRUCTURED-LOCATION;VALUE=URI;X-ADDRESS=Goodwill of North Georgia – Pleasant Hill Career Center 1502 Pleasant Hill Road Duluth GA 30096 United States;X-APPLE-RADIUS=500;X-TITLE=1502 Pleasant Hill Road:geo:-84.121643,33.9429794
END:VEVENT
BEGIN:VEVENT
DTSTART;TZID=America/New_York:20260326T110000
DTEND;TZID=America/New_York:20260326T130000
DTSTAMP:20260422T211142
CREATED:20260310T194504Z
LAST-MODIFIED:20260310T194504Z
UID:10036024-1774522800-1774530000@metroatlantaexchange.org
SUMMARY:Goodwill of North Georgia: Phillips State Prison Correctional Officer Hiring Event
DESCRIPTION:Goodwill of North Georgia is hosting a Phillips State Prison Correctional Officer Hiring Event on Thursday\, March 26th\, from 11:00 AM to 1:00 PM\, at the South DeKalb Career Center. \nFor more information\, call 404-728-8605. Click here to learn more and register.
URL:https://metroatlantaexchange.org/event/goodwill-of-north-georgia-phillips-state-prison-correctional-officer-hiring-event-2/
LOCATION:Goodwill of North Georgia – South DeKalb Career Center\, 1295 Columbia Drive\, Decatur\, GA\, 30032\, United States
CATEGORIES:In-Person Event,Job Seeker
GEO:33.7510576;-84.2656565
X-APPLE-STRUCTURED-LOCATION;VALUE=URI;X-ADDRESS=Goodwill of North Georgia – South DeKalb Career Center 1295 Columbia Drive Decatur GA 30032 United States;X-APPLE-RADIUS=500;X-TITLE=1295 Columbia Drive:geo:-84.2656565,33.7510576
END:VEVENT
BEGIN:VEVENT
DTSTART;TZID=America/New_York:20260326T110000
DTEND;TZID=America/New_York:20260326T140000
DTSTAMP:20260422T211142
CREATED:20260310T193849Z
LAST-MODIFIED:20260310T193849Z
UID:10036022-1774522800-1774533600@metroatlantaexchange.org
SUMMARY:Corporate Gray: Virtual Military-Friendly Job Fair
DESCRIPTION:Corporate Gray is hosting a Virtual Military-Friendly Job Fair on Thursday\, March 26th\, from 11:00 AM to 2:00 PM. \nThis fair is open to all job seekers to meet with military-friendly employers. \nClick here to learn more and register.
URL:https://metroatlantaexchange.org/event/corporate-gray-virtual-military-friendly-job-fair-3/
LOCATION:GA
CATEGORIES:Job Seeker,Veterans/Military,Virtual Event
END:VEVENT
BEGIN:VEVENT
DTSTART;TZID=America/New_York:20260326T110000
DTEND;TZID=America/New_York:20260326T150000
DTSTAMP:20260422T211142
CREATED:20260310T193743Z
LAST-MODIFIED:20260310T193743Z
UID:10036021-1774522800-1774537200@metroatlantaexchange.org
SUMMARY:CareerEco: Women in STEM Virtual Career and Grad School Fair
DESCRIPTION:CareerEco is hosting a Women in STEM Virtual Career and Grad School Fair on Thursday\, March 26th\, from 11:00 AM to 3:00 PM. \nTake bold steps toward your next opportunity – whether you’re launching your career\, pursuing advanced study\, or leveling up in your field. This event will connect women in science\, technology\, engineering\, and mathematics with forward-thinking employers and graduate programs. \nClick here to learn more and register.
URL:https://metroatlantaexchange.org/event/careereco-women-in-stem-virtual-career-and-grad-school-fair-3/
LOCATION:GA
CATEGORIES:Job Seeker,Student,Virtual Event
ORGANIZER;CN="CareerEco":MAILTO:Events@CareerEco.com
END:VEVENT
BEGIN:VEVENT
DTSTART;TZID=America/New_York:20260326T120000
DTEND;TZID=America/New_York:20260326T140000
DTSTAMP:20260422T211142
CREATED:20260310T194833Z
LAST-MODIFIED:20260310T194833Z
UID:10036026-1774526400-1774533600@metroatlantaexchange.org
SUMMARY:Kennesaw State University: Part-Time Employment Fair
DESCRIPTION:Kennesaw State University is hosting a Part-Time Employment Fair on Thursday\, March 26th\, from 12:00 PM to 2:00 PM\, at the Siegel Recreation and Activities Center. \nThis fair is designed for students of all majors and class levels who are looking for part-time job opportunities. \nClick here to learn more and register.
URL:https://metroatlantaexchange.org/event/kennesaw-state-university-part-time-employment-fair/
LOCATION:Kennesaw State University – Siegel Recreation and Activities Center\, 290 Kennesaw State University Road\, NW\, Kennesaw\, Georgia\, 30144
CATEGORIES:In-Person Event,Job Seeker,Student
END:VEVENT
BEGIN:VEVENT
DTSTART;TZID=America/New_York:20260326T120000
DTEND;TZID=America/New_York:20260326T140000
DTSTAMP:20260422T211142
CREATED:20260310T194958Z
LAST-MODIFIED:20260310T194958Z
UID:10036027-1774526400-1774533600@metroatlantaexchange.org
SUMMARY:MUST Ministries: Job Fair
DESCRIPTION:MUST Ministries is hosting a Job Fair on Thursday\, March 26th\, from 12:00 PM to 2:00 PM\, at MUST Ministries. \nNorthside Cherokee Hospital is recruiting for Patient Dining Associates. This full-time position has pay rates between $15.50 to $19 per hour. Please bring a current resume. \nContact bwider@mustministries.org with any questions. \nClick here for a flyer.
URL:https://metroatlantaexchange.org/event/must-ministries-job-fair-2/
LOCATION:MUST Ministries – Canton\, 111 Brown Industrial Parkway\, Canton\, 30114\, United States
CATEGORIES:In-Person Event,Job Seeker
END:VEVENT
BEGIN:VEVENT
DTSTART;TZID=America/New_York:20260326T120000
DTEND;TZID=America/New_York:20260326T160000
DTSTAMP:20260422T211142
CREATED:20260310T194637Z
LAST-MODIFIED:20260310T194637Z
UID:10036025-1774526400-1774540800@metroatlantaexchange.org
SUMMARY:G.I. Jobs: Military-Friendly Virtual Job Fair
DESCRIPTION:G.I. Jobs is hosting a Military-Friendly Virtual Job Fair on Thursday\, March 26th\, from 12:00 PM to 4:00 PM. \nExplore hot jobs while you chat with recruiters from the comfort of your own home. Apply for positions and talk with company recruiters who recognize the value that veterans bring to their organization. \nClick here to learn more and register.
URL:https://metroatlantaexchange.org/event/g-i-jobs-military-friendly-virtual-job-fair-2/
LOCATION:GA
CATEGORIES:Job Seeker,Veterans/Military,Virtual Event
END:VEVENT
BEGIN:VEVENT
DTSTART;TZID=America/New_York:20260326T140000
DTEND;TZID=America/New_York:20260326T160000
DTSTAMP:20260422T211142
CREATED:20260310T182639Z
LAST-MODIFIED:20260310T182639Z
UID:10035980-1774533600-1774540800@metroatlantaexchange.org
SUMMARY:Goodwill of North Georgia: Spherion Hiring Event
DESCRIPTION:Goodwill of North Georgia is hosting a Spherion Hiring Event every Thursday\, from 2:00 PM to 4:00 PM\, at the Cornelia Career Center. \nFor more information\, call 706-894-4905. \nClick here to learn more and register.
URL:https://metroatlantaexchange.org/event/goodwill-of-north-georgia-spherion-hiring-event-2/2026-03-26/
LOCATION:Goodwill of North Georgia – Cornelia Career Center\, 308 Habersham Hills Circle\, Cornelia\, GA\, 30531\, United States
CATEGORIES:In-Person Event,Job Seeker
END:VEVENT
BEGIN:VEVENT
DTSTART;TZID=America/New_York:20260326T160000
DTEND;TZID=America/New_York:20260326T180000
DTSTAMP:20260422T211142
CREATED:20260310T202454Z
LAST-MODIFIED:20260310T202454Z
UID:10036028-1774540800-1774548000@metroatlantaexchange.org
SUMMARY:Gwinnett County Public Schools (GCPS): Teacher and Paraprofessional Job Fair
DESCRIPTION:Gwinnett County Public Schools (GCPS) is hosting a Teacher and Paraprofessional Job Fair on Thursday\, March 26th\, from 4:00 PM to 6:00 PM\, at Gwinnett Field. \nCertified Teachers\, Paraprofessionals\, SLPs and SPED Educators are invited to join Team GCPS for some baseball and networking. \nClick here to learn more and register. Click here for a flyer.
URL:https://metroatlantaexchange.org/event/gwinnett-county-public-schools-gcps-teacher-and-paraprofessional-job-fair/
LOCATION:Gwinnett Field\, 2500 Buford Drive\, Lawrenceville\, GA\, 30043\, United States
CATEGORIES:Educators,In-Person Event,Job Seeker
END:VEVENT
END:VCALENDAR