BEGIN:VCALENDAR
VERSION:2.0
PRODID:-//MAX - ECPv6.15.17.1//NONSGML v1.0//EN
CALSCALE:GREGORIAN
METHOD:PUBLISH
X-ORIGINAL-URL:https://metroatlantaexchange.org
X-WR-CALDESC:Events for MAX
REFRESH-INTERVAL;VALUE=DURATION:PT1H
X-Robots-Tag:noindex
X-PUBLISHED-TTL:PT1H
BEGIN:VTIMEZONE
TZID:America/New_York
BEGIN:DAYLIGHT
TZOFFSETFROM:-0500
TZOFFSETTO:-0400
TZNAME:EDT
DTSTART:20250309T070000
END:DAYLIGHT
BEGIN:STANDARD
TZOFFSETFROM:-0400
TZOFFSETTO:-0500
TZNAME:EST
DTSTART:20251102T060000
END:STANDARD
BEGIN:DAYLIGHT
TZOFFSETFROM:-0500
TZOFFSETTO:-0400
TZNAME:EDT
DTSTART:20260308T070000
END:DAYLIGHT
BEGIN:STANDARD
TZOFFSETFROM:-0400
TZOFFSETTO:-0500
TZNAME:EST
DTSTART:20261101T060000
END:STANDARD
BEGIN:DAYLIGHT
TZOFFSETFROM:-0500
TZOFFSETTO:-0400
TZNAME:EDT
DTSTART:20270314T070000
END:DAYLIGHT
BEGIN:STANDARD
TZOFFSETFROM:-0400
TZOFFSETTO:-0500
TZNAME:EST
DTSTART:20271107T060000
END:STANDARD
END:VTIMEZONE
BEGIN:VEVENT
DTSTART;TZID=America/New_York:20260407T120000
DTEND;TZID=America/New_York:20260407T130000
DTSTAMP:20260422T225449
CREATED:20260406T191331Z
LAST-MODIFIED:20260406T191331Z
UID:10036123-1775563200-1775566800@metroatlantaexchange.org
SUMMARY:General Services Administration (GSA): Explore Technology Careers at GSA
DESCRIPTION:The General Services Administration (GSA) is hosting Explore Technology Careers at GSA on Tuesday\, April 7th\, from 12:00 PM to 1:00 PM. \nGSA invites experienced\, mid-to-senior level technology leaders and experts to explore high-impact career opportunities driving federal IT modernization for the American people. Gain valuable insights from GSA’s technology professionals. Learn about current/upcoming career opportunities\, federal benefits (including compensation and work-life balance)\, and access federal hiring resources specifically for experienced professionals. \nClick here to learn more and register.
URL:https://metroatlantaexchange.org/event/general-services-administration-gsa-explore-technology-careers-at-gsa/
LOCATION:GA
CATEGORIES:Career Development,Job Seeker,Virtual Event
END:VEVENT
BEGIN:VEVENT
DTSTART;TZID=America/New_York:20260407T140000
DTEND;TZID=America/New_York:20260407T150000
DTSTAMP:20260422T225449
CREATED:20260406T191515Z
LAST-MODIFIED:20260406T191515Z
UID:10036124-1775570400-1775574000@metroatlantaexchange.org
SUMMARY:U.S. Customs and Border Protection: Border Patrol Agent Recruitment Webinar
DESCRIPTION:U.S Customs and Border Protection is hosting a Border Patrol Agent Recruitment Webinar on Tuesday\, April 7th\, starting at 2:00 PM. \nThe U.S. Border Patrol (USBP) needs you for higher grade opportunities and entry-level openings as a Border Patrol Agent\, providing security for our nation’s borders from those who threaten legitimate trade and travel\, safety from harmful substances like fentanyl\, and humanitarian aid to those in need. Learn from an insider’s viewpoint about the challenges and rewards of a career in federal civil service. \nClick here to learn more and register.
URL:https://metroatlantaexchange.org/event/u-s-customs-and-border-protection-border-patrol-agent-recruitment-webinar/
LOCATION:GA
CATEGORIES:Career Development,Job Seeker,Virtual Event
END:VEVENT
BEGIN:VEVENT
DTSTART;TZID=America/New_York:20260407T160000
DTEND;TZID=America/New_York:20260407T163000
DTSTAMP:20260422T225449
CREATED:20260406T191637Z
LAST-MODIFIED:20260406T191637Z
UID:10036125-1775577600-1775579400@metroatlantaexchange.org
SUMMARY:Career Agility System: 4-Week Career Advancement Accelerator
DESCRIPTION:Career Agility System is hosting a 4-Week Career Advancement Accelerator starting Tuesday\, April 7th\, from 4:00 PM to 4:30 PM. \nFeeling stuck in your career? Thinking about a pivot but unsure where to start — or how to position yourself? You need clarity\, strategic positioning\, and a modern plan. This live\, interactive 4-week accelerator is designed for ambitious professionals ready to pivot with confidence — not guesswork. This isn’t a motivational seminar. This is a focused\, structured pivot system built for professionals who want clarity and a real plan. \nClick here to learn more and register.
URL:https://metroatlantaexchange.org/event/career-agility-system-4-week-career-advancement-accelerator/
LOCATION:GA
CATEGORIES:Career Development,Job Seeker,Virtual Event
END:VEVENT
BEGIN:VEVENT
DTSTART;TZID=America/New_York:20260407T180000
DTEND;TZID=America/New_York:20260407T200000
DTSTAMP:20260422T225449
CREATED:20260406T192127Z
LAST-MODIFIED:20260406T192127Z
UID:10036134-1775584800-1775592000@metroatlantaexchange.org
SUMMARY:Brandywine Cares: Career$hift - Small Business Bootcamp
DESCRIPTION:Brandywine Cares is hosting a Career$hift: Small Business Bootcamp on Tuesdays\, from 6:00 PM to 8:00 PM. \nThis free\, virtual webinar training is targeted toward small business owners and start-ups to help them thrive. Topics will include business planning\, marketing\, access funding\, and concludes with an in-person pitch competition and graduation. At the end of this life-changing event\, you’ll be armed with the knowledge\, tools\, resources and ongoing support to build and grow a successful and sustainable business. \nThis virtual program begins Tuesday\, April 7th\, but registration is open now. \nClick here for a flyer containing a QR code to register.
URL:https://metroatlantaexchange.org/event/brandywine-cares-careerhift-small-business-bootcamp/
LOCATION:GA
CATEGORIES:Career Development,Job Seeker,Virtual Event
END:VEVENT
END:VCALENDAR