BEGIN:VCALENDAR
VERSION:2.0
PRODID:-//MAX - ECPv6.15.17.1//NONSGML v1.0//EN
CALSCALE:GREGORIAN
METHOD:PUBLISH
X-WR-CALNAME:MAX
X-ORIGINAL-URL:https://metroatlantaexchange.org
X-WR-CALDESC:Events for MAX
REFRESH-INTERVAL;VALUE=DURATION:PT1H
X-Robots-Tag:noindex
X-PUBLISHED-TTL:PT1H
BEGIN:VTIMEZONE
TZID:America/New_York
BEGIN:DAYLIGHT
TZOFFSETFROM:-0500
TZOFFSETTO:-0400
TZNAME:EDT
DTSTART:20250309T070000
END:DAYLIGHT
BEGIN:STANDARD
TZOFFSETFROM:-0400
TZOFFSETTO:-0500
TZNAME:EST
DTSTART:20251102T060000
END:STANDARD
BEGIN:DAYLIGHT
TZOFFSETFROM:-0500
TZOFFSETTO:-0400
TZNAME:EDT
DTSTART:20260308T070000
END:DAYLIGHT
BEGIN:STANDARD
TZOFFSETFROM:-0400
TZOFFSETTO:-0500
TZNAME:EST
DTSTART:20261101T060000
END:STANDARD
BEGIN:DAYLIGHT
TZOFFSETFROM:-0500
TZOFFSETTO:-0400
TZNAME:EDT
DTSTART:20270314T070000
END:DAYLIGHT
BEGIN:STANDARD
TZOFFSETFROM:-0400
TZOFFSETTO:-0500
TZNAME:EST
DTSTART:20271107T060000
END:STANDARD
END:VTIMEZONE
BEGIN:VEVENT
DTSTART;TZID=America/New_York:20260409T090000
DTEND;TZID=America/New_York:20260409T110000
DTSTAMP:20260423T010105
CREATED:20260406T150550Z
LAST-MODIFIED:20260406T150550Z
UID:10036053-1775725200-1775732400@metroatlantaexchange.org
SUMMARY:Matrix Medical Network: Virtual Hiring Event
DESCRIPTION:The Matrix Medical Network is hosting a Virtual Hiring Event on Wednesday\, April 8th\, starting at 5:00 PM\, and Thursday\, April 9th\, starting at 9:00 AM. \nMatrix Medical Network pioneered the first national in-home clinical network and has current openings for Nurse Practitioners. This job opportunity allows you to leverage your expertise and compassion to make a direct impact on the health and well-being of others. Join the team and be rewarded with competitive base plus incentive compensation and benefits while making a difference in the community! A $7\,500 sign-on bonus will be available. \nClick here to learn more and register.
URL:https://metroatlantaexchange.org/event/matrix-medical-network-virtual-hiring-event/2026-04-09/
LOCATION:GA
CATEGORIES:Job Seeker,Virtual Event
END:VEVENT
BEGIN:VEVENT
DTSTART;TZID=America/New_York:20260409T090000
DTEND;TZID=America/New_York:20260409T150000
DTSTAMP:20260423T010105
CREATED:20260406T192750Z
LAST-MODIFIED:20260406T192750Z
UID:10036145-1775725200-1775746800@metroatlantaexchange.org
SUMMARY:Goodwill of North Georgia: Supply Chain Management Skills Orientation
DESCRIPTION:Goodwill of North Georgia is hosting a Supply Chain Management Skills Orientation on Wednesday\, April 8th and Thursday\, April 9th\, from 9:00 AM to 3:00 PM\, at the Old National Career Center. \nFor more information\, call 678-554-0412. Click here to learn more and register.
URL:https://metroatlantaexchange.org/event/goodwill-of-north-georgia-supply-chain-management-skills-orientation/2026-04-09/
LOCATION:Goodwill of North Georgia – Old National Career Center\, 6175 Old National Highway\, Suite 120\, Atlanta\, GA\, 30349\, United States
CATEGORIES:Career Development,In-Person Event,Job Seeker
END:VEVENT
BEGIN:VEVENT
DTSTART;TZID=America/New_York:20260409T090000
DTEND;TZID=America/New_York:20260409T160000
DTSTAMP:20260423T010105
CREATED:20260406T194243Z
LAST-MODIFIED:20260406T194243Z
UID:10036165-1775725200-1775750400@metroatlantaexchange.org
SUMMARY:Goodwill of North Georgia: Forklift Skills Orientation
DESCRIPTION:Goodwill of North Georgia is hosting a Forklift Skills Orientation on Thursday\, April 9th and Friday\, April 10th\, from 9:00 AM to 4:00 PM\, at the Smyrna Career Center. \nFor more information\, call 678-766-8173. \nClick here to learn more and register.
URL:https://metroatlantaexchange.org/event/goodwill-of-north-georgia-forklift-skills-orientation/2026-04-09/
LOCATION:Goodwill of North Georgia – Smyrna Career Center\, 3205 South Cobb Drive\, Smyrna\, GA\, 30080\, United States
CATEGORIES:Career Development,In-Person Event,Job Seeker
GEO:33.8769374;-84.5289443
X-APPLE-STRUCTURED-LOCATION;VALUE=URI;X-ADDRESS=Goodwill of North Georgia – Smyrna Career Center 3205 South Cobb Drive Smyrna GA 30080 United States;X-APPLE-RADIUS=500;X-TITLE=3205 South Cobb Drive:geo:-84.5289443,33.8769374
END:VEVENT
BEGIN:VEVENT
DTSTART;TZID=America/New_York:20260409T100000
DTEND;TZID=America/New_York:20260409T120000
DTSTAMP:20260423T010105
CREATED:20260406T150737Z
LAST-MODIFIED:20260406T150737Z
UID:10036054-1775728800-1775736000@metroatlantaexchange.org
SUMMARY:Goodwill of North Georgia: Chase Staffing Open Position Interviews
DESCRIPTION:Goodwill of North Georgia is hosting Chase Staffing Open Position Interviews every Thursday\, from 10:00 AM to 12:00 PM\, at the Cartersville Career Center. \nFor more information\, call 770-276-7036. \nClick here to learn more and register.
URL:https://metroatlantaexchange.org/event/goodwill-of-north-georgia-chase-staffing-open-position-interviews-5/2026-04-09/
LOCATION:Goodwill of North Georgia – Cartersville Career Center\, 929 Joe Frank Harris Parkway\, Cartersville\, GA\, 30120\, United States
CATEGORIES:In-Person Event,Job Seeker
GEO:34.1974793;-84.7941559
X-APPLE-STRUCTURED-LOCATION;VALUE=URI;X-ADDRESS=Goodwill of North Georgia – Cartersville Career Center 929 Joe Frank Harris Parkway Cartersville GA 30120 United States;X-APPLE-RADIUS=500;X-TITLE=929 Joe Frank Harris Parkway:geo:-84.7941559,34.1974793
END:VEVENT
BEGIN:VEVENT
DTSTART;TZID=America/New_York:20260409T100000
DTEND;TZID=America/New_York:20260409T130000
DTSTAMP:20260423T010105
CREATED:20260406T150957Z
LAST-MODIFIED:20260406T150957Z
UID:10036058-1775728800-1775739600@metroatlantaexchange.org
SUMMARY:Goodwill of North Georgia: Dollar General Hiring Event
DESCRIPTION:Goodwill of North Georgia is hosting a Dollar General Hiring Event on Thursday\, April 9th\, from 10:00 AM to 1:00 PM\, at the Stockbridge Career Center. \nFor more information\, call 678-514-0670. \nClick here to learn more and register.
URL:https://metroatlantaexchange.org/event/goodwill-of-north-georgia-dollar-general-hiring-event-2/
LOCATION:Goodwill Stockbridge\, 3871 Highway 138\, SE\, Stockbridge\, 30281\, United States
CATEGORIES:In-Person Event,Job Seeker
END:VEVENT
BEGIN:VEVENT
DTSTART;TZID=America/New_York:20260409T100000
DTEND;TZID=America/New_York:20260409T130000
DTSTAMP:20260423T010105
CREATED:20260406T151309Z
LAST-MODIFIED:20260406T151309Z
UID:10036059-1775728800-1775739600@metroatlantaexchange.org
SUMMARY:Goodwill of North Georgia: Job and Resource Fair
DESCRIPTION:Goodwill of North Georgia is hosting a Job and Resource Fair on Thursday\, April 9th\, from 10:00 AM to 1:00 PM\, at the Linked UP Church. \nFor more information\, call 770-874-0901. \nClick here to learn more and register.
URL:https://metroatlantaexchange.org/event/goodwill-of-north-georgia-job-and-resource-fair-19/
LOCATION:Linked UP Church\, 3090 Holly Springs Road\, Marietta\, GA\, 30062\, United States
CATEGORIES:In-Person Event,Job Seeker
END:VEVENT
BEGIN:VEVENT
DTSTART;TZID=America/New_York:20260409T103000
DTEND;TZID=America/New_York:20260409T113000
DTSTAMP:20260423T010105
CREATED:20260406T194503Z
LAST-MODIFIED:20260406T194503Z
UID:10036167-1775730600-1775734200@metroatlantaexchange.org
SUMMARY:Goodwill of North Georgia: Typing Thursdays
DESCRIPTION:Goodwill of North Georgia is hosting Typing Thursdays every Thursday\, from 10:30 AM to 11:30 AM\, at the Rome Career Center. \nFor more information\, call 706-292-3304. \nClick here to learn more and register.
URL:https://metroatlantaexchange.org/event/goodwill-of-north-georgia-typing-thursdays/2026-04-09/
LOCATION:Goodwill of North Georgia – Rome Career Center\, 154 Hicks Drive\, Rome\, 30161
CATEGORIES:Career Development,In-Person Event,Job Seeker
END:VEVENT
BEGIN:VEVENT
DTSTART;TZID=America/New_York:20260409T110000
DTEND;TZID=America/New_York:20260409T120000
DTSTAMP:20260423T010105
CREATED:20260406T194734Z
LAST-MODIFIED:20260406T194734Z
UID:10036171-1775732400-1775736000@metroatlantaexchange.org
SUMMARY:U.S. Customs and Border Protection (CBP): CBP Officer Recruitment Webinar
DESCRIPTION:U.S Customs and Border Protection (CBP) is hosting a CBP Officer Recruitment Webinar on Thursday\, April 9th\, starting at 11:00 AM. \nU.S. Customs and Border Protection (CBP) has higher grade opportunities and entry-level openings for Customs and Border Protection Officers\, and needs you. During this event\, participants will get an insider’s view on the challenges and rewards of the job and learn about the qualifications required to being a career in federal law enforcement. Up to $60\,000 in recruitment and retention incentives are being offered for newly appointed Custom and Border Protection Officers. Not interested in law enforcement? Go ahead and register for this webinar and select one of the many other rewarding career opportunities so CBP can stay in touch with news of future career events and position openings. \nClick here to learn more and register.
URL:https://metroatlantaexchange.org/event/u-s-customs-and-border-protection-cbp-cbp-officer-recruitment-webinar/
LOCATION:GA
CATEGORIES:Career Development,Job Seeker,Virtual Event
END:VEVENT
BEGIN:VEVENT
DTSTART;TZID=America/New_York:20260409T110000
DTEND;TZID=America/New_York:20260409T130000
DTSTAMP:20260423T010105
CREATED:20260406T152022Z
LAST-MODIFIED:20260406T152022Z
UID:10036063-1775732400-1775739600@metroatlantaexchange.org
SUMMARY:Goodwill of North Georgia: Multi-Employer Hiring Event
DESCRIPTION:Goodwill of North Georgia is hosting a Multi-Employer Hiring Event on Thursday\, April 9th\, from 11:00 AM to 1:00 PM\, at the Pleasant Hill Career Center. \nCall 770-564-2447 for more information. \nClick here to learn more and register.
URL:https://metroatlantaexchange.org/event/goodwill-of-north-georgia-multi-employer-hiring-event-8/
LOCATION:Goodwill of North Georgia – Pleasant Hill Career Center\, 1502 Pleasant Hill Road\, Duluth\, GA\, 30096\, United States
CATEGORIES:In-Person Event,Job Seeker
GEO:33.9429794;-84.121643
X-APPLE-STRUCTURED-LOCATION;VALUE=URI;X-ADDRESS=Goodwill of North Georgia – Pleasant Hill Career Center 1502 Pleasant Hill Road Duluth GA 30096 United States;X-APPLE-RADIUS=500;X-TITLE=1502 Pleasant Hill Road:geo:-84.121643,33.9429794
END:VEVENT
BEGIN:VEVENT
DTSTART;TZID=America/New_York:20260409T110000
DTEND;TZID=America/New_York:20260409T140000
DTSTAMP:20260423T010105
CREATED:20260406T151453Z
LAST-MODIFIED:20260406T151453Z
UID:10036060-1775732400-1775743200@metroatlantaexchange.org
SUMMARY:Best Hire Career Fairs: Atlanta Job Fair
DESCRIPTION:Best Hire Career Fairs is hosting an Atlanta Job Fair on Thursday\, April 9th\, from 11:00 AM to 2:00 PM\, at the Hilton Garden Inn Atlanta Downtown. \nIf you’re seeking exciting job opportunities in the Atlanta area\, this is an event you won’t want to miss. Best Hire Career Fairs has a proven track record of organizing exceptional hiring events nationwide for the past ten years. Picture yourself face-to-face with decision-making hiring managers from leading companies in your area – no more wasted hours sending out resumes without any response. It’s time to revamp your resume\, dress professionally\, and bring your absolute best self to stand out amongst the competition. Attending this extraordinary event as a job seeker is free! \nClick here to learn more and register.
URL:https://metroatlantaexchange.org/event/best-hire-career-fairs-atlanta-job-fair-2/
LOCATION:Hilton Garden Inn – Downtown Atlanta\, 275 Baker Street\, Atlanta\, GA\, 30313\, United States
CATEGORIES:In-Person Event,Job Seeker
GEO:33.7617551;-84.395623
X-APPLE-STRUCTURED-LOCATION;VALUE=URI;X-ADDRESS=Hilton Garden Inn – Downtown Atlanta 275 Baker Street Atlanta GA 30313 United States;X-APPLE-RADIUS=500;X-TITLE=275 Baker Street:geo:-84.395623,33.7617551
END:VEVENT
BEGIN:VEVENT
DTSTART;TZID=America/New_York:20260409T110000
DTEND;TZID=America/New_York:20260409T140000
DTSTAMP:20260423T010105
CREATED:20260406T151829Z
LAST-MODIFIED:20260406T151829Z
UID:10036062-1775732400-1775743200@metroatlantaexchange.org
SUMMARY:Goodwill of North Georgia: Job Fair
DESCRIPTION:Goodwill of North Georgia is hosting a Job Fair on Thursday\, April 9th\, from 11:00 AM to 2:00 PM\, at the Stephens County Public Library. \nFor more information\, call 706-894-4905. \nClick here to learn more and register.
URL:https://metroatlantaexchange.org/event/goodwill-of-north-georgia-job-fair-14/
LOCATION:Toccoa-Stephens County Public Library\, 53 West Savannah Street\, Toccoa\, GA\, 30577\, United States
CATEGORIES:In-Person Event,Job Seeker
END:VEVENT
BEGIN:VEVENT
DTSTART;TZID=America/New_York:20260409T110000
DTEND;TZID=America/New_York:20260409T150000
DTSTAMP:20260423T010105
CREATED:20260406T151641Z
LAST-MODIFIED:20260406T151641Z
UID:10036061-1775732400-1775746800@metroatlantaexchange.org
SUMMARY:CareerEco: Cybersecurity and Infrastructure Defense Virtual Event
DESCRIPTION:CareerEco is hosting a Cybersecurity and Infrastructure Defense Virtual Event on Thursday\, April 9th\, from 11:00 AM to 3:00 PM. \nThis online recruiting event is the perfect opportunity for jobseekers to meet with employers who are hiring nationwide. \nClick here to learn more and register.
URL:https://metroatlantaexchange.org/event/careereco-cybersecurity-and-infrastructure-defense-virtual-event/
LOCATION:GA
CATEGORIES:Job Seeker,Virtual Event
ORGANIZER;CN="CareerEco":MAILTO:Events@CareerEco.com
END:VEVENT
BEGIN:VEVENT
DTSTART;TZID=America/New_York:20260409T140000
DTEND;TZID=America/New_York:20260409T150000
DTSTAMP:20260423T010105
CREATED:20260406T195320Z
LAST-MODIFIED:20260406T195320Z
UID:10036173-1775743200-1775746800@metroatlantaexchange.org
SUMMARY:Hiring Our Heroes: Interview Practice Workshop
DESCRIPTION:Hiring Our Heroes is hosting a virtual Interview Practice Workshop on Thursday\, April 9th\, starting at 2:00 PM. \nPractice for job interviews in small group breakout rooms with talent acquisition professionals who will replicate real interview scenarios and provide feedback. This session is for interview practice only. Advance preparation is required for a successful experience. Resources will be provided upon registration. \nClick here to register via Zoom.
URL:https://metroatlantaexchange.org/event/hiring-our-heroes-interview-practice-workshop-2/
LOCATION:GA
CATEGORIES:Career Development,Job Seeker,Veterans/Military,Virtual Event
END:VEVENT
BEGIN:VEVENT
DTSTART;TZID=America/New_York:20260409T140000
DTEND;TZID=America/New_York:20260409T160000
DTSTAMP:20260423T010105
CREATED:20260406T152219Z
LAST-MODIFIED:20260406T152219Z
UID:10036064-1775743200-1775750400@metroatlantaexchange.org
SUMMARY:Goodwill of North Georgia: Spherion Hiring Event
DESCRIPTION:Goodwill of North Georgia is hosting a Spherion Hiring Event every Thursday\, from 2:00 PM to 4:00 PM\, at the Cornelia Career Center. \nFor more information\, call 706-894-4905. \nClick here to learn more and register.
URL:https://metroatlantaexchange.org/event/goodwill-of-north-georgia-spherion-hiring-event-8/2026-04-09/
LOCATION:Goodwill of North Georgia – Cornelia Career Center\, 308 Habersham Hills Circle\, Cornelia\, GA\, 30531\, United States
CATEGORIES:In-Person Event,Job Seeker
END:VEVENT
BEGIN:VEVENT
DTSTART;TZID=America/New_York:20260409T140000
DTEND;TZID=America/New_York:20260409T160000
DTSTAMP:20260423T010106
CREATED:20260406T194930Z
LAST-MODIFIED:20260406T194930Z
UID:10036172-1775743200-1775750400@metroatlantaexchange.org
SUMMARY:Fulton County Library System: Tech Help
DESCRIPTION:The Fulton County Library System is hosting Tech Help on Thursdays\, from 2:00 PM to 4:00 PM\, at the Cleveland Avenue Branch. \nThis event will provide assistance with basic computer skills\, navigating websites\, resume templates\, or help with applying for job applications. Questions on other computer topics will be encouraged. This program is free and open to the public. \nClick here to learn more and register.
URL:https://metroatlantaexchange.org/event/fulton-county-library-system-tech-help/
LOCATION:Cleveland Avenue Branch\, 47 Cleveland Avenue\, Atlanta\, GA\, 30315\, United States
CATEGORIES:Career Development,In-Person Event,Job Seeker
END:VEVENT
BEGIN:VEVENT
DTSTART;TZID=America/New_York:20260409T150000
DTEND;TZID=America/New_York:20260409T153000
DTSTAMP:20260423T010106
CREATED:20260406T195520Z
LAST-MODIFIED:20260406T195520Z
UID:10036174-1775746800-1775748600@metroatlantaexchange.org
SUMMARY:Career Agility System: Finding and Landing Opportunities Today - How to Market and Sell You
DESCRIPTION:Career Agility System is hosting a webinar on Finding and Landing Opportunities Today: How to Market and Sell You on Thursday\, April 9th\, from 3:00 PM to 3:30 PM. \nWhether you are a recent grad\, entrepreneur\, or seasoned professional\, you need to know how to market & sell yourself for life! Join Jaime Chambron\, an expert branding consultant\, resume writer\, and job search strategist\, for this online event to learn valuable tips and strategies for effectively marketing and selling yourself today. Learn what is working now to set yourself apart and how to change that. \nClick here to learn more and register.
URL:https://metroatlantaexchange.org/event/career-agility-system-finding-and-landing-opportunities-today-how-to-market-and-sell-you/
LOCATION:GA
CATEGORIES:Career Development,Job Seeker,Virtual Event
END:VEVENT
END:VCALENDAR