BEGIN:VCALENDAR
VERSION:2.0
PRODID:-//MAX - ECPv6.15.17.1//NONSGML v1.0//EN
CALSCALE:GREGORIAN
METHOD:PUBLISH
X-ORIGINAL-URL:https://metroatlantaexchange.org
X-WR-CALDESC:Events for MAX
REFRESH-INTERVAL;VALUE=DURATION:PT1H
X-Robots-Tag:noindex
X-PUBLISHED-TTL:PT1H
BEGIN:VTIMEZONE
TZID:America/New_York
BEGIN:DAYLIGHT
TZOFFSETFROM:-0500
TZOFFSETTO:-0400
TZNAME:EDT
DTSTART:20250309T070000
END:DAYLIGHT
BEGIN:STANDARD
TZOFFSETFROM:-0400
TZOFFSETTO:-0500
TZNAME:EST
DTSTART:20251102T060000
END:STANDARD
BEGIN:DAYLIGHT
TZOFFSETFROM:-0500
TZOFFSETTO:-0400
TZNAME:EDT
DTSTART:20260308T070000
END:DAYLIGHT
BEGIN:STANDARD
TZOFFSETFROM:-0400
TZOFFSETTO:-0500
TZNAME:EST
DTSTART:20261101T060000
END:STANDARD
BEGIN:DAYLIGHT
TZOFFSETFROM:-0500
TZOFFSETTO:-0400
TZNAME:EDT
DTSTART:20270314T070000
END:DAYLIGHT
BEGIN:STANDARD
TZOFFSETFROM:-0400
TZOFFSETTO:-0500
TZNAME:EST
DTSTART:20271107T060000
END:STANDARD
END:VTIMEZONE
BEGIN:VEVENT
DTSTART;TZID=America/New_York:20260414T120000
DTEND;TZID=America/New_York:20260416T130000
DTSTAMP:20260422T211121
CREATED:20260406T201957Z
LAST-MODIFIED:20260406T201957Z
UID:10036184-1776168000-1776344400@metroatlantaexchange.org
SUMMARY:Urban League of Greater Atlanta: Urban Tech Jobs Program - TechTHRIVE Workshop
DESCRIPTION:The Urban League of Greater Atlanta is hosting an Urban Tech Jobs Program – TechTHRIVE Workshop starting Tuesday\, April 14th through Thursday\, April 16th\, from 12:00 PM to 1:00 PM. \nIn just three one-hour sessions\, participants will explore high-growth tech career pathways\, in-demand certifications\, AI tools\, and gain essential resume and interview skills. Perfect for beginners\, this workshop gives participants the foundation to get started in a tech career. Upon completion\, graduates will receive a free Google Coursera license to continue building skills and receive certificates in IT Support\, Cybersecurity\, Data Analytics\, Digital Markets\, Cloud Computing\, and more. \nClick here to register. For more information\, contact dbulls@ulgatl.org.
URL:https://metroatlantaexchange.org/event/urban-league-of-greater-atlanta-urban-tech-jobs-program-techthrive-workshop/
LOCATION:GA
CATEGORIES:Career Development,In-Person Event,Job Seeker
END:VEVENT
BEGIN:VEVENT
DTSTART;TZID=America/New_York:20260416T090000
DTEND;TZID=America/New_York:20260416T130000
DTSTAMP:20260422T211121
CREATED:20260406T155753Z
LAST-MODIFIED:20260406T155753Z
UID:10036080-1776330000-1776344400@metroatlantaexchange.org
SUMMARY:Wellstar: RN Float Team Virtual Hiring Event
DESCRIPTION:Wellstar is hosting an RN Float Team Virtual Hiring Event on Thursday\, April 16th\, from 9:00 AM to 1:00 PM and 3:00 PM to 7:00 PM. \nWellstar Health System’s Regional Float Team is expanding into the Richmond and Columbia County area of Georgia\, creating new opportunities for experienced RNs with enhanced pay rates. Interview with hiring leaders for permanent positions that offer competitive pay\, benefits\, and paid time off. \nClick here to learn more and register.
URL:https://metroatlantaexchange.org/event/wellstar-rn-float-team-virtual-hiring-event/2026-04-16/1/
LOCATION:GA
CATEGORIES:Job Seeker,Virtual Event
END:VEVENT
BEGIN:VEVENT
DTSTART;TZID=America/New_York:20260416T090000
DTEND;TZID=America/New_York:20260416T133000
DTSTAMP:20260422T211121
CREATED:20260406T155605Z
LAST-MODIFIED:20260406T155605Z
UID:10036079-1776330000-1776346200@metroatlantaexchange.org
SUMMARY:Georgia State University: Facilities Job Fair
DESCRIPTION:Georgia State University is hosting a Facilities Job Fair on Thursday\, April 16th\, from 9:00 AM to 1:30 PM\, at the Georgia State University Student Center West. \nPositions available include Custodian\, Groundskeeper\, and Irrigation Technician. Please bring your ID\, resume\, and professional references. \nClick here to learn about a hiring event on April 16th.
URL:https://metroatlantaexchange.org/event/georgia-state-university-facilities-job-fair/
LOCATION:Georgia State University – Student Center West\, 66 Courtland Street\, SE\, Atlanta\, GA\, 30303\, United States
CATEGORIES:In-Person Event,Job Seeker
END:VEVENT
BEGIN:VEVENT
DTSTART;TZID=America/New_York:20260416T100000
DTEND;TZID=America/New_York:20260416T120000
DTSTAMP:20260422T211121
CREATED:20260406T150737Z
LAST-MODIFIED:20260406T150737Z
UID:10036055-1776333600-1776340800@metroatlantaexchange.org
SUMMARY:Goodwill of North Georgia: Chase Staffing Open Position Interviews
DESCRIPTION:Goodwill of North Georgia is hosting Chase Staffing Open Position Interviews every Thursday\, from 10:00 AM to 12:00 PM\, at the Cartersville Career Center. \nFor more information\, call 770-276-7036. \nClick here to learn more and register.
URL:https://metroatlantaexchange.org/event/goodwill-of-north-georgia-chase-staffing-open-position-interviews-5/2026-04-16/
LOCATION:Goodwill of North Georgia – Cartersville Career Center\, 929 Joe Frank Harris Parkway\, Cartersville\, GA\, 30120\, United States
CATEGORIES:In-Person Event,Job Seeker
GEO:34.1974793;-84.7941559
X-APPLE-STRUCTURED-LOCATION;VALUE=URI;X-ADDRESS=Goodwill of North Georgia – Cartersville Career Center 929 Joe Frank Harris Parkway Cartersville GA 30120 United States;X-APPLE-RADIUS=500;X-TITLE=929 Joe Frank Harris Parkway:geo:-84.7941559,34.1974793
END:VEVENT
BEGIN:VEVENT
DTSTART;TZID=America/New_York:20260416T100000
DTEND;TZID=America/New_York:20260416T130000
DTSTAMP:20260422T211121
CREATED:20260406T160220Z
LAST-MODIFIED:20260406T160220Z
UID:10036083-1776333600-1776344400@metroatlantaexchange.org
SUMMARY:Goodwill of North Georgia: Career and Resource Fair
DESCRIPTION:Goodwill of North Georgia is hosting a Career and Resource Fair on Thursday\, April 16th\, from 10:00 AM to 1:00 PM\, at the Chapelwood United Methodist Church. \nFor more information\, call 706-395-1558. \nClick here to learn more and register.
URL:https://metroatlantaexchange.org/event/goodwill-of-north-georgia-career-and-resource-fair-3/
LOCATION:Chapelwood United Methodist Church\, 100 Janice Drive\, Athens\, GA\, 30606\, United States
CATEGORIES:In-Person Event,Job Seeker
END:VEVENT
BEGIN:VEVENT
DTSTART;TZID=America/New_York:20260416T100000
DTEND;TZID=America/New_York:20260416T130000
DTSTAMP:20260422T211121
CREATED:20260406T160438Z
LAST-MODIFIED:20260406T160438Z
UID:10036084-1776333600-1776344400@metroatlantaexchange.org
SUMMARY:Goodwill of North Georgia: HUD/VASH & Community Resource Job Fair
DESCRIPTION:Goodwill of North Georgia is hosting a HUD/VASH & Community Resource Job Fair on Thursday\, April 16th\, from 10:00 AM to 1:00 PM\, at the Rosel Fann Recreation Center. \nFor more information\, call 770-795-4204. \nClick here to learn more and register.
URL:https://metroatlantaexchange.org/event/goodwill-of-north-georgia-hud-vash-community-resource-job-fair/
LOCATION:City of Atlanta Rosel Fann Recreation Center\, 365 Cleveland Avenue\, SE\, Atlanta\, GA\, 30354\, United States
CATEGORIES:In-Person Event,Job Seeker
GEO:33.6794561;-84.3789285
X-APPLE-STRUCTURED-LOCATION;VALUE=URI;X-ADDRESS=City of Atlanta Rosel Fann Recreation Center 365 Cleveland Avenue SE Atlanta GA 30354 United States;X-APPLE-RADIUS=500;X-TITLE=365 Cleveland Avenue\, SE:geo:-84.3789285,33.6794561
END:VEVENT
BEGIN:VEVENT
DTSTART;TZID=America/New_York:20260416T100000
DTEND;TZID=America/New_York:20260416T140000
DTSTAMP:20260422T211121
CREATED:20260406T155957Z
LAST-MODIFIED:20260406T155957Z
UID:10036082-1776333600-1776348000@metroatlantaexchange.org
SUMMARY:Georgia Department of Juvenile Justice (DJJ): Marietta RYDC Career Fair
DESCRIPTION:The Georgia Department of Juvenile Justice (DJJ) is hosting a Marietta RYDC Career Fair on Thursday\, April 16th\, from 10:00 AM to 2:00 PM\, at the Marietta RYDC. \nLooking to make a difference? The Georgia Department of Juvenile Justice is seeking Juvenile Correctional Officers\, Probation/Parole Specialists\, Housekeepers\, Food Service Workers\, School Resource Officers\, and Teachers. \nClick here to learn more and register.
URL:https://metroatlantaexchange.org/event/georgia-department-of-juvenile-justice-djj-marietta-rydc-career-fair/
LOCATION:Marietta Regional Youth Detention Center\, 1575 County Services Parkway\, Marietta\, GA\, 30008\, United States
CATEGORIES:In-Person Event,Job Seeker
END:VEVENT
BEGIN:VEVENT
DTSTART;TZID=America/New_York:20260416T100000
DTEND;TZID=America/New_York:20260416T140000
DTSTAMP:20260422T211121
CREATED:20260406T160715Z
LAST-MODIFIED:20260406T160715Z
UID:10036085-1776333600-1776348000@metroatlantaexchange.org
SUMMARY:Goodwill of North Georgia: City of Stockbridge Job Fair
DESCRIPTION:Goodwill of North Georgia is hosting a City of Stockbridge Job Fair on Thursday\, April 16th\, from 10:00 AM to 2:00 PM\, at the Stockbridge Amphitheater. \nFor more information\, call 678-514-0670. \nClick here to learn more and register.
URL:https://metroatlantaexchange.org/event/goodwill-of-north-georgia-city-of-stockbridge-job-fair/
LOCATION:Stockbridge Amphitheater\, 4650 North Henry Boulevard\, Stockbridge\, GA\, 30281\, United States
CATEGORIES:In-Person Event,Job Seeker
END:VEVENT
BEGIN:VEVENT
DTSTART;TZID=America/New_York:20260416T100000
DTEND;TZID=America/New_York:20260416T140000
DTSTAMP:20260422T211121
CREATED:20260408T202302Z
LAST-MODIFIED:20260408T202302Z
UID:10036194-1776333600-1776348000@metroatlantaexchange.org
SUMMARY:Goodwill of North Georgia: Welding Skills Orientation
DESCRIPTION:Goodwill of North Georgia is hosting a Welding Skills Orientation on Thursday\, April 16th and Friday\, April 17th\, from 10:00 AM to 2:00 PM\, at the Oakwood Career Center. \nFor more information\, call 770-538-4209. \nClick here to learn more and register.
URL:https://metroatlantaexchange.org/event/goodwill-of-north-georgia-welding-skills-orientation/2026-04-16/
LOCATION:Goodwill of North Georgia – Oakwood Career Center\, 3715 Mundy Mill Road\, Oakwood\, GA\, 30566\, United States
CATEGORIES:Career Development,In-Person Event,Job Seeker
GEO:34.2290795;-83.8701636
X-APPLE-STRUCTURED-LOCATION;VALUE=URI;X-ADDRESS=Goodwill of North Georgia – Oakwood Career Center 3715 Mundy Mill Road Oakwood GA 30566 United States;X-APPLE-RADIUS=500;X-TITLE=3715 Mundy Mill Road:geo:-83.8701636,34.2290795
END:VEVENT
BEGIN:VEVENT
DTSTART;TZID=America/New_York:20260416T103000
DTEND;TZID=America/New_York:20260416T113000
DTSTAMP:20260422T211121
CREATED:20260406T194503Z
LAST-MODIFIED:20260406T194503Z
UID:10036168-1776335400-1776339000@metroatlantaexchange.org
SUMMARY:Goodwill of North Georgia: Typing Thursdays
DESCRIPTION:Goodwill of North Georgia is hosting Typing Thursdays every Thursday\, from 10:30 AM to 11:30 AM\, at the Rome Career Center. \nFor more information\, call 706-292-3304. \nClick here to learn more and register.
URL:https://metroatlantaexchange.org/event/goodwill-of-north-georgia-typing-thursdays/2026-04-16/
LOCATION:Goodwill of North Georgia – Rome Career Center\, 154 Hicks Drive\, Rome\, 30161
CATEGORIES:Career Development,In-Person Event,Job Seeker
END:VEVENT
BEGIN:VEVENT
DTSTART;TZID=America/New_York:20260416T110000
DTEND;TZID=America/New_York:20260416T150000
DTSTAMP:20260422T211121
CREATED:20260406T160852Z
LAST-MODIFIED:20260406T160852Z
UID:10036086-1776337200-1776351600@metroatlantaexchange.org
SUMMARY:JobFairX: Atlanta Diversity Virtual Job Fair
DESCRIPTION:JobFairX is hosting an Atlanta Diversity Virtual Job Fair on Thursday\, April 16th\, from 11:00 AM to 3:00 PM. \nAt JobFairX\, job seekers are matched with employers who have registered for the virtual job fair. When you sign up and create a profile\, you provide information about your qualifications\, skills\, and preferences. JobFairX’s advanced matching algorithm analyzes this data to identify suitable job opportunities. If your qualifications align with a job\, you’ll receive an email invitation to schedule an interview with the employer during the fair. JobFairX’s streamlined process saves you time on your job search. \nClick here to register.
URL:https://metroatlantaexchange.org/event/jobfairx-atlanta-diversity-virtual-job-fair-8/
LOCATION:GA
CATEGORIES:Job Seeker,Virtual Event
END:VEVENT
BEGIN:VEVENT
DTSTART;TZID=America/New_York:20260416T113000
DTEND;TZID=America/New_York:20260416T130000
DTSTAMP:20260422T211121
CREATED:20260406T161114Z
LAST-MODIFIED:20260406T161114Z
UID:10036087-1776339000-1776344400@metroatlantaexchange.org
SUMMARY:Emory Healthcare: MLS/MLT Blood Bank Specialists Virtual Hiring Event
DESCRIPTION:Emory Healthcare is hosting an MLS/MLT Blood Bank Specialists Virtual Hiring Event on Thursday\, April 16th\, from 11:30 AM to 1:00 PM. \nIf you’re passionate about making a real difference in the world of health care\, join forward-thinking and knowledgeable laboratory teams at Emory Healthcare. There are immediate opportunities system-wide for dedicated professionals like you to contribute your expertise and passion in our collaborative environments. \nIn addition to a competitive salary\, Emory offers a wide range of benefit programs to help you get the most out of life. Emory recognizes that a healthy and supported workforce is essential for success; that’s why you will be empowered to thrive both personally and professionally. If you’re ready to take the next step in your career and be part of a community dedicated to excellence in patient care and research\, Emory Healthcare is the place for you. \nClick here to learn more and register.
URL:https://metroatlantaexchange.org/event/emory-healthcare-mls-mlt-blood-bank-specialists-virtual-hiring-event/
LOCATION:GA
CATEGORIES:Job Seeker,Virtual Event
END:VEVENT
BEGIN:VEVENT
DTSTART;TZID=America/New_York:20260416T140000
DTEND;TZID=America/New_York:20260416T150000
DTSTAMP:20260422T211121
CREATED:20260408T202422Z
LAST-MODIFIED:20260408T202422Z
UID:10036196-1776348000-1776351600@metroatlantaexchange.org
SUMMARY:Hiring Our Heroes: Evaluating and Negotiating a Job Offer
DESCRIPTION:Hiring Our Heroes is hosting a webinar on Evaluating and Negotiating a Job Offer on Thursday\, April 16th\, starting at 2:00 PM. \nLearn how to evaluate and negotiate job offers to secure the best possible outcome. This workshop will cover salary discussions\, benefits\, and strategies to effectively communicate your value. Then join small group discussions led by Hiring Our Heroes partner employers. \nClick here to register via Zoom.
URL:https://metroatlantaexchange.org/event/hiring-our-heroes-evaluating-and-negotiating-a-job-offer/
LOCATION:GA
CATEGORIES:Career Development,Job Seeker,Veterans/Military,Virtual Event
END:VEVENT
BEGIN:VEVENT
DTSTART;TZID=America/New_York:20260416T140000
DTEND;TZID=America/New_York:20260416T160000
DTSTAMP:20260422T211121
CREATED:20260406T152219Z
LAST-MODIFIED:20260406T152219Z
UID:10036065-1776348000-1776355200@metroatlantaexchange.org
SUMMARY:Goodwill of North Georgia: Spherion Hiring Event
DESCRIPTION:Goodwill of North Georgia is hosting a Spherion Hiring Event every Thursday\, from 2:00 PM to 4:00 PM\, at the Cornelia Career Center. \nFor more information\, call 706-894-4905. \nClick here to learn more and register.
URL:https://metroatlantaexchange.org/event/goodwill-of-north-georgia-spherion-hiring-event-8/2026-04-16/
LOCATION:Goodwill of North Georgia – Cornelia Career Center\, 308 Habersham Hills Circle\, Cornelia\, GA\, 30531\, United States
CATEGORIES:In-Person Event,Job Seeker
END:VEVENT
BEGIN:VEVENT
DTSTART;TZID=America/New_York:20260416T150000
DTEND;TZID=America/New_York:20260416T180000
DTSTAMP:20260422T211121
CREATED:20260406T161449Z
LAST-MODIFIED:20260406T161449Z
UID:10036088-1776351600-1776362400@metroatlantaexchange.org
SUMMARY:Henry County Schools: Bus Driver Job Fair
DESCRIPTION:Henry County Schools is hosting a Bus Driver Job Fair on Thursday\, April 16th\, from 3:00 PM to 6:00 PM\, at Henry County Schools Transportation Services. \nHenry County Schools is looking for professionals who are ready to drive for a county that cares. No CDL is required and perks include paid training\, competitive pay\, full benefits\, retirement plans\, paid sick time and more. \nClick here to learn more and register. Click here for a flyer.
URL:https://metroatlantaexchange.org/event/henry-county-schools-bus-driver-job-fair/
LOCATION:Henry County Schools Transportation Services\, 135 Nail Drive\, McDonough\, GA\, 30253\, United States
CATEGORIES:In-Person Event,Job Seeker
END:VEVENT
BEGIN:VEVENT
DTSTART;TZID=America/New_York:20260416T150000
DTEND;TZID=America/New_York:20260416T190000
DTSTAMP:20260422T211121
CREATED:20260406T155753Z
LAST-MODIFIED:20260406T155753Z
UID:10036081-1776351600-1776366000@metroatlantaexchange.org
SUMMARY:Wellstar: RN Float Team Virtual Hiring Event
DESCRIPTION:Wellstar is hosting an RN Float Team Virtual Hiring Event on Thursday\, April 16th\, from 9:00 AM to 1:00 PM and 3:00 PM to 7:00 PM. \nWellstar Health System’s Regional Float Team is expanding into the Richmond and Columbia County area of Georgia\, creating new opportunities for experienced RNs with enhanced pay rates. Interview with hiring leaders for permanent positions that offer competitive pay\, benefits\, and paid time off. \nClick here to learn more and register.
URL:https://metroatlantaexchange.org/event/wellstar-rn-float-team-virtual-hiring-event/2026-04-16/2/
LOCATION:GA
CATEGORIES:Job Seeker,Virtual Event
END:VEVENT
BEGIN:VEVENT
DTSTART;TZID=America/New_York:20260416T160000
DTEND;TZID=America/New_York:20260416T170000
DTSTAMP:20260422T211121
CREATED:20260408T202559Z
LAST-MODIFIED:20260408T202559Z
UID:10036197-1776355200-1776358800@metroatlantaexchange.org
SUMMARY:Fulton County Library System: Computer Basics for Beginners
DESCRIPTION:The Fulton County Library System is hosting a Computer Basics for Beginners class on Thursday\, April 16th\, from 4:00 PM to 5:00 PM\, at the Central Library. \nLearn how to use computers at Central Library’s Computer Basics Classes. Participants in this class must be new computer users or have minimal computer skills. No registration or experience is required. \nClick here to learn more.
URL:https://metroatlantaexchange.org/event/fulton-county-library-system-computer-basics-for-beginners/
LOCATION:Central Library\, 1 Margaret Mitchell Square\, Atlanta\, GA\, 30303\, United States
CATEGORIES:Career Development,In-Person Event,Job Seeker
END:VEVENT
BEGIN:VEVENT
DTSTART;TZID=America/New_York:20260416T173000
DTEND;TZID=America/New_York:20260416T193000
DTSTAMP:20260422T211121
CREATED:20260408T202746Z
LAST-MODIFIED:20260408T202746Z
UID:10036198-1776360600-1776367800@metroatlantaexchange.org
SUMMARY:Women in Technology (WIT): WIT Early-Career April Social
DESCRIPTION:Women in Technology (WIT) is hosting a WIT Early-Career April Social on Thursday\, April 16th\, from 5:30 PM to 7:30 PM\, at Adapture. \nThe WIT Early Career Social is an opportunity for women in the early years of their tech careers to connect\, build community\, and expand their professional networks in a relaxed\, welcoming environment. Food and beverages will be provided for all attendees. Guests aged 21+ will receive two complimentary drink tickets. \nClick here to learn more and register.
URL:https://metroatlantaexchange.org/event/women-in-technology-wit-wit-early-career-april-social/
LOCATION:Adapture\, 211 Perimeter Center Parkway\, NE\, Suite #140\, Atlanta\, GA\, 30346\, United States
CATEGORIES:Career Development,In-Person Event,Job Seeker
END:VEVENT
BEGIN:VEVENT
DTSTART;TZID=America/New_York:20260416T180000
DTEND;TZID=America/New_York:20260416T210000
DTSTAMP:20260422T211121
CREATED:20260408T202908Z
LAST-MODIFIED:20260408T202908Z
UID:10036199-1776362400-1776373200@metroatlantaexchange.org
SUMMARY:JLS Document Solutions: The JLS Exchange
DESCRIPTION:JLS Document Solutions is hosting The JLS Exchange on Thursday\, April 16th\, from 6:00 PM to 9:00 PM\, at the Russell Innovation Center for Entrepreneurs. \nThis curated social offers a space to connect with industry peers\, logistics specialists\, and future clients over premium wine and light hors d’oeuvres. Throughout the night\, guests can look forward to an exciting raffle and exclusive Brand Boxes reserved for VIP attendees. It’s a rare opportunity to step outside the office and cultivate the relationships that keep the legal community moving forward. \nClick here to learn more and register.
URL:https://metroatlantaexchange.org/event/jls-document-solutions-the-jls-exchange/
LOCATION:Russell Innovation Center for Entrepreneurs\, 504 Fair Street\, Atlanta\, GA\, 30313\, United States
CATEGORIES:Career Development,In-Person Event,Job Seeker
END:VEVENT
END:VCALENDAR