BEGIN:VCALENDAR
VERSION:2.0
PRODID:-//MAX - ECPv6.15.17.1//NONSGML v1.0//EN
CALSCALE:GREGORIAN
METHOD:PUBLISH
X-ORIGINAL-URL:https://metroatlantaexchange.org
X-WR-CALDESC:Events for MAX
REFRESH-INTERVAL;VALUE=DURATION:PT1H
X-Robots-Tag:noindex
X-PUBLISHED-TTL:PT1H
BEGIN:VTIMEZONE
TZID:America/New_York
BEGIN:DAYLIGHT
TZOFFSETFROM:-0500
TZOFFSETTO:-0400
TZNAME:EDT
DTSTART:20250309T070000
END:DAYLIGHT
BEGIN:STANDARD
TZOFFSETFROM:-0400
TZOFFSETTO:-0500
TZNAME:EST
DTSTART:20251102T060000
END:STANDARD
BEGIN:DAYLIGHT
TZOFFSETFROM:-0500
TZOFFSETTO:-0400
TZNAME:EDT
DTSTART:20260308T070000
END:DAYLIGHT
BEGIN:STANDARD
TZOFFSETFROM:-0400
TZOFFSETTO:-0500
TZNAME:EST
DTSTART:20261101T060000
END:STANDARD
BEGIN:DAYLIGHT
TZOFFSETFROM:-0500
TZOFFSETTO:-0400
TZNAME:EDT
DTSTART:20270314T070000
END:DAYLIGHT
BEGIN:STANDARD
TZOFFSETFROM:-0400
TZOFFSETTO:-0500
TZNAME:EST
DTSTART:20271107T060000
END:STANDARD
END:VTIMEZONE
BEGIN:VEVENT
DTSTART;TZID=America/New_York:20260105T140000
DTEND;TZID=America/New_York:20260105T150000
DTSTAMP:20260424T203718
CREATED:20251203T140920Z
LAST-MODIFIED:20251203T140920Z
UID:10035712-1767621600-1767625200@metroatlantaexchange.org
SUMMARY:RecruitMilitary: Hiring Event Prep Webinar
DESCRIPTION:RecruitMilitary is hosting a Hiring Event Prep Webinar on Monday\, January 5th\, from 2:00 PM to 3:00 PM. \nGain invaluable insights\, tips\, and techniques to excel at hiring events. Discover proven strategies for effective employer engagement\, master the art of networking\, and learn how to leverage RecruitMilitary as your ultimate tool to connect with military-friendly employers eager to HIRE YOU! \nClick here to learn more and register.
URL:https://metroatlantaexchange.org/event/recruitmilitary-hiring-event-prep-webinar-2/
CATEGORIES:Career Development,Job Seeker,Veterans/Military,Virtual Event
END:VEVENT
BEGIN:VEVENT
DTSTART;TZID=America/New_York:20260107T150000
DTEND;TZID=America/New_York:20260107T160000
DTSTAMP:20260424T203718
CREATED:20251203T141013Z
LAST-MODIFIED:20251203T141013Z
UID:10035713-1767798000-1767801600@metroatlantaexchange.org
SUMMARY:RecruitMilitary: LinkedIn Master Class
DESCRIPTION:RecruitMilitary is hosting the LinkedIn Master Class on Wednesday\, January 7th\, from 3:00 PM to 4:00 PM. \nUnlock LinkedIn for career success! Learn how to build a standout profile\, showcase your military skills for civilian careers\, grow your professional brand\, and connect with employers who value your experience. Gain insider tips on networking\, job searches\, and group engagement to confidently navigate your next career move. \nClick here to learn more and register.
URL:https://metroatlantaexchange.org/event/recruitmilitary-linkedin-master-class/
CATEGORIES:Career Development,Job Seeker,Veterans/Military,Virtual Event
END:VEVENT
BEGIN:VEVENT
DTSTART;TZID=America/New_York:20260108T100000
DTEND;TZID=America/New_York:20260108T110000
DTSTAMP:20260424T203718
CREATED:20251203T141111Z
LAST-MODIFIED:20251203T141111Z
UID:10035714-1767866400-1767870000@metroatlantaexchange.org
SUMMARY:RecruitMilitary: Civilian Resume Webinar
DESCRIPTION:RecruitMilitary is hosting a Civilian Resume Webinar on Thursday\, January 8th\, from 10:00 AM to 11:00 AM. \nJoin this live and interactive Civilian Resume webinars where you’ll have the opportunity to connect with a subject-matter expert. Receive personalized advice on refining or creating your resume\, alongside valuable insights\, and best practices to elevate your resume’s visibility to prospective employers! \nClick here to learn more and register.
URL:https://metroatlantaexchange.org/event/recruitmilitary-civilian-resume-webinar-2/
CATEGORIES:Career Development,Job Seeker,Veterans/Military,Virtual Event
END:VEVENT
BEGIN:VEVENT
DTSTART;TZID=America/New_York:20260113T090000
DTEND;TZID=America/New_York:20260113T130000
DTSTAMP:20260424T203718
CREATED:20251203T141241Z
LAST-MODIFIED:20251203T141241Z
UID:10035715-1768294800-1768309200@metroatlantaexchange.org
SUMMARY:Hiring Our Heroes: Virtual Amplify - Career Readiness and Hiring Event Preparation
DESCRIPTION:Hiring Our Heroes is hosting a Virtual Amplify: Career Readiness and Hiring Event Preparation on Tuesday\, January 13th\, from 9:00 AM to 1:00 PM. \nEngage in workshops and interactive sessions designed to support your career goals! Topics include professional branding\, resume support\, interview techniques\, and networking. Amplify attendees will leave the event feeling prepared and confident for the afternoon Virtual Hiring Fair the next day. \nClick here to learn more and register via Zoom.
URL:https://metroatlantaexchange.org/event/hiring-our-heroes-virtual-amplify-career-readiness-and-hiring-event-preparation-4/
CATEGORIES:Career Development,Job Seeker,Veterans/Military,Virtual Event
END:VEVENT
BEGIN:VEVENT
DTSTART;TZID=America/New_York:20260113T190000
DTEND;TZID=America/New_York:20260113T193000
DTSTAMP:20260424T203718
CREATED:20251220T221742Z
LAST-MODIFIED:20251220T221742Z
UID:10035790-1768330800-1768332600@metroatlantaexchange.org
SUMMARY:Hiring Our Heroes: SkillBridge Fellowships Information Session
DESCRIPTION:Hiring Our Heroes is hosting a SkillBridge Fellowships Information Session on Tuesday\, January 13th\, from 7:00 PM to 7:30 PM. \nTransitioning service members are invited to learn more about SkillBridge fellowships\, which offer professional training and hands-on experience in the civilian workforce. These programs are designed to help you transition smoothly into a meaningful civilian career. \nClick here to learn more and register.
URL:https://metroatlantaexchange.org/event/hiring-our-heroes-skillbridge-fellowships-information-session-4/
CATEGORIES:Career Development,Job Seeker,Veterans/Military,Virtual Event
END:VEVENT
BEGIN:VEVENT
DTSTART;TZID=America/New_York:20260114T110000
DTEND;TZID=America/New_York:20260114T150000
DTSTAMP:20260424T203718
CREATED:20251202T135942Z
LAST-MODIFIED:20251202T135942Z
UID:10035614-1768388400-1768402800@metroatlantaexchange.org
SUMMARY:CareerEco: Virtual Career Fair for Veterans and Military Spouses
DESCRIPTION:CareerEco is hosting a Virtual Career Fair for Veterans and Military Spouses on Wednesday\, January 14th\, from 11:00 AM to 3:00 PM. \nThis free nationwide event will connect transitioning U.S. Military Service members\, Veterans\, and military spouses with employers live. \nClick here to learn more and register.
URL:https://metroatlantaexchange.org/event/careereco-virtual-career-fair-for-veterans-and-military-spouses/
CATEGORIES:Job Seeker,Veterans/Military,Virtual Event
ORGANIZER;CN="CareerEco":MAILTO:Events@CareerEco.com
END:VEVENT
BEGIN:VEVENT
DTSTART;TZID=America/New_York:20260114T120000
DTEND;TZID=America/New_York:20260114T160000
DTSTAMP:20260424T203718
CREATED:20251202T140329Z
LAST-MODIFIED:20251202T140329Z
UID:10035616-1768392000-1768406400@metroatlantaexchange.org
SUMMARY:Hiring Our Heroes: Virtual Hiring Fair - Operations and Management
DESCRIPTION:Hiring Our Heroes is hosting a Virtual Hiring Fair: Operations and Management on Wednesday\, January 14th\, from 12:00 PM to 4:00 PM. \nJoin Hiring Our Heroes and representatives from organizations hiring for a variety of roles for a virtual hiring fair. This event is open to transitioning service members\, veterans\, military spouses\, and military caregivers. This online chat will connect you directly with organizations from the comfort of your home\, office\, smartphone or tablet. \nClick here to learn more and register.
URL:https://metroatlantaexchange.org/event/hiring-our-heroes-virtual-hiring-fair-operations-and-management/
CATEGORIES:Job Seeker,Veterans/Military,Virtual Event
END:VEVENT
BEGIN:VEVENT
DTSTART;TZID=America/New_York:20260121T130000
DTEND;TZID=America/New_York:20260121T140000
DTSTAMP:20260424T203718
CREATED:20260120T011922Z
LAST-MODIFIED:20260120T011922Z
UID:10035882-1769000400-1769004000@metroatlantaexchange.org
SUMMARY:Hiring Our Heroes: Breaking into Tech with Visa
DESCRIPTION:Hiring Our Heroes is hosting Breaking into Tech with Visa on Wednesday\, January 21st\, starting at 1:00 PM. \nJoin the Hiring Our Heroes Next Step Vets Program to learn about key considerations for entering technology career fields. Hear from Visa’s Military Talent Program about their Technical Apprenticeship opportunities. Bring your questions for live Q&A! \nClick here to learn more and register.
URL:https://metroatlantaexchange.org/event/hiring-our-heroes-breaking-into-tech-with-visa/
CATEGORIES:Career Development,Job Seeker,Veterans/Military,Virtual Event
END:VEVENT
BEGIN:VEVENT
DTSTART;TZID=America/New_York:20260121T180000
DTEND;TZID=America/New_York:20260121T190000
DTSTAMP:20260424T203718
CREATED:20251203T141449Z
LAST-MODIFIED:20251203T141449Z
UID:10035717-1769018400-1769022000@metroatlantaexchange.org
SUMMARY:Manufacturing Institute: Heroes Connect - SEMI
DESCRIPTION:The Manufacturing Institute is hosting a Heroes Connect: SEMI on Wednesday\, January 21st\, from 3:00 PM to 4:00 PM. \nTake a behind-the-scenes look at life and careers in the semiconductor industry. In this interactive session\, you’ll meet company leaders\, explore their veteran-friendly culture\, and learn about open roles where you can make an impact. \nClick here to register via Zoom.
URL:https://metroatlantaexchange.org/event/manufacturing-institute-heroes-connect-semi/
CATEGORIES:Career Development,Job Seeker,Veterans/Military,Virtual Event
END:VEVENT
BEGIN:VEVENT
DTSTART;TZID=America/New_York:20260121T180000
DTEND;TZID=America/New_York:20260121T190000
DTSTAMP:20260424T203718
CREATED:20251203T141727Z
LAST-MODIFIED:20251203T141727Z
UID:10035718-1769018400-1769022000@metroatlantaexchange.org
SUMMARY:U.S. Army Civilian Human Resources Agency: Discover Your Future with Global Veterinary Medical Practice
DESCRIPTION:The U.S. Army Civilian Human Resources Agency is hosting a Discover Your Future with Global Veterinary Medical Practice webinar on Wednesday\, January 21st\, from 6:00 PM to 7:00 PM. \nIf you are passionate about veterinary medicine\, enjoy being committed to your patients\, but still want to enjoy your free time with a predictable and flexible schedule; a position in the Department of Defense\, Global Veterinary Medical Practice may be just what you are looking for! Join this virtual information session to learn more about available roles\, hear from top leaders and learn how to apply. Connect with HR Professionals and hiring managers to answer questions regarding the Veterinary Medical Officer role. \nClick here to learn more and register.
URL:https://metroatlantaexchange.org/event/u-s-army-civilian-human-resources-agency-discover-your-future-with-global-veterinary-medical-practice/
CATEGORIES:Career Development,Job Seeker,Veterans/Military,Virtual Event
END:VEVENT
BEGIN:VEVENT
DTSTART;TZID=America/New_York:20260122T100000
DTEND;TZID=America/New_York:20260122T113000
DTSTAMP:20260424T203718
CREATED:20260120T013832Z
LAST-MODIFIED:20260120T013832Z
UID:10035888-1769076000-1769081400@metroatlantaexchange.org
SUMMARY:RecruitMilitary: Advanced Employment Workshop
DESCRIPTION:RecruitMilitary is hosting an Advanced Employment Workshop on Thursday\, January 22nd\, from 10:00 AM to 11:30 AM. \nEmpower your job search journey with the Advanced Employment Workshop\, where you will be equipped with essential skills to excel and leave a lasting impression on your future employer! Topics include Skills Development\, Interview Techniques\, Salary Negotiations\, and Dress for Success. \nClick here to learn more and register.
URL:https://metroatlantaexchange.org/event/recruitmilitary-advanced-employment-workshop/
CATEGORIES:Career Development,Job Seeker,Veterans/Military,Virtual Event
END:VEVENT
BEGIN:VEVENT
DTSTART;TZID=America/New_York:20260122T110000
DTEND;TZID=America/New_York:20260122T140000
DTSTAMP:20260424T203718
CREATED:20251220T212941Z
LAST-MODIFIED:20251220T212941Z
UID:10035774-1769079600-1769090400@metroatlantaexchange.org
SUMMARY:Corporate Gray: Virtual Military-Friendly Job Fair
DESCRIPTION:Corporate Gray is hosting a Virtual Military-Friendly Job Fair on Thursday\, January 22nd\, from 11:00 AM to 2:00 PM. \nCorporate Gray Virtual Military-Friendly Job Fairs offer jobseekers unprecedented access to representatives of the companies you want to join from the comfort of your home\, office\, or even your favorite coffee shop. This event is open to all jobseekers. \nClick here to learn more and register.
URL:https://metroatlantaexchange.org/event/corporate-gray-virtual-military-friendly-job-fair/
CATEGORIES:Job Seeker,Veterans/Military,Virtual Event
END:VEVENT
BEGIN:VEVENT
DTSTART;TZID=America/New_York:20260122T120000
DTEND;TZID=America/New_York:20260122T160000
DTSTAMP:20260424T203718
CREATED:20260119T174348Z
LAST-MODIFIED:20260119T174348Z
UID:10035809-1769083200-1769097600@metroatlantaexchange.org
SUMMARY:G.I. Jobs: Military Friendly Virtual Job Fair
DESCRIPTION:G.I. Jobs is hosting a Military Friendly Virtual Job Fair on Thursday\, January 22nd\, from 12:00 PM to 4:00 PM. \nExplore hot jobs while you chat with recruiters during this free event. Apply for positions while you talk with company representatives who know the value veterans bring to their organization and connect with them one-on-one. \nClick here to learn more and register.
URL:https://metroatlantaexchange.org/event/g-i-jobs-military-friendly-virtual-job-fair/
CATEGORIES:Job Seeker,Veterans/Military,Virtual Event
END:VEVENT
BEGIN:VEVENT
DTSTART;TZID=America/New_York:20260122T140000
DTEND;TZID=America/New_York:20260122T150000
DTSTAMP:20260424T203718
CREATED:20260120T012153Z
LAST-MODIFIED:20260120T012153Z
UID:10035883-1769090400-1769094000@metroatlantaexchange.org
SUMMARY:Hiring Our Heroes: Find Your Fit in the Civilian Workforce
DESCRIPTION:Hiring Our Heroes is hosting Find Your Fit in the Civilian Workforce on Thursday\, January 22nd\, starting at 2:00 PM. \nExplore how your military experience can translate into a variety of civilian career paths. This virtual session focuses on career exploration\, understanding job market demand\, and identifying realistic career field targets. With a clear focus\, you’ll be able to communicate your value to employers in a way that helps them understand the unique strengths you bring to their organization. \nClick here to learn more and register.
URL:https://metroatlantaexchange.org/event/hiring-our-heroes-find-your-fit-in-the-civilian-workforce/
CATEGORIES:Career Development,Job Seeker,Veterans/Military,Virtual Event
END:VEVENT
BEGIN:VEVENT
DTSTART;TZID=America/New_York:20260126T140000
DTEND;TZID=America/New_York:20260126T160000
DTSTAMP:20260424T203718
CREATED:20251220T223427Z
LAST-MODIFIED:20251220T223427Z
UID:10035795-1769436000-1769443200@metroatlantaexchange.org
SUMMARY:RecruitMilitary: Ten Steps to a Federal Job
DESCRIPTION:RecruitMilitary is hosting a webinar on Ten Steps to a Federal Job on Monday\, January 26th\, from 2:00 PM to 4:00 PM. \nJoin this live webinar for expert guidance on federal hiring and resume strategies. Gain actionable tips\, personalized feedback\, and connect with a specialist who will help you tailor your resume for government job opportunities. \nClick here to learn more and register.
URL:https://metroatlantaexchange.org/event/recruitmilitary-ten-steps-to-a-federal-job/
CATEGORIES:Career Development,Job Seeker,Veterans/Military,Virtual Event
END:VEVENT
BEGIN:VEVENT
DTSTART;TZID=America/New_York:20260127T120000
DTEND;TZID=America/New_York:20260127T130000
DTSTAMP:20260424T203718
CREATED:20260120T014931Z
LAST-MODIFIED:20260120T014931Z
UID:10035893-1769515200-1769518800@metroatlantaexchange.org
SUMMARY:Hiring Our Heroes: Virtual Amplify Essentials
DESCRIPTION:Hiring Our Heroes is hosting Virtual Amplify Essentials on Tuesday\, January 27th\, starting at 12:00 PM. \nEngage in workshops and interactive sessions designed to support your career goals! Topics include professional branding\, resume support\, interview techniques\, and networking. Amplify attendees will leave the event feeling prepared and confident for the afternoon hiring fair the next day. \nClick here to learn more and register.
URL:https://metroatlantaexchange.org/event/hiring-our-heroes-virtual-amplify-essentials/
CATEGORIES:Career Development,Job Seeker,Veterans/Military,Virtual Event
END:VEVENT
BEGIN:VEVENT
DTSTART;TZID=America/New_York:20260127T190000
DTEND;TZID=America/New_York:20260127T200000
DTSTAMP:20260424T203718
CREATED:20260120T015450Z
LAST-MODIFIED:20260120T015450Z
UID:10035896-1769540400-1769544000@metroatlantaexchange.org
SUMMARY:Hiring Our Heroes: SkillBridge Fellowships Information Session
DESCRIPTION:Hiring Our Heroes is hosting a SkillBridge Fellowships Information Session on Tuesday\, January 27th\, starting at 7:00 PM. \nTransitioning service members are invited to learn more about SkillBridge fellowships\, which offer professional training and hands-on experience in the civilian workforce. These programs are designed to help you transition smoothly into a meaningful civilian career. \nClick here to learn more and register.
URL:https://metroatlantaexchange.org/event/hiring-our-heroes-skillbridge-fellowships-information-session-5/
CATEGORIES:Career Development,Job Seeker,Veterans/Military,Virtual Event
END:VEVENT
BEGIN:VEVENT
DTSTART;TZID=America/New_York:20260128T120000
DTEND;TZID=America/New_York:20260128T160000
DTSTAMP:20260424T203718
CREATED:20251220T213154Z
LAST-MODIFIED:20251220T213154Z
UID:10035776-1769601600-1769616000@metroatlantaexchange.org
SUMMARY:Hiring Our Heroes: Virtual Hiring Fair - Healthcare
DESCRIPTION:Hiring Our Heroes is hosting a Virtual Hiring Fair: Healthcare on Wednesday\, January 28th\, from 12:00 PM to 4:00 PM. \nRegister now for this virtual hiring event focused on employment opportunities in healthcare!Employers are looking for talent from the military community and hiring for hundreds of open positions. This event is open to transitioning service members\, veterans\, military spouses\, and military caregivers. \nClick here to learn more and register.
URL:https://metroatlantaexchange.org/event/hiring-our-heroes-virtual-hiring-fair-healthcare-4/
CATEGORIES:Job Seeker,Veterans/Military,Virtual Event
END:VEVENT
BEGIN:VEVENT
DTSTART;TZID=America/New_York:20260128T200000
DTEND;TZID=America/New_York:20260128T210000
DTSTAMP:20260424T203718
CREATED:20260120T022513Z
LAST-MODIFIED:20260120T022513Z
UID:10035898-1769630400-1769634000@metroatlantaexchange.org
SUMMARY:RecruitMilitary: LinkedIn Master Class
DESCRIPTION:RecruitMilitary is hosting a LinkedIn Master Class on Wednesday\, January 28th\, from 8:00 PM to 9:00 PM. \nUnlock LinkedIn for career success! Learn how to build a standout profile\, showcase your military skills for civilian careers\, grow your professional brand\, and connect with employers who value your experience. Gain insider tips on networking\, job searches\, and group engagement to confidently navigate your next career move. \nClick here to learn more and register.
URL:https://metroatlantaexchange.org/event/recruitmilitary-linkedin-master-class-2/
CATEGORIES:Career Development,Job Seeker,Veterans/Military,Virtual Event
END:VEVENT
END:VCALENDAR