BEGIN:VCALENDAR
VERSION:2.0
PRODID:-//MAX - ECPv6.15.17.1//NONSGML v1.0//EN
CALSCALE:GREGORIAN
METHOD:PUBLISH
X-ORIGINAL-URL:https://metroatlantaexchange.org
X-WR-CALDESC:Events for MAX
REFRESH-INTERVAL;VALUE=DURATION:PT1H
X-Robots-Tag:noindex
X-PUBLISHED-TTL:PT1H
BEGIN:VTIMEZONE
TZID:America/New_York
BEGIN:DAYLIGHT
TZOFFSETFROM:-0500
TZOFFSETTO:-0400
TZNAME:EDT
DTSTART:20250309T070000
END:DAYLIGHT
BEGIN:STANDARD
TZOFFSETFROM:-0400
TZOFFSETTO:-0500
TZNAME:EST
DTSTART:20251102T060000
END:STANDARD
BEGIN:DAYLIGHT
TZOFFSETFROM:-0500
TZOFFSETTO:-0400
TZNAME:EDT
DTSTART:20260308T070000
END:DAYLIGHT
BEGIN:STANDARD
TZOFFSETFROM:-0400
TZOFFSETTO:-0500
TZNAME:EST
DTSTART:20261101T060000
END:STANDARD
BEGIN:DAYLIGHT
TZOFFSETFROM:-0500
TZOFFSETTO:-0400
TZNAME:EDT
DTSTART:20270314T070000
END:DAYLIGHT
BEGIN:STANDARD
TZOFFSETFROM:-0400
TZOFFSETTO:-0500
TZNAME:EST
DTSTART:20271107T060000
END:STANDARD
END:VTIMEZONE
BEGIN:VEVENT
DTSTART;TZID=America/New_York:20260505T140000
DTEND;TZID=America/New_York:20260505T150000
DTSTAMP:20260424T170538
CREATED:20260408T215311Z
LAST-MODIFIED:20260408T215311Z
UID:10036246-1777989600-1777993200@metroatlantaexchange.org
SUMMARY:Georgia Center for Nonprofits: Get Centered
DESCRIPTION:The Georgia Center for Nonprofits is hosting a Get Centered webinar on Tuesday\, May 5th\, from 2:00 PM to 3:00 PM. \nGet Centered is a virtual offering from GCN designed to help professionals strengthen the well–being skills that support success at work. These sessions combine practical strategies with opportunities for peer connection\, giving you tools you can immediately apply in your professional life. Exclusively for GCN members\, each Get Centered session will explore different aspects of well-being\, offering fresh ideas and practices that can be adapted to your unique context. By participating\, you’ll gain actionable techniques\, learn from the experiences of others\, and join a supportive community committed to integrating well-being into everyday professional practice. \nClick here to learn more and register.
URL:https://metroatlantaexchange.org/event/georgia-center-for-nonprofits-get-centered/
CATEGORIES:Virtual Event,Workforce Developer
END:VEVENT
BEGIN:VEVENT
DTSTART;TZID=America/New_York:20260507T090000
DTEND;TZID=America/New_York:20260507T123000
DTSTAMP:20260424T170538
CREATED:20260408T215510Z
LAST-MODIFIED:20260408T215510Z
UID:10036247-1778144400-1778157000@metroatlantaexchange.org
SUMMARY:Georgia Center for Nonprofits: Legal Compliance and Policy Development
DESCRIPTION:The Georgia Center for Nonprofits is hosting Legal Compliance and Policy Development on Thursday\, May 7th\, from 9:00 AM to 12:30 PM. \nNonprofit managers must be prepared to protect the business\, employees\, volunteers\, and themselves from legal liability. This course will outline the major federal employment-related laws and regulations (for example\, Title VII\, ADA\, ADEA\, USERRA\, EEOC Uniform Guidelines on Employee Selection Procedures\, Immigration Reform and Control Act\, Internal Revenue Code). It will provide nonprofit managers with the tools necessary to identify compliance “red flags” and the knowledge to know when to take action to rectify a situation\, and when to seek legal advice. \nClick here to learn more and register.
URL:https://metroatlantaexchange.org/event/georgia-center-for-nonprofits-legal-compliance-and-policy-development/
CATEGORIES:Virtual Event,Workforce Developer
END:VEVENT
BEGIN:VEVENT
DTSTART;TZID=America/New_York:20260513T130000
DTEND;TZID=America/New_York:20260513T163000
DTSTAMP:20260424T170538
CREATED:20260408T215632Z
LAST-MODIFIED:20260408T215632Z
UID:10036248-1778677200-1778689800@metroatlantaexchange.org
SUMMARY:Georgia Center for Nonprofits: Building a Culture of Storytelling
DESCRIPTION:The Georgia Center for Nonprofits is hosting Building a Culture of Storytelling on Wednesday\, May 13th\, from 1:00 PM to 4:30 PM. \nThis course will help participants develop systems\, tools\, and strategies to engage the full community – staff\, volunteers\, clients\, donors\, and board members – in the process of storytelling\, so that everyone is equipped and excited to collaborate in collecting and sharing the stories of your nonprofit. \nClick here to learn more and register.
URL:https://metroatlantaexchange.org/event/georgia-center-for-nonprofits-building-a-culture-of-storytelling/
CATEGORIES:Virtual Event,Workforce Developer
END:VEVENT
END:VCALENDAR