BEGIN:VCALENDAR
VERSION:2.0
PRODID:-//MAX - ECPv6.15.17.1//NONSGML v1.0//EN
CALSCALE:GREGORIAN
METHOD:PUBLISH
X-WR-CALNAME:MAX
X-ORIGINAL-URL:https://metroatlantaexchange.org
X-WR-CALDESC:Events for MAX
REFRESH-INTERVAL;VALUE=DURATION:PT1H
X-Robots-Tag:noindex
X-PUBLISHED-TTL:PT1H
BEGIN:VTIMEZONE
TZID:America/New_York
BEGIN:DAYLIGHT
TZOFFSETFROM:-0500
TZOFFSETTO:-0400
TZNAME:EDT
DTSTART:20250309T070000
END:DAYLIGHT
BEGIN:STANDARD
TZOFFSETFROM:-0400
TZOFFSETTO:-0500
TZNAME:EST
DTSTART:20251102T060000
END:STANDARD
BEGIN:DAYLIGHT
TZOFFSETFROM:-0500
TZOFFSETTO:-0400
TZNAME:EDT
DTSTART:20260308T070000
END:DAYLIGHT
BEGIN:STANDARD
TZOFFSETFROM:-0400
TZOFFSETTO:-0500
TZNAME:EST
DTSTART:20261101T060000
END:STANDARD
BEGIN:DAYLIGHT
TZOFFSETFROM:-0500
TZOFFSETTO:-0400
TZNAME:EDT
DTSTART:20270314T070000
END:DAYLIGHT
BEGIN:STANDARD
TZOFFSETFROM:-0400
TZOFFSETTO:-0500
TZNAME:EST
DTSTART:20271107T060000
END:STANDARD
END:VTIMEZONE
BEGIN:VEVENT
DTSTART;TZID=America/New_York:20260126T140000
DTEND;TZID=America/New_York:20260126T160000
DTSTAMP:20260424T221333
CREATED:20251220T223427Z
LAST-MODIFIED:20251220T223427Z
UID:10035795-1769436000-1769443200@metroatlantaexchange.org
SUMMARY:RecruitMilitary: Ten Steps to a Federal Job
DESCRIPTION:RecruitMilitary is hosting a webinar on Ten Steps to a Federal Job on Monday\, January 26th\, from 2:00 PM to 4:00 PM. \nJoin this live webinar for expert guidance on federal hiring and resume strategies. Gain actionable tips\, personalized feedback\, and connect with a specialist who will help you tailor your resume for government job opportunities. \nClick here to learn more and register.
URL:https://metroatlantaexchange.org/event/recruitmilitary-ten-steps-to-a-federal-job/
CATEGORIES:Career Development,Job Seeker,Veterans/Military,Virtual Event
END:VEVENT
BEGIN:VEVENT
DTSTART;TZID=America/New_York:20260126T173000
DTEND;TZID=America/New_York:20260126T183000
DTSTAMP:20260424T221333
CREATED:20260120T014528Z
LAST-MODIFIED:20260120T014528Z
UID:10035891-1769448600-1769452200@metroatlantaexchange.org
SUMMARY:African American Women Trucking Association (AAWTA): Step Behind the Wheel: CDL-A Career Open House
DESCRIPTION:The African American Women Trucking Association (AAWTA) is hosting Step Behind the Wheel: CDL-A Career Open House on Monday\, January 26th\, from 5:30 PM to 6:30 PM. \nReady to kickstart your trucking career? Join this online open house and get a sneak peek at what it’s like to be behind the wheel with a CDL-A license. In just 45 minutes\, you’ll get to hear the basics\, get your questions answered\, and get a chance to explore exciting opportunities in the industry. Whether you’re curious or committed\, this is your chance to learn and connect from the comfort of home. \nClick here to learn more and register.
URL:https://metroatlantaexchange.org/event/african-american-women-trucking-association-aawta-step-behind-the-wheel-cdl-a-career-open-house-2/
CATEGORIES:Career Development,Job Seeker,Virtual Event
END:VEVENT
END:VCALENDAR