BEGIN:VCALENDAR
VERSION:2.0
PRODID:-//MAX - ECPv6.15.17.1//NONSGML v1.0//EN
CALSCALE:GREGORIAN
METHOD:PUBLISH
X-WR-CALNAME:MAX
X-ORIGINAL-URL:https://metroatlantaexchange.org
X-WR-CALDESC:Events for MAX
REFRESH-INTERVAL;VALUE=DURATION:PT1H
X-Robots-Tag:noindex
X-PUBLISHED-TTL:PT1H
BEGIN:VTIMEZONE
TZID:America/New_York
BEGIN:DAYLIGHT
TZOFFSETFROM:-0500
TZOFFSETTO:-0400
TZNAME:EDT
DTSTART:20250309T070000
END:DAYLIGHT
BEGIN:STANDARD
TZOFFSETFROM:-0400
TZOFFSETTO:-0500
TZNAME:EST
DTSTART:20251102T060000
END:STANDARD
BEGIN:DAYLIGHT
TZOFFSETFROM:-0500
TZOFFSETTO:-0400
TZNAME:EDT
DTSTART:20260308T070000
END:DAYLIGHT
BEGIN:STANDARD
TZOFFSETFROM:-0400
TZOFFSETTO:-0500
TZNAME:EST
DTSTART:20261101T060000
END:STANDARD
BEGIN:DAYLIGHT
TZOFFSETFROM:-0500
TZOFFSETTO:-0400
TZNAME:EDT
DTSTART:20270314T070000
END:DAYLIGHT
BEGIN:STANDARD
TZOFFSETFROM:-0400
TZOFFSETTO:-0500
TZNAME:EST
DTSTART:20271107T060000
END:STANDARD
END:VTIMEZONE
BEGIN:VEVENT
DTSTART;TZID=America/New_York:20260127T120000
DTEND;TZID=America/New_York:20260129T130000
DTSTAMP:20260424T221341
CREATED:20251220T223625Z
LAST-MODIFIED:20251220T223625Z
UID:10035796-1769515200-1769691600@metroatlantaexchange.org
SUMMARY:Urban League of Greater Atlanta: CarePRO Workshop
DESCRIPTION:The Urban League of Greater Atlanta is hosting a CarePRO Workshop starting Tuesday\, January 27th through Thursday\, January 29th\, from 12:00 PM to 1:00 PM each day. \nAre you interested in a healthcare career? CarePRO is a free 3-session career readiness workshop to help you build skills and explore career pathways for entry-level healthcare careers like CNA\, Phlebotomy\, Patient Care Tech\, and Behavioral Health Technician. During the workshop\, you will learn foundational skills\, connect with current healthcare workers\, and receive information about local certification training programs.  We also assist you with resume building\, interview preparation\, workplace communication\, and digital skills.  The workshop is a 1-hour commitment for 3 days. Once you complete the workshop\, you will receive a Certificate of Completion\, and ULGA will refer you to a healthcare certification program in your desired career path. Click here to learn more and register. \nClick here for a flyer.
URL:https://metroatlantaexchange.org/event/urban-league-of-greater-atlanta-carepro-workshop/
CATEGORIES:Career Development,Job Seeker,Virtual Event
END:VEVENT
BEGIN:VEVENT
DTSTART;TZID=America/New_York:20260128T090000
DTEND;TZID=America/New_York:20260128T160000
DTSTAMP:20260424T221341
CREATED:20251203T200750Z
LAST-MODIFIED:20251203T200750Z
UID:10035755-1769590800-1769616000@metroatlantaexchange.org
SUMMARY:Aspen Institute: 2026 Aspen Forum on Children and Families
DESCRIPTION:The Aspen Institute is hosting the 2026 Aspen Forum on Children and Families on Wednesday\, January 28th\, from 9:00 AM to 4:00 PM. \nFamilies are the foundation of our nation and the key to its future. And that future will be so much brighter when we ensure all families are flourishing. At Ascend\, we are not looking back. We are activating our network of 1000+ strong in a national call to move Forward With Families. Across the Ascend Community\, changemakers are demonstrating what’s possible. They are expanding access to quality\, affordable childcare\, ensuring stable income and housing\, and building systems that open doors instead of closing them. This year’s theme\, Forward With Families\, is also the name of Ascend’s bold new strategy to scale these solutions and more to make life affordable\, opportunity accessible\, and security attainable for every family in America. At a time when so much focus is on what’s broken\, Ascend strives to create places of hope and action. The Aspen Forum on Children and Families offers a rare opportunity to reframe and begin the new year with renewed energy\, clarity\, and connection. \nClick here to learn more and register.
URL:https://metroatlantaexchange.org/event/aspen-institute-2026-aspen-forum-on-children-and-families/
CATEGORIES:Virtual Event,Workforce Developer
END:VEVENT
BEGIN:VEVENT
DTSTART;TZID=America/New_York:20260128T110000
DTEND;TZID=America/New_York:20260128T150000
DTSTAMP:20260424T221341
CREATED:20251220T213054Z
LAST-MODIFIED:20251220T213054Z
UID:10035775-1769598000-1769612400@metroatlantaexchange.org
SUMMARY:CareerEco: Neurodiversity Virtual Career Fair
DESCRIPTION:CareerEco is hosting a Neurodiversity Virtual Career Fair on Wednesday\, January 28th\, from 11:00 AM to 3:00 PM. \nJoin CareerEco for a unique virtual career fair designed to connect individuals across the talent spectrum with forward-thinking employers who value inclusivity.  Whether you’re just starting your career journey or looking for your next great opportunity\, this fair is a place to be seen\, heard\, and valued for who you are. This event is dedicated to creating a space where individuals with autism\, ADHD\, dyslexia\, Tourette’s\, and other neurodivergent identities can explore job opportunities\, network with inclusive companies\, and discover career resources tailored to support their strengths. \nClick here to register.
URL:https://metroatlantaexchange.org/event/careereco-neurodiversity-virtual-career-fair-2/
CATEGORIES:Job Seeker,Virtual Event
ORGANIZER;CN="CareerEco":MAILTO:Events@CareerEco.com
END:VEVENT
BEGIN:VEVENT
DTSTART;TZID=America/New_York:20260128T110000
DTEND;TZID=America/New_York:20260128T150000
DTSTAMP:20260424T221341
CREATED:20260119T182637Z
LAST-MODIFIED:20260119T182637Z
UID:10035824-1769598000-1769612400@metroatlantaexchange.org
SUMMARY:JobFairX: Atlanta Healthcare Virtual Job Fair
DESCRIPTION:JobFairX is hosting an Atlanta Healthcare Virtual Job Fair on Wednesday\, January 28th\, from 11:00 AM to 3:00 PM. \nAt JobFairX\, job seekers are matched with employers who have registered for the virtual job fair. When you sign up and create a profile\, you provide information about your qualifications\, skills\, and preferences. JobFairX’s advanced matching algorithm analyzes this data to identify suitable job opportunities. If your qualifications align with a job\, you’ll receive an email invitation to schedule an interview with the employer during the fair. JobFairX’s streamlined process saves you time on your job search. \nClick here to register.
URL:https://metroatlantaexchange.org/event/jobfairx-atlanta-healthcare-virtual-job-fair-5/
CATEGORIES:Job Seeker,Virtual Event
END:VEVENT
BEGIN:VEVENT
DTSTART;TZID=America/New_York:20260128T120000
DTEND;TZID=America/New_York:20260128T160000
DTSTAMP:20260424T221341
CREATED:20251220T213154Z
LAST-MODIFIED:20251220T213154Z
UID:10035776-1769601600-1769616000@metroatlantaexchange.org
SUMMARY:Hiring Our Heroes: Virtual Hiring Fair - Healthcare
DESCRIPTION:Hiring Our Heroes is hosting a Virtual Hiring Fair: Healthcare on Wednesday\, January 28th\, from 12:00 PM to 4:00 PM. \nRegister now for this virtual hiring event focused on employment opportunities in healthcare!Employers are looking for talent from the military community and hiring for hundreds of open positions. This event is open to transitioning service members\, veterans\, military spouses\, and military caregivers. \nClick here to learn more and register.
URL:https://metroatlantaexchange.org/event/hiring-our-heroes-virtual-hiring-fair-healthcare-4/
CATEGORIES:Job Seeker,Veterans/Military,Virtual Event
END:VEVENT
BEGIN:VEVENT
DTSTART;TZID=America/New_York:20260128T200000
DTEND;TZID=America/New_York:20260128T210000
DTSTAMP:20260424T221341
CREATED:20260120T022513Z
LAST-MODIFIED:20260120T022513Z
UID:10035898-1769630400-1769634000@metroatlantaexchange.org
SUMMARY:RecruitMilitary: LinkedIn Master Class
DESCRIPTION:RecruitMilitary is hosting a LinkedIn Master Class on Wednesday\, January 28th\, from 8:00 PM to 9:00 PM. \nUnlock LinkedIn for career success! Learn how to build a standout profile\, showcase your military skills for civilian careers\, grow your professional brand\, and connect with employers who value your experience. Gain insider tips on networking\, job searches\, and group engagement to confidently navigate your next career move. \nClick here to learn more and register.
URL:https://metroatlantaexchange.org/event/recruitmilitary-linkedin-master-class-2/
CATEGORIES:Career Development,Job Seeker,Veterans/Military,Virtual Event
END:VEVENT
END:VCALENDAR